Workbook

Sheet RL.NH_TCCN
A1: UBND THÀNH PHỐ HỒ CHÍ MINH | K1: CỘNG HÒA XÃ HỘI CHỦ NGHĨA VIỆT NAM
A2: TRƯỜNG CAO ĐẲNG LÝ TỰ TRỌNG | K2: Độc lập - Tự do - Hạnh phúc
A3: THÀNH PHỐ HỒ CHÍ MINH
A5: THỐNG KÊ KẾT QUẢ RÈN LUYỆN NĂM HỌC 2018-2019
A6: Bậc đào tạo: Trung cấp
A8: S TT | B8: LỚP | C8: SĨ SỐ | G8: KẾT QUẢ RÈN LUYỆN | Q8: GHI CHÚ
C9: TỔNG | D9: NỮ | E9: A | F9: B | G9: Xuất sắc | I9: Tốt | K9: Khá | M9: Trung Bình | O9: Yếu
G10: SL | H10: % | I10: SL | J10: % | K10: SL | L10: % | M10: SL | N10: % | O10: SL | P10: %
A11: KHÓA 2016 TCCN (9+3)
A12: 1 | B12: 16TC-Ô1 | C12: =SUM(G12,I12,K12,M12,O12) -> 29 | E12: =C12-F12 -> 20 | F12: 9 | G12: 0 | H12: =G12*100/C12 -> 0 | I12: 0 | J12: =I12*100/C12 -> 0 | K12: 5 | L12: =K12*100/C12 -> 17.241379 | M12: 23 | N12: =M12*100/C12 -> 79.310345 | O12: 1 | P12: =O12*100/C12 -> 3.4482759
A13: 2 | B13: 16TC-MTT | C13: =SUM(G13,I13,K13,M13,O13) -> 22 | D13: 21 | E13: =C13-F13 -> 17 | F13: 5 | G13: 0 | H13: =G13*100/C13 -> 0 | I13: 1 | J13: =I13*100/C13 -> 4.5454545 | K13: 2 | L13: =K13*100/C13 -> 9.0909091 | M13: 17 | N13: =M13*100/C13 -> 77.272727 | O13: 2 | P13: =O13*100/C13 -> 9.0909091
A14: 3 | B14: 16TC-QTM | C14: =SUM(G14,I14,K14,M14,O14) -> 19 | D14: 1 | E14: =C14-F14 -> 17 | F14: 2 | G14: 0 | H14: =G14*100/C14 -> 0 | I14: 0 | J14: =I14*100/C14 -> 0 | K14: 2 | L14: =K14*100/C14 -> 10.526316 | M14: 15 | N14: =M14*100/C14 -> 78.947368 | O14: 2 | P14: =O14*100/C14 -> 10.526316 | Q14: Trần Thị Diễm Thúy
A15: TỔNG: 2016 | C15: =SUM(C12:C14) -> 70 | D15: =SUM(D12:D14) -> 22 | E15: =SUM(E12:E14) -> 54 | F15: =SUM(F12:F14) -> 16 | G15: =SUM(G12:G14) -> 0 | H15: =G15*100/C15 -> 0 | I15: =SUM(I12:I14) -> 1 | J15: =I15*100/C15 -> 1.4285714 | K15: =SUM(K12:K14) -> 9 | L15: =K15*100/C15 -> 12.857143 | M15: =SUM(M12:M14) -> 55 | N15: =M15*100/C15 -> 78.571429 | O15: =SUM(O12:O14) -> 5 | P15: =O15*100/C15 -> 7.1428571
A16: KHÓA 2016 TCN (9+4)
A17: 1 | B17: 16TCN-Đ | C17: =SUM(G17,I17,K17,M17,O17) -> 30 | E17: =C17-F17 -> 19 | F17: 11 | G17: 0 | H17: =G17*100/C17 -> 0 | I17: 0 | J17: =I17*100/C17 -> 0 | K17: 1 | L17: =K17*100/C17 -> 3.3333333 | M17: 25 | N17: =M17*100/C17 -> 83.333333 | O17: 4 | P17: =O17*100/C17 -> 13.333333 | Q17: Lê Minh Phong
A18: 2 | B18: 16TCN-ĐT | C18: =SUM(G18,I18,K18,M18,O18) -> 25 | E18: =C18-F18 -> 21 | F18: 4 | G18: 0 | H18: =G18*100/C18 -> 0 | I18: 0 | J18: =I18*100/C18 -> 0 | K18: 1 | L18: =K18*100/C18 -> 4 | M18: 22 | N18: =M18*100/C18 -> 88 | O18: 2 | P18: =O18*100/C18 -> 8
A19: 3 | B19: 16TCN-LĐL1 | C19: =SUM(G19,I19,K19,M19,O19) -> 32 | E19: =C19-F19 -> 27 | F19: 5 | G19: 0 | H19: =G19*100/C19 -> 0 | I19: 0 | J19: =I19*100/C19 -> 0 | K19: 1 | L19: =K19*100/C19 -> 3.125 | M19: 31 | N19: =M19*100/C19 -> 96.875 | O19: 0 | P19: =O19*100/C19 -> 0
A20: 4 | B20: 16TCN-CKL | C20: =SUM(G20,I20,K20,M20,O20) -> 29 | E20: =C20-F20 -> 20 | F20: 9 | G20: 0 | H20: =G20*100/C20 -> 0 | I20: 1 | J20: =I20*100/C20 -> 3.4482759 | K20: 5 | L20: =K20*100/C20 -> 17.241379 | M20: 23 | N20: =M20*100/C20 -> 79.310345 | O20: 0 | P20: =O20*100/C20 -> 0
A21: 5 | B21: 16TCN-Ô1 | C21: =SUM(G21,I21,K21,M21,O21) -> 47 | E21: =C21-F21 -> 34 | F21: 13 | G21: 1 | H21: =G21*100/C21 -> 2.1276596 | I21: 0 | J21: =I21*100/C21 -> 0 | K21: 3 | L21: =K21*100/C21 -> 6.3829787 | M21: 41 | N21: =M21*100/C21 -> 87.234043 | O21: 2 | P21: =O21*100/C21 -> 4.2553191
A22: 6 | B22: 16TCN-QTM1 | C22: =SUM(G22,I22,K22,M22,O22) -> 41 | D22: 2 | E22: =C22-F22 -> 36 | F22: 5 | G22: 0 | H22: =G22*100/C22 -> 0 | I22: 0 | J22: =I22*100/C22 -> 0 | K22: 2 | L22: =K22*100/C22 -> 4.8780488 | M22: 38 | N22: =M22*100/C22 -> 92.682927 | O22: 1 | P22: =O22*100/C22 -> 2.4390244
A23: 7 | B23: 16TCN-KTD | C23: =SUM(G23,I23,K23,M23,O23) -> 15 | D23: 15 | E23: =C23-F23 -> 13 | F23: 2 | G23: 0 | H23: =G23*100/C23 -> 0 | I23: 1 | J23: =I23*100/C23 -> 6.6666667 | K23: 2 | L23: =K23*100/C23 -> 13.333333 | M23: 12 | N23: =M23*100/C23 -> 80 | O23: 0 | P23: =O23*100/C23 -> 0
A24: 8 | B24: 16TCN-QTD | C24: =SUM(G24,I24,K24,M24,O24) -> 26 | D24: 21 | E24: =C24-F24 -> 18 | F24: 8 | G24: 1 | H24: =G24*100/C24 -> 3.8461538 | I24: 1 | J24: =I24*100/C24 -> 3.8461538 | K24: 5 | L24: =K24*100/C24 -> 19.230769 | M24: 18 | N24: =M24*100/C24 -> 69.230769 | O24: 1 | P24: =O24*100/C24 -> 3.8461538
A25: TỔNG: 2016 | C25: =SUM(C17:C24) -> 245 | D25: =SUM(D17:D24) -> 38 | E25: =SUM(E17:E24) -> 188 | F25: =SUM(F17:F24) -> 57 | G25: =SUM(G17:G24) -> 2 | H25: =G25*100/C25 -> 0.81632653 | I25: =SUM(I17:I24) -> 3 | J25: =I25*100/C25 -> 1.2244898 | K25: =SUM(K17:K24) -> 20 | L25: =K25*100/C25 -> 8.1632653 | M25: =SUM(M17:M24) -> 210 | N25: =M25*100/C25 -> 85.714286 | O25: =SUM(O17:O24) -> 10 | P25: =O25*100/C25 -> 4.0816327
A26: KHÓA 2017 Trung cấp (3N)
A27: 1 | B27: 17T4-ĐCN1 | C27: =SUM(G27,I27,K27,M27,O27) -> 25 | E27: =C27-F27 -> 22 | F27: 3 | G27: 0 | H27: =G27*100/C27 -> 0 | I27: 0 | J27: =I27*100/C27 -> 0 | K27: 1 | L27: =K27*100/C27 -> 4 | M27: 20 | N27: =M27*100/C27 -> 80 | O27: 4 | P27: =O27*100/C27 -> 16 | Q27: Cao Thị Nga
A28: 2 | B28: 17T4-ĐCN2 | C28: =SUM(G28,I28,K28,M28,O28) -> 21 | E28: =C28-F28 -> 15 | F28: 6 | G28: 0 | H28: =G28*100/C28 -> 0 | I28: 0 | J28: =I28*100/C28 -> 0 | K28: 3 | L28: =K28*100/C28 -> 14.285714 | M28: 17 | N28: =M28*100/C28 -> 80.952381 | O28: 1 | P28: =O28*100/C28 -> 4.7619048
A29: 3 | B29: 17T4-ĐĐT1 | C29: =SUM(G29,I29,K29,M29,O29) -> 35 | E29: =C29-F29 -> 31 | F29: 4 | G29: 0 | H29: =G29*100/C29 -> 0 | I29: 0 | J29: =I29*100/C29 -> 0 | K29: 2 | L29: =K29*100/C29 -> 5.7142857 | M29: 26 | N29: =M29*100/C29 -> 74.285714 | O29: 7 | P29: =O29*100/C29 -> 20 | Q29: Ngô Hoàng Anh
A30: 4 | B30: 17T4-ĐTC1 | C30: =SUM(G30,I30,K30,M30,O30) -> 15 | D30: 1 | E30: =C30-F30 -> 13 | F30: 2 | G30: 0 | H30: =G30*100/C30 -> 0 | I30: 0 | J30: =I30*100/C30 -> 0 | K30: 0 | L30: =K30*100/C30 -> 0 | M30: 11 | N30: =M30*100/C30 -> 73.333333 | O30: 4 | P30: =O30*100/C30 -> 26.666667 | Q30: Tăng Cẩm Huê
A31: 5 | B31: 17T4-LĐL1 | C31: =SUM(G31,I31,K31,M31,O31) -> 23 | E31: =C31-F31 -> 23 | F31: 0 | G31: 0 | H31: =G31*100/C31 -> 0 | I31: 0 | J31: =I31*100/C31 -> 0 | K31: 0 | L31: =K31*100/C31 -> 0 | M31: 20 | N31: =M31*100/C31 -> 86.956522 | O31: 3 | P31: =O31*100/C31 -> 13.043478 | Q31: Đặng Thế Huân
A32: 6 | B32: 17T4-LĐL2 | C32: =SUM(G32,I32,K32,M32,O32) -> 26 | E32: =C32-F32 -> 25 | F32: 1 | G32: 0 | H32: =G32*100/C32 -> 0 | I32: 0 | J32: =I32*100/C32 -> 0 | K32: 0 | L32: =K32*100/C32 -> 0 | M32: 24 | N32: =M32*100/C32 -> 92.307692 | O32: 2 | P32: =O32*100/C32 -> 7.6923077
A33: 7 | B33: 17T4-CNL1 | C33: =SUM(G33,I33,K33,M33,O33) -> 36 | E33: =C33-F33 -> 28 | F33: 8 | G33: 0 | H33: =G33*100/C33 -> 0 | I33: 0 | J33: =I33*100/C33 -> 0 | K33: 4 | L33: =K33*100/C33 -> 11.111111 | M33: 28 | N33: =M33*100/C33 -> 77.777778 | O33: 4 | P33: =O33*100/C33 -> 11.111111 | Q33: Trần Đình Khoa
A34: 8 | B34: 17T4-CKL1 | C34: =SUM(G34,I34,K34,M34,O34) -> 14 | E34: =C34-F34 -> 12 | F34: 2 | G34: 0 | H34: =G34*100/C34 -> 0 | I34: 0 | J34: =I34*100/C34 -> 0 | K34: 0 | L34: =K34*100/C34 -> 0 | M34: 11 | N34: =M34*100/C34 -> 78.571429 | O34: 3 | P34: =O34*100/C34 -> 21.428571 | Q34: Nguyễn Văn Đông
A35: 9 | B35: 17T4-CCK1 | C35: =SUM(G35,I35,K35,M35,O35) -> 28 | E35: =C35-F35 -> 22 | F35: 6 | G35: 0 | H35: =G35*100/C35 -> 0 | I35: 0 | J35: =I35*100/C35 -> 0 | K35: 0 | L35: =K35*100/C35 -> 0 | M35: 23 | N35: =M35*100/C35 -> 82.142857 | O35: 5 | P35: =O35*100/C35 -> 17.857143
A36: 10 | B36: 17T4-CCK2 | C36: =SUM(G36,I36,K36,M36,O36) -> 30 | E36: =C36-F36 -> 22 | F36: 8 | G36: 0 | H36: =G36*100/C36 -> 0 | I36: 0 | J36: =I36*100/C36 -> 0 | K36: 3 | L36: =K36*100/C36 -> 10 | M36: 27 | N36: =M36*100/C36 -> 90 | O36: 0 | P36: =O36*100/C36 -> 0
A37: 11 | B37: 17T4-CNÔ1 | C37: =SUM(G37,I37,K37,M37,O37) -> 30 | E37: =C37-F37 -> 23 | F37: 7 | G37: 0 | H37: =G37*100/C37 -> 0 | I37: 0 | J37: =I37*100/C37 -> 0 | K37: 0 | L37: =K37*100/C37 -> 0 | M37: 19 | N37: =M37*100/C37 -> 63.333333 | O37: 11 | P37: =O37*100/C37 -> 36.666667 | Q37: Phan Anh Tuấn Kiệt
A38: 12 | B38: 17T4-CNÔ2 | C38: =SUM(G38,I38,K38,M38,O38) -> 36 | E38: =C38-F38 -> 28 | F38: 8 | G38: 0 | H38: =G38*100/C38 -> 0 | I38: 0 | J38: =I38*100/C38 -> 0 | K38: 1 | L38: =K38*100/C38 -> 2.7777778 | M38: 29 | N38: =M38*100/C38 -> 80.555556 | O38: 6 | P38: =O38*100/C38 -> 16.666667 | Q38: Nguyễn Ngọc Quỳnh
A39: 13 | B39: 17T4-CNÔ3 | C39: =SUM(G39,I39,K39,M39,O39) -> 38 | E39: =C39-F39 -> 32 | F39: 6 | G39: 0 | H39: =G39*100/C39 -> 0 | I39: 0 | J39: =I39*100/C39 -> 0 | K39: 1 | L39: =K39*100/C39 -> 2.6315789 | M39: 36 | N39: =M39*100/C39 -> 94.736842 | O39: 1 | P39: =O39*100/C39 -> 2.6315789
A40: 14 | B40: 17T4-CNÔ4 | C40: =SUM(G40,I40,K40,M40,O40) -> 24 | E40: =C40-F40 -> 19 | F40: 5 | G40: 0 | H40: =G40*100/C40 -> 0 | I40: 0 | J40: =I40*100/C40 -> 0 | K40: 1 | L40: =K40*100/C40 -> 4.1666667 | M40: 15 | N40: =M40*100/C40 -> 62.5 | O40: 8 | P40: =O40*100/C40 -> 33.333333 | Q40: Dương Đức Kiên
A41: 15 | B41: 17T4-CNM1 | C41: =SUM(G41,I41,K41,M41,O41) -> 33 | D41: 28 | E41: =C41-F41 -> 23 | F41: 10 | G41: 0 | H41: =G41*100/C41 -> 0 | I41: 0 | J41: =I41*100/C41 -> 0 | K41: 3 | L41: =K41*100/C41 -> 9.0909091 | M41: 24 | N41: =M41*100/C41 -> 72.727273 | O41: 6 | P41: =O41*100/C41 -> 18.181818 | Q41: Nguyễn Thị Dinh
A42: 16 | B42: 17T4-CMT1 | C42: =SUM(G42,I42,K42,M42,O42) -> 20 | E42: =C42-F42 -> 18 | F42: 2 | G42: 0 | H42: =G42*100/C42 -> 0 | I42: 0 | J42: =I42*100/C42 -> 0 | K42: 1 | L42: =K42*100/C42 -> 5 | M42: 16 | N42: =M42*100/C42 -> 80 | O42: 3 | P42: =O42*100/C42 -> 15 | Q42: Lê Thị Hà Giang
...

Sheet RL.NH_CĐ
A1: UBND THÀNH PHỐ HỒ CHÍ MINH | K1: CỘNG HÒA XÃ HỘI CHỦ NGHĨA VIỆT NAM
A2: TRƯỜNG CAO ĐẲNG LÝ TỰ TRỌNG | K2: Độc lập - Tự do - Hạnh phúc
A3: THÀNH PHỐ HỒ CHÍ MINH
A5: THỐNG KÊ KẾT QUẢ RÈN LUYỆN NĂM HỌC 2018-2019
A6: Bậc đào tạo: Cao đẳng
A8: S TT | B8: LỚP | C8: SĨ SỐ | G8: KẾT QUẢ RÈN LUYỆN | Q8: GHI CHÚ
C9: TỔNG | D9: NỮ | E9: A | F9: B | G9: Xuất sắc | I9: Tốt | K9: Khá | M9: Trung Bình | O9: Yếu
G10: SL | H10: % | I10: SL | J10: % | K10: SL | L10: % | M10: SL | N10: % | O10: SL | P10: %
B11: KHÓA 2016 Cao đẳng
A12: 1 | B12: 16CĐ-ĐCN1 | C12: =SUM(G12,I12,K12,M12,O12) -> 46 | E12: =C12-F12 -> 6 | F12: 40 | G12: 1 | H12: =G12*100/C12 -> 2.173913 | I12: 0 | J12: =I12*100/C12 -> 0 | K12: 0 | L12: =K12*100/C12 -> 0 | M12: 44 | N12: =M12*100/C12 -> 95.652174 | O12: 1 | P12: =O12*100/C12 -> 2.173913
A13: 2 | B13: 16CĐ-ĐCN2 | C13: =SUM(G13,I13,K13,M13,O13) -> 41 | D13: 1 | E13: =C13-F13 -> 9 | F13: 32 | G13: 0 | H13: =G13*100/C13 -> 0 | I13: 0 | J13: =I13*100/C13 -> 0 | K13: 2 | L13: =K13*100/C13 -> 4.8780488 | M13: 37 | N13: =M13*100/C13 -> 90.243902 | O13: 2 | P13: =O13*100/C13 -> 4.8780488
A14: 3 | B14: 16CĐ-ĐCN3 | C14: =SUM(G14,I14,K14,M14,O14) -> 35 | E14: =C14-F14 -> 5 | F14: 30 | G14: 0 | H14: =G14*100/C14 -> 0 | I14: 0 | J14: =I14*100/C14 -> 0 | K14: 0 | L14: =K14*100/C14 -> 0 | M14: 35 | N14: =M14*100/C14 -> 100 | O14: 0 | P14: =O14*100/C14 -> 0
A15: 4 | B15: 16CĐ-ĐCN4 | C15: =SUM(G15,I15,K15,M15,O15) -> 40 | E15: =C15-F15 -> 10 | F15: 30 | G15: 0 | H15: =G15*100/C15 -> 0 | I15: 0 | J15: =I15*100/C15 -> 0 | K15: 3 | L15: =K15*100/C15 -> 7.5 | M15: 36 | N15: =M15*100/C15 -> 90 | O15: 1 | P15: =O15*100/C15 -> 2.5
A16: 5 | B16: 16CĐ-ĐCN5 | C16: =SUM(G16,I16,K16,M16,O16) -> 48 | E16: =C16-F16 -> 9 | F16: 39 | G16: 0 | H16: =G16*100/C16 -> 0 | I16: 2 | J16: =I16*100/C16 -> 4.1666667 | K16: 3 | L16: =K16*100/C16 -> 6.25 | M16: 42 | N16: =M16*100/C16 -> 87.5 | O16: 1 | P16: =O16*100/C16 -> 2.0833333
A17: 6 | B17: 16CĐ-ĐTCN1 | C17: =SUM(G17,I17,K17,M17,O17) -> 43 | E17: =C17-F17 -> 12 | F17: 31 | G17: 0 | H17: =G17*100/C17 -> 0 | I17: 0 | J17: =I17*100/C17 -> 0 | K17: 4 | L17: =K17*100/C17 -> 9.3023256 | M17: 37 | N17: =M17*100/C17 -> 86.046512 | O17: 2 | P17: =O17*100/C17 -> 4.6511628
A18: 7 | B18: 16CĐ-TĐH1 | C18: =SUM(G18,I18,K18,M18,O18) -> 37 | D18: 1 | E18: =C18-F18 -> 11 | F18: 26 | G18: 2 | H18: =G18*100/C18 -> 5.4054054 | I18: 1 | J18: =I18*100/C18 -> 2.7027027 | K18: 3 | L18: =K18*100/C18 -> 8.1081081 | M18: 31 | N18: =M18*100/C18 -> 83.783784 | O18: 0 | P18: =O18*100/C18 -> 0
A19: 8 | B19: 16CĐ-ĐL1 | C19: =SUM(G19,I19,K19,M19,O19) -> 43 | E19: =C19-F19 -> 13 | F19: 30 | G19: 0 | H19: =G19*100/C19 -> 0 | I19: 1 | J19: =I19*100/C19 -> 2.3255814 | K19: 2 | L19: =K19*100/C19 -> 4.6511628 | M19: 39 | N19: =M19*100/C19 -> 90.697674 | O19: 1 | P19: =O19*100/C19 -> 2.3255814
A20: 9 | B20: 16CĐ-ĐL2 | C20: =SUM(G20,I20,K20,M20,O20) -> 40 | E20: =C20-F20 -> 12 | F20: 28 | G20: 0 | H20: =G20*100/C20 -> 0 | I20: 0 | J20: =I20*100/C20 -> 0 | K20: 0 | L20: =K20*100/C20 -> 0 | M20: 38 | N20: =M20*100/C20 -> 95 | O20: 2 | P20: =O20*100/C20 -> 5
A21: 10 | B21: 16CĐ-ĐL3 | C21: =SUM(G21,I21,K21,M21,O21) -> 35 | E21: =C21-F21 -> 11 | F21: 24 | G21: 0 | H21: =G21*100/C21 -> 0 | I21: 0 | J21: =I21*100/C21 -> 0 | K21: 0 | L21: =K21*100/C21 -> 0 | M21: 30 | N21: =M21*100/C21 -> 85.714286 | O21: 5 | P21: =O21*100/C21 -> 14.285714 | Q21: Hoàng Văn Viết
A22: 11 | B22: 16CĐ-CĐ1 | C22: =SUM(G22,I22,K22,M22,O22) -> 14 | E22: =C22-F22 -> 3 | F22: 11 | G22: 0 | H22: =G22*100/C22 -> 0 | I22: 0 | J22: =I22*100/C22 -> 0 | K22: 3 | L22: =K22*100/C22 -> 21.428571 | M22: 10 | N22: =M22*100/C22 -> 71.428571 | O22: 1 | P22: =O22*100/C22 -> 7.1428571
A23: 12 | B23: 16CĐ-CĐT1 | C23: =SUM(G23,I23,K23,M23,O23) -> 11 | E23: =C23-F23 -> 2 | F23: 9 | G23: 0 | H23: =G23*100/C23 -> 0 | I23: 0 | J23: =I23*100/C23 -> 0 | K23: 2 | L23: =K23*100/C23 -> 18.181818 | M23: 9 | N23: =M23*100/C23 -> 81.818182 | O23: 0 | P23: =O23*100/C23 -> 0
A24: 13 | B24: 16CĐ-CNC1 | C24: =SUM(G24,I24,K24,M24,O24) -> 16 | E24: =C24-F24 -> 8 | F24: 8 | G24: 0 | H24: =G24*100/C24 -> 0 | I24: 0 | J24: =I24*100/C24 -> 0 | K24: 2 | L24: =K24*100/C24 -> 12.5 | M24: 14 | N24: =M24*100/C24 -> 87.5 | O24: 0 | P24: =O24*100/C24 -> 0
A25: 14 | B25: 16CĐ-CTM1 | C25: =SUM(G25,I25,K25,M25,O25) -> 44 | E25: =C25-F25 -> 24 | F25: 20 | G25: 0 | H25: =G25*100/C25 -> 0 | I25: 0 | J25: =I25*100/C25 -> 0 | K25: 3 | L25: =K25*100/C25 -> 6.8181818 | M25: 41 | N25: =M25*100/C25 -> 93.181818 | O25: 0 | P25: =O25*100/C25 -> 0
A26: 15 | B26: 16CĐ-CTM2 | C26: =SUM(G26,I26,K26,M26,O26) -> 34 | E26: =C26-F26 -> 8 | F26: 26 | G26: 0 | H26: =G26*100/C26 -> 0 | I26: 0 | J26: =I26*100/C26 -> 0 | K26: 1 | L26: =K26*100/C26 -> 2.9411765 | M26: 33 | N26: =M26*100/C26 -> 97.058824 | O26: 0 | P26: =O26*100/C26 -> 0
A27: 16 | B27: 16CĐ-CTM3 | C27: =SUM(G27,I27,K27,M27,O27) -> 39 | E27: =C27-F27 -> 10 | F27: 29 | G27: 1 | H27: =G27*100/C27 -> 2.5641026 | I27: 4 | J27: =I27*100/C27 -> 10.25641 | K27: 7 | L27: =K27*100/C27 -> 17.948718 | M27: 26 | N27: =M27*100/C27 -> 66.666667 | O27: 1 | P27: =O27*100/C27 -> 2.5641026
A28: 17 | B28: 16CĐ-CTM4 | C28: =SUM(G28,I28,K28,M28,O28) -> 51 | E28: =C28-F28 -> 18 | F28: 33 | G28: 1 | H28: =G28*100/C28 -> 1.9607843 | I28: 1 | J28: =I28*100/C28 -> 1.9607843 | K28: 4 | L28: =K28*100/C28 -> 7.8431373 | M28: 45 | N28: =M28*100/C28 -> 88.235294 | O28: 0 | P28: =O28*100/C28 -> 0
A29: 18 | B29: 16CĐ-CTM5 | C29: =SUM(G29,I29,K29,M29,O29) -> 40 | D29: 1 | E29: =C29-F29 -> 17 | F29: 23 | G29: 0 | H29: =G29*100/C29 -> 0 | I29: 4 | J29: =I29*100/C29 -> 10 | K29: 8 | L29: =K29*100/C29 -> 20 | M29: 26 | N29: =M29*100/C29 -> 65 | O29: 2 | P29: =O29*100/C29 -> 5
A30: 19 | B30: 16CĐ-Ô1 | C30: =SUM(G30,I30,K30,M30,O30) -> 46 | E30: =C30-F30 -> 22 | F30: 24 | G30: 0 | H30: =G30*100/C30 -> 0 | I30: 0 | J30: =I30*100/C30 -> 0 | K30: 4 | L30: =K30*100/C30 -> 8.6956522 | M30: 42 | N30: =M30*100/C30 -> 91.304348 | O30: 0 | P30: =O30*100/C30 -> 0
A31: 20 | B31: 16CĐ-Ô2 | C31: =SUM(G31,I31,K31,M31,O31) -> 44 | E31: =C31-F31 -> 10 | F31: 34 | G31: 0 | H31: =G31*100/C31 -> 0 | I31: 0 | J31: =I31*100/C31 -> 0 | K31: 2 | L31: =K31*100/C31 -> 4.5454545 | M31: 40 | N31: =M31*100/C31 -> 90.909091 | O31: 2 | P31: =O31*100/C31 -> 4.5454545
A32: 21 | B32: 16CĐ-Ô3 | C32: =SUM(G32,I32,K32,M32,O32) -> 43 | D32: 1 | E32: =C32-F32 -> 13 | F32: 30 | G32: 1 | H32: =G32*100/C32 -> 2.3255814 | I32: 1 | J32: =I32*100/C32 -> 2.3255814 | K32: 10 | L32: =K32*100/C32 -> 23.255814 | M32: 31 | N32: =M32*100/C32 -> 72.093023 | O32: 0 | P32: =O32*100/C32 -> 0
A33: 22 | B33: 16CĐ-Ô4 | C33: =SUM(G33,I33,K33,M33,O33) -> 46 | E33: =C33-F33 -> 21 | F33: 25 | G33: 1 | H33: =G33*100/C33 -> 2.173913 | I33: 5 | J33: =I33*100/C33 -> 10.869565 | K33: 12 | L33: =K33*100/C33 -> 26.086957 | M33: 28 | N33: =M33*100/C33 -> 60.869565 | O33: 0 | P33: =O33*100/C33 -> 0
A34: 23 | B34: 16CĐ-Ô5 | C34: =SUM(G34,I34,K34,M34,O34) -> 43 | E34: =C34-F34 -> 9 | F34: 34 | G34: 0 | H34: =G34*100/C34 -> 0 | I34: 0 | J34: =I34*100/C34 -> 0 | K34: 2 | L34: =K34*100/C34 -> 4.6511628 | M34: 41 | N34: =M34*100/C34 -> 95.348837 | O34: 0 | P34: =O34*100/C34 -> 0
A35: 24 | B35: 16CĐ-Ô6 | C35: =SUM(G35,I35,K35,M35,O35) -> 43 | E35: =C35-F35 -> 12 | F35: 31 | G35: 0 | H35: =G35*100/C35 -> 0 | I35: 0 | J35: =I35*100/C35 -> 0 | K35: 0 | L35: =K35*100/C35 -> 0 | M35: 43 | N35: =M35*100/C35 -> 100 | O35: 0 | P35: =O35*100/C35 -> 0
A36: 25 | B36: 16CĐ-Ô7 | C36: =SUM(G36,I36,K36,M36,O36) -> 44 | E36: =C36-F36 -> 11 | F36: 33 | G36: 0 | H36: =G36*100/C36 -> 0 | I36: 0 | J36: =I36*100/C36 -> 0 | K36: 6 | L36: =K36*100/C36 -> 13.636364 | M36: 36 | N36: =M36*100/C36 -> 81.818182 | O36: 2 | P36: =O36*100/C36 -> 4.5454545
A37: 26 | B37: 16CĐ-Ô8 | C37: =SUM(G37,I37,K37,M37,O37) -> 41 | E37: =C37-F37 -> 8 | F37: 33 | G37: 0 | H37: =G37*100/C37 -> 0 | I37: 0 | J37: =I37*100/C37 -> 0 | K37: 3 | L37: =K37*100/C37 -> 7.3170732 | M37: 38 | N37: =M37*100/C37 -> 92.682927 | O37: 0 | P37: =O37*100/C37 -> 0
A38: 27 | B38: 16CĐ-Ô9 | C38: =SUM(G38,I38,K38,M38,O38) -> 39 | E38: =C38-F38 -> 9 | F38: 30 | G38: 0 | H38: =G38*100/C38 -> 0 | I38: 1 | J38: =I38*100/C38 -> 2.5641026 | K38: 1 | L38: =K38*100/C38 -> 2.5641026 | M38: 37 | N38: =M38*100/C38 -> 94.871795 | O38: 0 | P38: =O38*100/C38 -> 0
A39: 28 | B39: 16CĐ-Ô10 | C39: =SUM(G39,I39,K39,M39,O39) -> 44 | E39: =C39-F39 -> 15 | F39: 29 | G39: 0 | H39: =G39*100/C39 -> 0 | I39: 0 | J39: =I39*100/C39 -> 0 | K39: 4 | L39: =K39*100/C39 -> 9.0909091 | M39: 40 | N39: =M39*100/C39 -> 90.909091 | O39: 0 | P39: =O39*100/C39 -> 0
A40: 29 | B40: 16CĐ-MTT1 | C40: =SUM(G40,I40,K40,M40,O40) -> 39 | D40: 34 | E40: =C40-F40 -> 10 | F40: 29 | G40: 1 | H40: =G40*100/C40 -> 2.5641026 | I40: 3 | J40: =I40*100/C40 -> 7.6923077 | K40: 5 | L40: =K40*100/C40 -> 12.820513 | M40: 30 | N40: =M40*100/C40 -> 76.923077 | O40: 0 | P40: =O40*100/C40 -> 0
A41: 30 | B41: 16CĐ-MTT2 | C41: =SUM(G41,I41,K41,M41,O41) -> 45 | D41: 43 | E41: =C41-F41 -> 5 | F41: 40 | G41: 2 | H41: =G41*100/C41 -> 4.4444444 | I41: 2 | J41: =I41*100/C41 -> 4.4444444 | K41: 8 | L41: =K41*100/C41 -> 17.777778 | M41: 29 | N41: =M41*100/C41 -> 64.444444 | O41: 4 | P41: =O41*100/C41 -> 8.8888889
A42: 31 | B42: 16CĐ-TP1 | C42: =SUM(G42,I42,K42,M42,O42) -> 51 | D42: 3 | E42: =C42-F42 -> 29 | F42: 22 | G42: 0 | H42: =G42*100/C42 -> 0 | I42: 0 | J42: =I42*100/C42 -> 0 | K42: 4 | L42: =K42*100/C42 -> 7.8431373 | M42: 45 | N42: =M42*100/C42 -> 88.235294 | O42: 2 | P42: =O42*100/C42 -> 3.9215686
...

Sheet RL.NH_LTCĐ
A1: UBND THÀNH PHỐ HỒ CHÍ MINH | K1: CỘNG HÒA XÃ HỘI CHỦ NGHĨA VIỆT NAM
A2: TRƯỜNG CAO ĐẲNG LÝ TỰ TRỌNG | K2: Độc lập - Tự do - Hạnh phúc
A3: THÀNH PHỐ HỒ CHÍ MINH
A5: THỐNG KÊ KẾT QUẢ RÈN LUYỆN NĂM HỌC 2018-2019
A6: Bậc đào tạo: Trung cấp Chính quy 1 năm, 1N3, 3 năm (Liên kết đào tạo)
A8: S TT | B8: LỚP | C8: SĨ SỐ | G8: KẾT QUẢ RÈN LUYỆN | Q8: GHI CHÚ
C9: TỔNG | D9: NỮ | E9: A | F9: B | G9: Xuất sắc | I9: Tốt | K9: Khá | M9: Trung Bình | O9: Yếu
G10: SL | H10: % | I10: SL | J10: % | K10: SL | L10: % | M10: SL | N10: % | O10: SL | P10: %
A11: 1 | B11: 18T5-ĐCN1 | C11: =SUM(G11,I11,K11,M11,O11) -> 23 | D11: 1 | E11: =C11-F11 -> 22 | F11: 1 | G11: 0 | H11: =G11*100/C11 -> 0 | I11: 0 | J11: =I11*100/C11 -> 0 | K11: 16 | L11: =K11*100/C11 -> 69.565217 | M11: 5 | N11: =M11*100/C11 -> 21.73913 | O11: 2 | P11: =O11*100/C11 -> 8.6956522
A12: 2 | B12: 18T6-ĐCN1 | C12: =SUM(G12,I12,K12,M12,O12) -> 12 | D12: 1 | E12: =C12-F12 -> 12 | F12: 0 | G12: 0 | H12: =G12*100/C12 -> 0 | I12: 0 | J12: =I12*100/C12 -> 0 | K12: 7 | L12: =K12*100/C12 -> 58.333333 | M12: 5 | N12: =M12*100/C12 -> 41.666667 | O12: 0 | P12: =O12*100/C12 -> 0
A13: 3 | B13: 18T7-ĐCN1 | C13: =SUM(G13,I13,K13,M13,O13) -> 39 | D13: 2 | E13: =C13-F13 -> 38 | F13: 1 | G13: 0 | H13: =G13*100/C13 -> 0 | I13: 11 | J13: =I13*100/C13 -> 28.205128 | K13: 27 | L13: =K13*100/C13 -> 69.230769 | M13: 0 | N13: =M13*100/C13 -> 0 | O13: 1 | P13: =O13*100/C13 -> 2.5641026
A14: TỔNG: TRUNG CẤP | C14: =SUM(C11:C13) -> 74 | D14: =SUM(D11:D13) -> 4 | E14: =SUM(E11:E13) -> 72 | F14: =SUM(F11:F13) -> 2 | G14: =SUM(G11:G13) -> 0 | H14: =G14*100/C14 -> 0 | I14: =SUM(I11:I13) -> 11 | J14: =I14*100/C14 -> 14.864865 | K14: =SUM(K11:K13) -> 50 | L14: =K14*100/C14 -> 67.567568 | M14: =SUM(M11:M13) -> 10 | N14: =M14*100/C14 -> 13.513514 | O14: =SUM(O11:O13) -> 3 | P14: =O14*100/C14 -> 4.0540541
L16: Thành phố Hồ Chí Minh, ngày tháng 8 năm 2019
L17: KT. HIỆU TRƯỞNG
A18: P.TRƯỞNG PHÒNG CTCT - HSSV | L18: PHÓ HIỆU TRƯỞNG
A23: Lê Xuân Thiện | L23: Đinh Hồng Minh
A25: Từ TB trở lên | C25: =SUM(G14,I14,K14,M14) -> 71 | D25: =C25*100/C14 -> 95.945946
A26: Yếu | C26: =O14 -> 3 | D26: =C26*100/C14 -> 4.0540541
A27: UBND THÀNH PHỐ HỒ CHÍ MINH | K27: CỘNG HÒA XÃ HỘI CHỦ NGHĨA VIỆT NAM
A28: TRƯỜNG CAO ĐẲNG LÝ TỰ TRỌNG | K28: Độc lập - Tự do - Hạnh phúc
A29: THÀNH PHỐ HỒ CHÍ MINH
A31: THỐNG KÊ KẾT QUẢ RÈN LUYỆN NĂM HỌC 2018-2019
A32: Bậc đào tạo: Liên thông Cao đẳng
A34: S TT | B34: LỚP | C34: SĨ SỐ | G34: KẾT QUẢ RÈN LUYỆN | Q34: GHI CHÚ
C35: TỔNG | D35: NỮ | E35: A | F35: B | G35: Xuất sắc | I35: Tốt | K35: Khá | M35: Trung bình | O35: Yếu
G36: SL | H36: % | I36: SL | J36: % | K36: SL | L36: % | M36: SL | N36: % | O36: SL | P36: %
A37: 1 | B37: 18C2-ĐĐT1 | C37: =SUM(G37,I37,K37,M37,O37) -> 72 | E37: =C37-F37 -> 38 | F37: 34 | G37: 0 | H37: =G37*100/C37 -> 0 | I37: 0 | J37: =I37*100/C37 -> 0 | K37: 6 | L37: =K37*100/C37 -> 8.3333333 | M37: 32 | N37: =M37*100/C37 -> 44.444444 | O37: 34 | P37: =O37*100/C37 -> 47.222222 | Q37: Nguyễn Ngọc Trang
A38: 2 | B38: 18C2-CNÔ1 | C38: =SUM(G38,I38,K38,M38,O38) -> 42 | E38: =C38-F38 -> 24 | F38: 18 | G38: 0 | H38: =G38*100/C38 -> 0 | I38: 0 | J38: =I38*100/C38 -> 0 | K38: 11 | L38: =K38*100/C38 -> 26.190476 | M38: 29 | N38: =M38*100/C38 -> 69.047619 | O38: 2 | P38: =O38*100/C38 -> 4.7619048
A39: 3 | B39: 18C2-QTM1 | C39: =SUM(G39,I39,K39,M39,O39) -> 43 | D39: 2 | E39: =C39-F39 -> 34 | F39: 9 | G39: 0 | H39: =G39*100/C39 -> 0 | I39: 3 | J39: =I39*100/C39 -> 6.9767442 | K39: 13 | L39: =K39*100/C39 -> 30.232558 | M39: 16 | N39: =M39*100/C39 -> 37.209302 | O39: 11 | P39: =O39*100/C39 -> 25.581395 | Q39: Nguyễn Thị Khánh Thư
A40: 4 | B40: 18C2-KTD1 | C40: =SUM(G40,I40,K40,M40,O40) -> 13 | D40: 10 | E40: =C40-F40 -> 13 | F40: 0 | G40: 1 | H40: =G40*100/C40 -> 7.6923077 | I40: 0 | J40: =I40*100/C40 -> 0 | K40: 5 | L40: =K40*100/C40 -> 38.461538 | M40: 7 | N40: =M40*100/C40 -> 53.846154 | O40: 0 | P40: =O40*100/C40 -> 0
B41: 18C2-CNL1 | C41: =SUM(G41,I41,K41,M41,O41) -> 17 | E41: =C41-F41 -> 10 | F41: 7 | G41: 0 | H41: =G41*100/C41 -> 0 | I41: 3 | J41: =I41*100/C41 -> 17.647059 | K41: 10 | L41: =K41*100/C41 -> 58.823529 | M41: 2 | N41: =M41*100/C41 -> 11.764706 | O41: 2 | P41: =O41*100/C41 -> 11.764706 | Q41: Cao Xuân Giang
A42: 5 | B42: 18C2-CCK1 | C42: =SUM(G42,I42,K42,M42,O42) -> 16 | E42: =C42-F42 -> 9 | F42: 7 | G42: 0 | H42: =G42*100/C42 -> 0 | I42: 0 | J42: =I42*100/C42 -> 0 | K42: 3 | L42: =K42*100/C42 -> 18.75 | M42: 11 | N42: =M42*100/C42 -> 68.75 | O42: 2 | P42: =O42*100/C42 -> 12.5 | Q42: Bùi Thị Ngọc Sương
B43: 18C2-CNM1 | C43: =SUM(G43,I43,K43,M43,O43) -> 8 | D43: 6 | E43: =C43-F43 -> 5 | F43: 3 | G43: 0 | H43: =G43*100/C43 -> 0 | I43: 5 | J43: =I43*100/C43 -> 62.5 | K43: 3 | L43: =K43*100/C43 -> 37.5 | M43: 0 | N43: =M43*100/C43 -> 0 | O43: 0 | P43: =O43*100/C43 -> 0
A44: TỔNG BẬC LTCĐ | C44: =SUM(C37:C43) -> 211 | D44: =SUM(D37:D43) -> 18 | E44: =SUM(E37:E43) -> 133 | F44: =SUM(F37:F43) -> 78 | G44: =SUM(G37:G43) -> 1 | H44: =G44*100/C44 -> 0.47393365 | I44: =SUM(I37:I43) -> 11 | J44: =I44*100/C44 -> 5.2132701 | K44: =SUM(K37:K43) -> 51 | L44: =K44*100/C44 -> 24.170616 | M44: =SUM(M37:M43) -> 97 | N44: =M44*100/C44 -> 45.971564 | O44: =SUM(O37:O43) -> 51 | P44: =O44*100/C44 -> 24.170616
L46: Thành phố Hồ Chí Minh, ngày tháng 8 năm 2019
L47: KT. HIỆU TRƯỞNG
A48: P.TRƯỞNG PHÒNG CTCT - HSSV | L48: PHÓ HIỆU TRƯỞNG
A53: Lê Xuân Thiện | L53: Đinh Hồng Minh
A54: Từ TB trở lên | C54: =SUM(G44,I44,K44,M44) -> 160 | D54: =C54*100/C44 -> 75.829384
A55: Yếu | C55: =O44 -> 51 | D55: =C55*100/C44 -> 24.170616

Sheet RL.NH_NGÀNH
A1: UBND THÀNH PHỐ HỒ CHÍ MINH | K1: CỘNG HÒA XÃ HỘI CHỦ NGHĨA VIỆT NAM
A2: TRƯỜNG CAO ĐẲNG LÝ TỰ TRỌNG | K2: Độc lập - Tự do - Hạnh phúc
A3: THÀNH PHỐ HỒ CHÍ MINH
A5: THỐNG KÊ KẾT QUẢ RÈN LUYỆN NĂM HỌC 2018-2019
A6: Khoa: Điện - Điện tử
A8: S TT | B8: LỚP | C8: SĨ SỐ | G8: KẾT QUẢ RÈN LUYỆN | Q8: GHI CHÚ (Không xếp loại)
C9: TỔNG | D9: NỮ | E9: A | F9: B | G9: Xuất sắc | I9: Tốt | K9: Khá | M9: Trung Bình | O9: Yếu
G10: SL | H10: % | I10: SL | J10: % | K10: SL | L10: % | M10: SL | N10: % | O10: SL | P10: %
B11: Cao đẳng
A12: Ngành: Điện công nghiệp
A13: 1 | B13: 16CĐ-ĐCN1 | C13: =SUM(G13,I13,K13,M13,O13) -> 46 | E13: =C13-F13 -> 6 | F13: 40 | G13: 1 | H13: =G13*100/C13 -> 2.173913 | I13: 0 | J13: =I13*100/C13 -> 0 | K13: 0 | L13: =K13*100/C13 -> 0 | M13: 44 | N13: =M13*100/C13 -> 95.652174 | O13: 1 | P13: =O13*100/C13 -> 2.173913
A14: 2 | B14: 16CĐ-ĐCN2 | C14: =SUM(G14,I14,K14,M14,O14) -> 41 | D14: 1 | E14: =C14-F14 -> 9 | F14: 32 | G14: 0 | H14: =G14*100/C14 -> 0 | I14: 0 | J14: =I14*100/C14 -> 0 | K14: 2 | L14: =K14*100/C14 -> 4.8780488 | M14: 37 | N14: =M14*100/C14 -> 90.243902 | O14: 2 | P14: =O14*100/C14 -> 4.8780488
A15: 3 | B15: 16CĐ-ĐCN3 | C15: =SUM(G15,I15,K15,M15,O15) -> 35 | E15: =C15-F15 -> 5 | F15: 30 | G15: 0 | H15: =G15*100/C15 -> 0 | I15: 0 | J15: =I15*100/C15 -> 0 | K15: 0 | L15: =K15*100/C15 -> 0 | M15: 35 | N15: =M15*100/C15 -> 100 | O15: 0 | P15: =O15*100/C15 -> 0
A16: 4 | B16: 16CĐ-ĐCN4 | C16: =SUM(G16,I16,K16,M16,O16) -> 40 | E16: =C16-F16 -> 10 | F16: 30 | G16: 0 | H16: =G16*100/C16 -> 0 | I16: 0 | J16: =I16*100/C16 -> 0 | K16: 3 | L16: =K16*100/C16 -> 7.5 | M16: 36 | N16: =M16*100/C16 -> 90 | O16: 1 | P16: =O16*100/C16 -> 2.5
A17: 5 | B17: 16CĐ-ĐCN5 | C17: =SUM(G17,I17,K17,M17,O17) -> 48 | E17: =C17-F17 -> 9 | F17: 39 | G17: 0 | H17: =G17*100/C17 -> 0 | I17: 2 | J17: =I17*100/C17 -> 4.1666667 | K17: 3 | L17: =K17*100/C17 -> 6.25 | M17: 42 | N17: =M17*100/C17 -> 87.5 | O17: 1 | P17: =O17*100/C17 -> 2.0833333
A18: 6 | B18: 17C1-ĐCN1 | C18: =SUM(G18,I18,K18,M18,O18) -> 45 | E18: =C18-F18 -> 7 | F18: 38 | G18: 0 | H18: =G18*100/C18 -> 0 | I18: 0 | J18: =I18*100/C18 -> 0 | K18: 0 | L18: =K18*100/C18 -> 0 | M18: 42 | N18: =M18*100/C18 -> 93.333333 | O18: 3 | P18: =O18*100/C18 -> 6.6666667
A19: 7 | B19: 17C1-ĐCN2 | C19: =SUM(G19,I19,K19,M19,O19) -> 47 | E19: =C19-F19 -> 8 | F19: 39 | G19: 0 | H19: =G19*100/C19 -> 0 | I19: 0 | J19: =I19*100/C19 -> 0 | K19: 0 | L19: =K19*100/C19 -> 0 | M19: 38 | N19: =M19*100/C19 -> 80.851064 | O19: 9 | P19: =O19*100/C19 -> 19.148936
A20: 8 | B20: 17C1-ĐCN3 | C20: =SUM(G20,I20,K20,M20,O20) -> 34 | E20: =C20-F20 -> 6 | F20: 28 | G20: 1 | H20: =G20*100/C20 -> 2.9411765 | I20: 0 | J20: =I20*100/C20 -> 0 | K20: 5 | L20: =K20*100/C20 -> 14.705882 | M20: 28 | N20: =M20*100/C20 -> 82.352941 | O20: 0 | P20: =O20*100/C20 -> 0
A21: 9 | B21: 17C1-ĐCN4 | C21: =SUM(G21,I21,K21,M21,O21) -> 38 | E21: =C21-F21 -> 3 | F21: 35 | G21: 0 | H21: =G21*100/C21 -> 0 | I21: 2 | J21: =I21*100/C21 -> 5.2631579 | K21: 3 | L21: =K21*100/C21 -> 7.8947368 | M21: 31 | N21: =M21*100/C21 -> 81.578947 | O21: 2 | P21: =O21*100/C21 -> 5.2631579
A22: 10 | B22: 18C1-ĐCN1 | C22: =SUM(G22,I22,K22,M22,O22) -> 43 | E22: =C22-F22 -> 10 | F22: 33 | G22: 0 | H22: =G22*100/C22 -> 0 | I22: 2 | J22: =I22*100/C22 -> 4.6511628 | K22: 4 | L22: =K22*100/C22 -> 9.3023256 | M22: 37 | N22: =M22*100/C22 -> 86.046512 | O22: 0 | P22: =O22*100/C22 -> 0
A23: 11 | B23: 18C1-ĐCN2 | C23: =SUM(G23,I23,K23,M23,O23) -> 50 | E23: =C23-F23 -> 9 | F23: 41 | G23: 0 | H23: =G23*100/C23 -> 0 | I23: 2 | J23: =I23*100/C23 -> 4 | K23: 2 | L23: =K23*100/C23 -> 4 | M23: 46 | N23: =M23*100/C23 -> 92 | O23: 0 | P23: =O23*100/C23 -> 0
A24: 12 | B24: 18C1-ĐCN3 | C24: =SUM(G24,I24,K24,M24,O24) -> 38 | E24: =C24-F24 -> 2 | F24: 36 | G24: 0 | H24: =G24*100/C24 -> 0 | I24: 3 | J24: =I24*100/C24 -> 7.8947368 | K24: 7 | L24: =K24*100/C24 -> 18.421053 | M24: 27 | N24: =M24*100/C24 -> 71.052632 | O24: 1 | P24: =O24*100/C24 -> 2.6315789
A25: 13 | B25: 18C1-ĐCN4 | C25: =SUM(G25,I25,K25,M25,O25) -> 51 | E25: =C25-F25 -> 10 | F25: 41 | G25: 0 | H25: =G25*100/C25 -> 0 | I25: 1 | J25: =I25*100/C25 -> 1.9607843 | K25: 5 | L25: =K25*100/C25 -> 9.8039216 | M25: 45 | N25: =M25*100/C25 -> 88.235294 | O25: 0 | P25: =O25*100/C25 -> 0
A26: CỘNG 13 Lớp | C26: =SUM(C13:C25) -> 556 | D26: =SUM(D13:D25) -> 1 | E26: =SUM(E13:E25) -> 94 | F26: =SUM(F13:F25) -> 462 | G26: =SUM(G13:G25) -> 2 | H26: =G26*100/C26 -> 0.35971223 | I26: =SUM(I13:I25) -> 12 | J26: =I26*100/C26 -> 2.1582734 | K26: =SUM(K13:K25) -> 34 | L26: =K26*100/C26 -> 6.1151079 | M26: =SUM(M13:M25) -> 488 | N26: =M26*100/C26 -> 87.769784 | O26: =SUM(O13:O25) -> 20 | P26: =O26*100/C26 -> 3.5971223
A27: Ngành: Điện tử công nghiệp
A28: 1 | B28: 16CĐ-ĐTCN1 | C28: =SUM(G28,I28,K28,M28,O28) -> 43 | E28: =C28-F28 -> 12 | F28: 31 | G28: 0 | H28: =G28*100/C28 -> 0 | I28: 0 | J28: =I28*100/C28 -> 0 | K28: 4 | L28: =K28*100/C28 -> 9.3023256 | M28: 37 | N28: =M28*100/C28 -> 86.046512 | O28: 2 | P28: =O28*100/C28 -> 4.6511628
A29: 2 | B29: 17C1-ĐTC1 | C29: =SUM(G29,I29,K29,M29,O29) -> 20 | E29: =C29-F29 -> 5 | F29: 15 | G29: 0 | H29: =G29*100/C29 -> 0 | I29: 2 | J29: =I29*100/C29 -> 10 | K29: 1 | L29: =K29*100/C29 -> 5 | M29: 16 | N29: =M29*100/C29 -> 80 | O29: 1 | P29: =O29*100/C29 -> 5
A30: CỘNG 02 Lớp | C30: =SUM(C28:C29) -> 63 | D30: =SUM(D28:D29) -> 0 | E30: =SUM(E28:E29) -> 17 | F30: =SUM(F28:F29) -> 46 | G30: =SUM(G28:G29) -> 0 | H30: =G30*100/C30 -> 0 | I30: =SUM(I28:I29) -> 2 | J30: =I30*100/C30 -> 3.1746032 | K30: =SUM(K28:K29) -> 5 | L30: =K30*100/C30 -> 7.9365079 | M30: =SUM(M28:M29) -> 53 | N30: =M30*100/C30 -> 84.126984 | O30: =SUM(O28:O29) -> 3 | P30: =O30*100/C30 -> 4.7619048
A31: S TT | B31: LỚP | C31: SĨ SỐ | G31: KẾT QUẢ RÈN LUYỆN | Q31: GHI CHÚ (Không xếp loại)
C32: TỔNG | D32: NỮ | E32: A | F32: B | G32: Xuất sắc | I32: Tốt | K32: Khá | M32: Trung Bình | O32: Yếu
G33: SL | H33: % | I33: SL | J33: % | K33: SL | L33: % | M33: SL | N33: % | O33: SL | P33: %
A34: Ngành: Công nghệ kỹ thuật Điện, Điện tử
A35: 1 | B35: 17C1-ĐĐT1 | C35: =SUM(G35,I35,K35,M35,O35) -> 37 | D35: 1 | E35: =C35-F35 -> 12 | F35: 25 | G35: 0 | H35: =G35*100/C35 -> 0 | I35: 0 | J35: =I35*100/C35 -> 0 | K35: 3 | L35: =K35*100/C35 -> 8.1081081 | M35: 31 | N35: =M35*100/C35 -> 83.783784 | O35: 3 | P35: =O35*100/C35 -> 8.1081081
A36: 2 | B36: 17C1-ĐĐT2 | C36: =SUM(G36,I36,K36,M36,O36) -> 39 | D36: 2 | E36: =C36-F36 -> 5 | F36: 34 | G36: 5 | H36: =G36*100/C36 -> 12.820513 | I36: 0 | J36: =I36*100/C36 -> 0 | K36: 2 | L36: =K36*100/C36 -> 5.1282051 | M36: 27 | N36: =M36*100/C36 -> 69.230769 | O36: 5 | P36: =O36*100/C36 -> 12.820513
A37: 3 | B37: 17C1-ĐĐT3 | C37: =SUM(G37,I37,K37,M37,O37) -> 28 | E37: =C37-F37 -> 3 | F37: 25 | G37: 0 | H37: =G37*100/C37 -> 0 | I37: 2 | J37: =I37*100/C37 -> 7.1428571 | K37: 2 | L37: =K37*100/C37 -> 7.1428571 | M37: 19 | N37: =M37*100/C37 -> 67.857143 | O37: 5 | P37: =O37*100/C37 -> 17.857143
A38: 4 | B38: 17C1-ĐĐT4 | C38: =SUM(G38,I38,K38,M38,O38) -> 32 | D38: 1 | E38: =C38-F38 -> 8 | F38: 24 | G38: 0 | H38: =G38*100/C38 -> 0 | I38: 1 | J38: =I38*100/C38 -> 3.125 | K38: 1 | L38: =K38*100/C38 -> 3.125 | M38: 22 | N38: =M38*100/C38 -> 68.75 | O38: 8 | P38: =O38*100/C38 -> 25
A39: 5 | B39: 18C1-ĐĐT1 | C39: =SUM(G39,I39,K39,M39,O39) -> 41 | E39: =C39-F39 -> 7 | F39: 34 | G39: 2 | H39: =G39*100/C39 -> 4.8780488 | I39: 5 | J39: =I39*100/C39 -> 12.195122 | K39: 6 | L39: =K39*100/C39 -> 14.634146 | M39: 28 | N39: =M39*100/C39 -> 68.292683 | O39: 0 | P39: =O39*100/C39 -> 0
A40: 6 | B40: 18C1-ĐĐT2 | C40: =SUM(G40,I40,K40,M40,O40) -> 38 | D40: 1 | E40: =C40-F40 -> 7 | F40: 31 | G40: 4 | H40: =G40*100/C40 -> 10.526316 | I40: 3 | J40: =I40*100/C40 -> 7.8947368 | K40: 5 | L40: =K40*100/C40 -> 13.157895 | M40: 26 | N40: =M40*100/C40 -> 68.421053 | O40: 0 | P40: =O40*100/C40 -> 0
A41: 7 | B41: 18C1-ĐĐT3 | C41: =SUM(G41,I41,K41,M41,O41) -> 51 | E41: =C41-F41 -> 10 | F41: 41 | G41: 0 | H41: =G41*100/C41 -> 0 | I41: 1 | J41: =I41*100/C41 -> 1.9607843 | K41: 6 | L41: =K41*100/C41 -> 11.764706 | M41: 43 | N41: =M41*100/C41 -> 84.313725 | O41: 1 | P41: =O41*100/C41 -> 1.9607843
A42: 8 | B42: 18C2-ĐĐT1 | C42: =SUM(G42,I42,K42,M42,O42) -> 72 | E42: =C42-F42 -> 38 | F42: 34 | G42: 0 | H42: =G42*100/C42 -> 0 | I42: 0 | J42: =I42*100/C42 -> 0 | K42: 6 | L42: =K42*100/C42 -> 8.3333333 | M42: 30 | N42: =M42*100/C42 -> 41.666667 | O42: 36 | P42: =O42*100/C42 -> 50
...

Sheet TK.T.TR_NH
A1: UBND THÀNH PHỐ HỒ CHÍ MINH | K1: CỘNG HÒA XÃ HỘI CHỦ NGHĨA VIỆT NAM
A2: TRƯỜNG CAO ĐẲNG LÝ TỰ TRỌNG | K2: Độc lập - Tự do - Hạnh phúc
A3: THÀNH PHỐ HỒ CHÍ MINH
A5: THỐNG KÊ KẾT QUẢ RÈN LUYỆN NĂM HỌC 2018-2019
A6: TOÀN TRƯỜNG
A8: BẬC ĐÀO TẠO | D8: SĨ SỐ | H8: KẾT QUẢ RÈN LUYỆN | R8: GHI CHÚ
D9: TỔNG | E9: NỮ | F9: A | G9: B | H9: Xuất sắc | J9: Tốt | L9: Khá | N9: Trung Bình | P9: Yếu
H10: SL | I10: % | J10: SL | K10: % | L10: SL | M10: % | N10: SL | O10: % | P10: SL | Q10: %
A11: Cao đẳng | D11: =RL.NH_CĐ!C171 -> 5858 | E11: =RL.NH_CĐ!D171 -> 475 | F11: =RL.NH_CĐ!E171 -> 1613 | G11: =RL.NH_CĐ!F171 -> 4245 | H11: =RL.NH_CĐ!G171 -> 60 | I11: =H11*100/D11 -> 1.0242404 | J11: =RL.NH_CĐ!I171 -> 208 | K11: =J11*100/D11 -> 3.5506999 | L11: =RL.NH_CĐ!K171 -> 665 | M11: =L11*100/D11 -> 11.351997 | N11: =RL.NH_CĐ!M171 -> 4722 | O11: =N11*100/D11 -> 80.607716 | P11: =RL.NH_CĐ!O171 -> 203 | Q11: =P11*100/D11 -> 3.4653465
A12: Liên thông Cao đẳng | D12: =RL.NH_LTCĐ!C44 -> 211 | E12: =RL.NH_LTCĐ!D44 -> 18 | F12: =RL.NH_LTCĐ!E44 -> 133 | G12: =RL.NH_LTCĐ!F44 -> 78 | H12: =RL.NH_LTCĐ!G44 -> 1 | I12: =H12*100/D12 -> 0.47393365 | J12: =RL.NH_LTCĐ!I44 -> 11 | K12: =J12*100/D12 -> 5.2132701 | L12: =RL.NH_LTCĐ!K44 -> 51 | M12: =L12*100/D12 -> 24.170616 | N12: =RL.NH_LTCĐ!M44 -> 97 | O12: =N12*100/D12 -> 45.971564 | P12: =RL.NH_LTCĐ!O44 -> 51 | Q12: =P12*100/D12 -> 24.170616
A13: Cao đẳng nghề | D13: =RL.NH_CĐ!C175 -> 61 | E13: =RL.NH_CĐ!D175 -> 16 | F13: =RL.NH_CĐ!E175 -> 22 | G13: =RL.NH_CĐ!F175 -> 39 | H13: =RL.NH_CĐ!G175 -> 1 | I13: =H13*100/D13 -> 1.6393443 | J13: =RL.NH_CĐ!I175 -> 0 | K13: =J13*100/D13 -> 0 | L13: =RL.NH_CĐ!K175 -> 11 | M13: =L13*100/D13 -> 18.032787 | N13: =RL.NH_CĐ!M175 -> 48 | O13: =N13*100/D13 -> 78.688525 | P13: =RL.NH_CĐ!O175 -> 1 | Q13: =P13*100/D13 -> 1.6393443
A14: Trung cấp | D14: =RL.NH_TCCN!C92 -> 2424 | E14: =RL.NH_TCCN!D92 -> 476 | F14: =RL.NH_TCCN!E92 -> 1929 | G14: =RL.NH_TCCN!F92 -> 495 | H14: =RL.NH_TCCN!G92 -> 4 | I14: =H14*100/D14 -> 0.1650165 | J14: =RL.NH_TCCN!I92 -> 23 | K14: =J14*100/D14 -> 0.94884488 | L14: =RL.NH_TCCN!K92 -> 164 | M14: =L14*100/D14 -> 6.7656766 | N14: =RL.NH_TCCN!M92 -> 1935 | O14: =N14*100/D14 -> 79.826733 | P14: =RL.NH_TCCN!O92 -> 298 | Q14: =P14*100/D14 -> 12.293729
A15: Trung cấp (LKĐT) | D15: =RL.NH_LTCĐ!C14 -> 74 | E15: =RL.NH_LTCĐ!D14 -> 4 | F15: =RL.NH_LTCĐ!E14 -> 72 | G15: =RL.NH_LTCĐ!F14 -> 2 | H15: =RL.NH_LTCĐ!G14 -> 0 | I15: =H15*100/D15 -> 0 | J15: =RL.NH_LTCĐ!I14 -> 11 | K15: =J15*100/D15 -> 14.864865 | L15: =RL.NH_LTCĐ!K14 -> 50 | M15: =L15*100/D15 -> 67.567568 | N15: =RL.NH_LTCĐ!M14 -> 10 | O15: =N15*100/D15 -> 13.513514 | P15: =RL.NH_LTCĐ!O14 -> 3 | Q15: =P15*100/D15 -> 4.0540541
A16: Cao đẳng liên thông | D16: =SUM(H16,J16,L16,#REF!,N16,P16,#REF!,R16) -> #REF! | E16: =#REF! -> #REF! | F16: =#REF! -> #REF! | G16: =#REF! -> #REF! | H16: 0 | I16: =H16*100/D16 -> #REF! | J16: 0 | K16: =J16*100/D16 -> #REF! | L16: 0 | M16: =L16*100/D16 -> #REF! | N16: 0 | O16: =N16*100/D16 -> #REF! | P16: 0 | Q16: =P16*100/D16 -> #REF! | R16: =#REF! -> #REF!
A17: TỔNG TOÀN TRƯỜNG | D17: =SUM(D11:D15) -> 8628 | E17: =SUM(E11:E15) -> 989 | F17: =SUM(F11:F15) -> 3769 | G17: =SUM(G11:G15) -> 4859 | H17: =SUM(H11:H15) -> 66 | I17: =H17*100/D17 -> 0.76495132 | J17: =SUM(J11:J15) -> 253 | K17: =J17*100/D17 -> 2.9323134 | L17: =SUM(L11:L15) -> 941 | M17: =L17*100/D17 -> 10.906351 | N17: =SUM(N11:N15) -> 6812 | O17: =N17*100/D17 -> 78.952248 | P17: =SUM(P11:P15) -> 556 | Q17: =P17*100/D17 -> 6.4441354
L19: Thành phố Hồ Chí Minh, ngày tháng 8 năm 2019
L20: KT. HIỆU TRƯỞNG
A21: P.TRƯỞNG PHÒNG CTCT - HSSV | L21: PHÓ HIỆU TRƯỞNG
A26: Lê Xuân Thiện | L26: Đinh Hồng Minh
A28: Từ TB trở lên | C28: =SUM(H17,J17,L17,N17) -> 8072 | D28: =C28*100/D17 -> 93.555865
A29: Yếu | C29: =P17 -> 556 | D29: =C29*100/D17 -> 6.4441354
A30: UBND THÀNH PHỐ HỒ CHÍ MINH | K30: CỘNG HÒA XÃ HỘI CHỦ NGHĨA VIỆT NAM
A31: TRƯỜNG CAO ĐẲNG LÝ TỰ TRỌNG | K31: Độc lập - Tự do - Hạnh phúc
A32: THÀNH PHỐ HỒ CHÍ MINH
A34: THỐNG KÊ KẾT QUẢ RÈN LUYỆN NĂM HỌC 2018-2019
A35: TOÀN TRƯỜNG (Niên chế)
A37: BẬC ĐÀO TẠO | D37: SĨ SỐ | H37: KẾT QUẢ RÈN LUYỆN | R37: GHI CHÚ (không xếp loại)
D38: TỔNG | E38: NỮ | F38: A | G38: B | H38: Xuất sắc | J38: Tốt | L38: Khá | N38: Trung Bình | P38: Yếu
H39: SL | I39: % | J39: SL | K39: % | L39: SL | M39: % | N39: SL | O39: % | P39: SL | Q39: %
A40: 2016 TCCN (9+3) | D40: =RL.NH_TCCN!C15 -> 70 | E40: =RL.NH_TCCN!D15 -> 22 | F40: =RL.NH_TCCN!E15 -> 54 | G40: =RL.NH_TCCN!F15 -> 16 | H40: =RL.NH_TCCN!G15 -> 0 | I40: =H40*100/D40 -> 0 | J40: =RL.NH_TCCN!I15 -> 1 | K40: =J40*100/D40 -> 1.4285714 | L40: =RL.NH_TCCN!K15 -> 9 | M40: =L40*100/D40 -> 12.857143 | N40: =RL.NH_TCCN!M15 -> 55 | O40: =N40*100/D40 -> 78.571429 | P40: =RL.NH_TCCN!O15 -> 5 | Q40: =P40*100/D40 -> 7.1428571
A41: 2016 TCN (9+4) | D41: =RL.NH_TCCN!C25 -> 245 | E41: =RL.NH_TCCN!D25 -> 38 | F41: =RL.NH_TCCN!E25 -> 188 | G41: =RL.NH_TCCN!F25 -> 57 | H41: =RL.NH_TCCN!G25 -> 2 | I41: =H41*100/D41 -> 0.81632653 | J41: =RL.NH_TCCN!I25 -> 3 | K41: =J41*100/D41 -> 1.2244898 | L41: =RL.NH_TCCN!K25 -> 20 | M41: =L41*100/D41 -> 8.1632653 | N41: =RL.NH_TCCN!M25 -> 210 | O41: =N41*100/D41 -> 85.714286 | P41: =RL.NH_TCCN!O25 -> 10 | Q41: =P41*100/D41 -> 4.0816327
A42: 2016 CĐN (12+3) | D42: =RL.NH_CĐ!C175 -> 61 | E42: =RL.NH_CĐ!D175 -> 16 | F42: =RL.NH_CĐ!E175 -> 22 | G42: =RL.NH_CĐ!F175 -> 39 | H42: =RL.NH_CĐ!G175 -> 1 | I42: =H42*100/D42 -> 1.6393443 | J42: =RL.NH_CĐ!I175 -> 0 | K42: =J42*100/D42 -> 0 | L42: =RL.NH_CĐ!K175 -> 11 | M42: =L42*100/D42 -> 18.032787 | N42: =RL.NH_CĐ!M175 -> 48 | O42: =N42*100/D42 -> 78.688525 | P42: =RL.NH_CĐ!O175 -> 1 | Q42: =P42*100/D42 -> 1.6393443
A43: TỔNG TOÀN TRƯỜNG | D43: =SUM(D40:D42) -> 376 | E43: =SUM(E40:E42) -> 76 | F43: =SUM(F40:F42) -> 264 | G43: =SUM(G40:G42) -> 112 | H43: =SUM(H40:H42) -> 3 | I43: =H43*100/D43 -> 0.79787234 | J43: =SUM(J40:J42) -> 4 | K43: =J43*100/D43 -> 1.0638298 | L43: =SUM(L40:L42) -> 40 | M43: =L43*100/D43 -> 10.638298 | N43: =SUM(N40:N42) -> 313 | O43: =N43*100/D43 -> 83.244681 | P43: =SUM(P40:P42) -> 16 | Q43: =P43*100/D43 -> 4.2553191 | R43: =SUM(R40:R42) -> 0
L45: Thành phố Hồ Chí Minh, ngày tháng 8 năm 2019
L46: KT. HIỆU TRƯỞNG
A47: P.TRƯỞNG PHÒNG CTCT - HSSV | L47: PHÓ HIỆU TRƯỞNG
A52: Lê Xuân Thiện | L52: Đinh Hồng Minh
A54: Từ TB trở lên | C54: =SUM(H43,J43,L43,N43) -> 360 | D54: =C54*100/D43 -> 95.744681
A55: Yếu, kém | C55: =P43 -> 16 | D55: =C55*100/D43 -> 4.2553191
A57: UBND THÀNH PHỐ HỒ CHÍ MINH | K57: CỘNG HÒA XÃ HỘI CHỦ NGHĨA VIỆT NAM
...

Sheet Các lớp RL<10%
A1: THỐNG KÊ KẾT QUẢ RÈN LUYỆN NĂM HỌC 2018-2019
A2: Bậc đào tạo: Trung cấp và Cao đẳng (Yếu từ 10 % trở lên)
A4: S TT | B4: LỚP | C4: SĨ SỐ | G4: KẾT QUẢ RÈN LUYỆN | Q4: GHI CHÚ
C5: TỔNG | D5: NỮ | E5: A | F5: B | G5: Xuất sắc | I5: Tốt | K5: Khá | M5: Trung Bình | O5: Yếu
G6: SL | H6: % | I6: SL | J6: % | K6: SL | L6: % | M6: SL | N6: % | O6: SL | P6: %
B7: Trung cấp
A8: 1 | B8: 16TC-QTM | C8: =SUM(G8,I8,K8,M8,O8) -> 19 | D8: 1 | E8: =C8-F8 -> 17 | F8: 2 | G8: 0 | H8: =G8*100/C8 -> 0 | I8: 0 | J8: =I8*100/C8 -> 0 | K8: 2 | L8: =K8*100/C8 -> 10.526316 | M8: 15 | N8: =M8*100/C8 -> 78.947368 | O8: 2 | P8: =O8*100/C8 -> 10.526316 | Q8: Trần Thị Diễm Thúy
A9: 2 | B9: 16TCN-Đ | C9: =SUM(G9,I9,K9,M9,O9) -> 30 | E9: =C9-F9 -> 19 | F9: 11 | G9: 0 | H9: =G9*100/C9 -> 0 | I9: 0 | J9: =I9*100/C9 -> 0 | K9: 1 | L9: =K9*100/C9 -> 3.3333333 | M9: 25 | N9: =M9*100/C9 -> 83.333333 | O9: 4 | P9: =O9*100/C9 -> 13.333333 | Q9: Lê Minh Phong
A10: 3 | B10: 17T4-ĐCN1 | C10: =SUM(G10,I10,K10,M10,O10) -> 25 | E10: =C10-F10 -> 22 | F10: 3 | G10: 0 | H10: =G10*100/C10 -> 0 | I10: 0 | J10: =I10*100/C10 -> 0 | K10: 1 | L10: =K10*100/C10 -> 4 | M10: 20 | N10: =M10*100/C10 -> 80 | O10: 4 | P10: =O10*100/C10 -> 16 | Q10: Cao Thị Nga
A11: 4 | B11: 17T4-ĐĐT1 | C11: =SUM(G11,I11,K11,M11,O11) -> 35 | E11: =C11-F11 -> 31 | F11: 4 | G11: 0 | H11: =G11*100/C11 -> 0 | I11: 0 | J11: =I11*100/C11 -> 0 | K11: 2 | L11: =K11*100/C11 -> 5.7142857 | M11: 26 | N11: =M11*100/C11 -> 74.285714 | O11: 7 | P11: =O11*100/C11 -> 20 | Q11: Ngô Hoàng Anh
A12: 5 | B12: 17T4-ĐTC1 | C12: =SUM(G12,I12,K12,M12,O12) -> 15 | D12: 1 | E12: =C12-F12 -> 13 | F12: 2 | G12: 0 | H12: =G12*100/C12 -> 0 | I12: 0 | J12: =I12*100/C12 -> 0 | K12: 0 | L12: =K12*100/C12 -> 0 | M12: 11 | N12: =M12*100/C12 -> 73.333333 | O12: 4 | P12: =O12*100/C12 -> 26.666667 | Q12: Tăng Cẩm Huê
A13: 6 | B13: 17T4-LĐL1 | C13: =SUM(G13,I13,K13,M13,O13) -> 23 | E13: =C13-F13 -> 23 | F13: 0 | G13: 0 | H13: =G13*100/C13 -> 0 | I13: 0 | J13: =I13*100/C13 -> 0 | K13: 0 | L13: =K13*100/C13 -> 0 | M13: 20 | N13: =M13*100/C13 -> 86.956522 | O13: 3 | P13: =O13*100/C13 -> 13.043478 | Q13: Đặng Thế Huân
A14: 7 | B14: 17T4-CNL1 | C14: =SUM(G14,I14,K14,M14,O14) -> 36 | E14: =C14-F14 -> 28 | F14: 8 | G14: 0 | H14: =G14*100/C14 -> 0 | I14: 0 | J14: =I14*100/C14 -> 0 | K14: 4 | L14: =K14*100/C14 -> 11.111111 | M14: 28 | N14: =M14*100/C14 -> 77.777778 | O14: 4 | P14: =O14*100/C14 -> 11.111111 | Q14: Trần Đình Khoa
A15: 8 | B15: 17T4-CKL1 | C15: =SUM(G15,I15,K15,M15,O15) -> 14 | E15: =C15-F15 -> 12 | F15: 2 | G15: 0 | H15: =G15*100/C15 -> 0 | I15: 0 | J15: =I15*100/C15 -> 0 | K15: 0 | L15: =K15*100/C15 -> 0 | M15: 11 | N15: =M15*100/C15 -> 78.571429 | O15: 3 | P15: =O15*100/C15 -> 21.428571 | Q15: Nguyễn Văn Đông
A16: 9 | B16: 17T4-CCK1 | C16: =SUM(G16,I16,K16,M16,O16) -> 28 | E16: =C16-F16 -> 22 | F16: 6 | G16: 0 | H16: =G16*100/C16 -> 0 | I16: 0 | J16: =I16*100/C16 -> 0 | K16: 0 | L16: =K16*100/C16 -> 0 | M16: 23 | N16: =M16*100/C16 -> 82.142857 | O16: 5 | P16: =O16*100/C16 -> 17.857143
A17: 10 | B17: 17T4-CNÔ1 | C17: =SUM(G17,I17,K17,M17,O17) -> 30 | E17: =C17-F17 -> 23 | F17: 7 | G17: 0 | H17: =G17*100/C17 -> 0 | I17: 0 | J17: =I17*100/C17 -> 0 | K17: 0 | L17: =K17*100/C17 -> 0 | M17: 19 | N17: =M17*100/C17 -> 63.333333 | O17: 11 | P17: =O17*100/C17 -> 36.666667 | Q17: Phan Anh Tuấn Kiệt
A18: 11 | B18: 17T4-CNÔ2 | C18: =SUM(G18,I18,K18,M18,O18) -> 36 | E18: =C18-F18 -> 28 | F18: 8 | G18: 0 | H18: =G18*100/C18 -> 0 | I18: 0 | J18: =I18*100/C18 -> 0 | K18: 1 | L18: =K18*100/C18 -> 2.7777778 | M18: 29 | N18: =M18*100/C18 -> 80.555556 | O18: 6 | P18: =O18*100/C18 -> 16.666667 | Q18: Nguyễn Ngọc Quỳnh
A19: 12 | B19: 17T4-CNÔ4 | C19: =SUM(G19,I19,K19,M19,O19) -> 24 | E19: =C19-F19 -> 19 | F19: 5 | G19: 0 | H19: =G19*100/C19 -> 0 | I19: 0 | J19: =I19*100/C19 -> 0 | K19: 1 | L19: =K19*100/C19 -> 4.1666667 | M19: 15 | N19: =M19*100/C19 -> 62.5 | O19: 8 | P19: =O19*100/C19 -> 33.333333 | Q19: Dương Đức Kiên
A20: 13 | B20: 17T4-CNM1 | C20: =SUM(G20,I20,K20,M20,O20) -> 33 | D20: 28 | E20: =C20-F20 -> 23 | F20: 10 | G20: 0 | H20: =G20*100/C20 -> 0 | I20: 0 | J20: =I20*100/C20 -> 0 | K20: 3 | L20: =K20*100/C20 -> 9.0909091 | M20: 24 | N20: =M20*100/C20 -> 72.727273 | O20: 6 | P20: =O20*100/C20 -> 18.181818 | Q20: Nguyễn Thị Dinh
A21: 14 | B21: 17T4-CMT1 | C21: =SUM(G21,I21,K21,M21,O21) -> 20 | E21: =C21-F21 -> 18 | F21: 2 | G21: 0 | H21: =G21*100/C21 -> 0 | I21: 0 | J21: =I21*100/C21 -> 0 | K21: 1 | L21: =K21*100/C21 -> 5 | M21: 16 | N21: =M21*100/C21 -> 80 | O21: 3 | P21: =O21*100/C21 -> 15 | Q21: Lê Thị Hà Giang
A22: 15 | B22: 17T4-THU1 | C22: =SUM(G22,I22,K22,M22,O22) -> 48 | D22: 14 | E22: =C22-F22 -> 40 | F22: 8 | G22: 0 | H22: =G22*100/C22 -> 0 | I22: 1 | J22: =I22*100/C22 -> 2.0833333 | K22: 3 | L22: =K22*100/C22 -> 6.25 | M22: 33 | N22: =M22*100/C22 -> 68.75 | O22: 11 | P22: =O22*100/C22 -> 22.916667 | Q22: Đặng Thị Nhật Minh
A23: 16 | B23: 17T4-QTM1 | C23: =SUM(G23,I23,K23,M23,O23) -> 43 | D23: 3 | E23: =C23-F23 -> 39 | F23: 4 | G23: 0 | H23: =G23*100/C23 -> 0 | I23: 0 | J23: =I23*100/C23 -> 0 | K23: 4 | L23: =K23*100/C23 -> 9.3023256 | M23: 25 | N23: =M23*100/C23 -> 58.139535 | O23: 14 | P23: =O23*100/C23 -> 32.55814 | Q23: Nguyễn Thị Cẩm Thạch
A24: 17 | B24: 17T4-NNA1 | C24: =SUM(G24,I24,K24,M24,O24) -> 57 | D24: 33 | E24: =C24-F24 -> 55 | F24: 2 | G24: 0 | H24: =G24*100/C24 -> 0 | I24: 1 | J24: =I24*100/C24 -> 1.754386 | K24: 2 | L24: =K24*100/C24 -> 3.5087719 | M24: 41 | N24: =M24*100/C24 -> 71.929825 | O24: 13 | P24: =O24*100/C24 -> 22.807018 | Q24: Lê Nguyễn Mỹ Trâm
A25: 18 | B25: 18T4-ĐCN1 | C25: =SUM(G25,I25,K25,M25,O25) -> 30 | E25: =C25-F25 -> 20 | F25: 10 | G25: 0 | H25: =G25*100/C25 -> 0 | I25: 0 | J25: =I25*100/C25 -> 0 | K25: 0 | L25: =K25*100/C25 -> 0 | M25: 23 | N25: =M25*100/C25 -> 76.666667 | O25: 7 | P25: =O25*100/C25 -> 23.333333 | Q25: Vũ Hạnh Chiêu
A26: 19 | B26: 18T4-ĐCN2 | C26: =SUM(G26,I26,K26,M26,O26) -> 26 | E26: =C26-F26 -> 20 | F26: 6 | G26: 0 | H26: =G26*100/C26 -> 0 | I26: 0 | J26: =I26*100/C26 -> 0 | K26: 1 | L26: =K26*100/C26 -> 3.8461538 | M26: 22 | N26: =M26*100/C26 -> 84.615385 | O26: 3 | P26: =O26*100/C26 -> 11.538462 | Q26: Lê Thị Hà Giang
A27: 20 | B27: 18T4-ĐĐT1 | C27: =SUM(G27,I27,K27,M27,O27) -> 51 | E27: =C27-F27 -> 39 | F27: 12 | G27: 0 | H27: =G27*100/C27 -> 0 | I27: 0 | J27: =I27*100/C27 -> 0 | K27: 1 | L27: =K27*100/C27 -> 1.9607843 | M27: 34 | N27: =M27*100/C27 -> 66.666667 | O27: 16 | P27: =O27*100/C27 -> 31.372549 | Q27: Nguyễn Văn Yên
A28: 21 | B28: 18T4-KML1 | C28: =SUM(G28,I28,K28,M28,O28) -> 41 | E28: =C28-F28 -> 35 | F28: 6 | G28: 0 | H28: =G28*100/C28 -> 0 | I28: 0 | J28: =I28*100/C28 -> 0 | K28: 1 | L28: =K28*100/C28 -> 2.4390244 | M28: 32 | N28: =M28*100/C28 -> 78.04878 | O28: 8 | P28: =O28*100/C28 -> 19.512195 | Q28: Nguyễn Vũ Xuân Thì
A29: 22 | B29: 18T4-CKC1 | C29: =SUM(G29,I29,K29,M29,O29) -> 31 | E29: =C29-F29 -> 23 | F29: 8 | G29: 0 | H29: =G29*100/C29 -> 0 | I29: 0 | J29: =I29*100/C29 -> 0 | K29: 2 | L29: =K29*100/C29 -> 6.4516129 | M29: 22 | N29: =M29*100/C29 -> 70.967742 | O29: 7 | P29: =O29*100/C29 -> 22.580645 | Q29: Nguyễn Phương Hà
A30: 23 | B30: 18T4-CCK1 | C30: =SUM(G30,I30,K30,M30,O30) -> 30 | E30: =C30-F30 -> 19 | F30: 11 | G30: 0 | H30: =G30*100/C30 -> 0 | I30: 0 | J30: =I30*100/C30 -> 0 | K30: 2 | L30: =K30*100/C30 -> 6.6666667 | M30: 21 | N30: =M30*100/C30 -> 70 | O30: 7 | P30: =O30*100/C30 -> 23.333333 | Q30: Vũ Quang Khải
A31: 24 | B31: 18T4-CNÔ1 | C31: =SUM(G31,I31,K31,M31,O31) -> 39 | D31: 1 | E31: =C31-F31 -> 29 | F31: 10 | G31: 0 | H31: =G31*100/C31 -> 0 | I31: 1 | J31: =I31*100/C31 -> 2.5641026 | K31: 1 | L31: =K31*100/C31 -> 2.5641026 | M31: 32 | N31: =M31*100/C31 -> 82.051282 | O31: 5 | P31: =O31*100/C31 -> 12.820513 | Q31: Sĩ Thị Chung
A32: 25 | B32: 18T4-CNÔ2 | C32: =SUM(G32,I32,K32,M32,O32) -> 46 | E32: =C32-F32 -> 36 | F32: 10 | G32: 0 | H32: =G32*100/C32 -> 0 | I32: 0 | J32: =I32*100/C32 -> 0 | K32: 1 | L32: =K32*100/C32 -> 2.173913 | M32: 39 | N32: =M32*100/C32 -> 84.782609 | O32: 6 | P32: =O32*100/C32 -> 13.043478 | Q32: Hoàng Thị Trang
A33: 26 | B33: 18T4-CNÔ5 | C33: =SUM(G33,I33,K33,M33,O33) -> 46 | E33: =C33-F33 -> 36 | F33: 10 | G33: 0 | H33: =G33*100/C33 -> 0 | I33: 0 | J33: =I33*100/C33 -> 0 | K33: 1 | L33: =K33*100/C33 -> 2.173913 | M33: 33 | N33: =M33*100/C33 -> 71.73913 | O33: 12 | P33: =O33*100/C33 -> 26.086957 | Q33: Trần Quốc Duy
A34: 27 | B34: 18T4-CNM1 | C34: =SUM(G34,I34,K34,M34,O34) -> 49 | D34: 42 | E34: =C34-F34 -> 40 | F34: 9 | G34: 0 | H34: =G34*100/C34 -> 0 | I34: 0 | J34: =I34*100/C34 -> 0 | K34: 2 | L34: =K34*100/C34 -> 4.0816327 | M34: 38 | N34: =M34*100/C34 -> 77.55102 | O34: 9 | P34: =O34*100/C34 -> 18.367347 | Q34: Bùi Thị Ngọc Sương
A35: 28 | B35: 18T4-THU1 | C35: =SUM(G35,I35,K35,M35,O35) -> 30 | D35: 7 | E35: =C35-F35 -> 23 | F35: 7 | G35: 0 | H35: =G35*100/C35 -> 0 | I35: 0 | J35: =I35*100/C35 -> 0 | K35: 1 | L35: =K35*100/C35 -> 3.3333333 | M35: 26 | N35: =M35*100/C35 -> 86.666667 | O35: 3 | P35: =O35*100/C35 -> 10 | Q35: Cao Xuân Giang
A36: 29 | B36: 18T4-THU2 | C36: =SUM(G36,I36,K36,M36,O36) -> 24 | D36: 4 | E36: =C36-F36 -> 21 | F36: 3 | G36: 0 | H36: =G36*100/C36 -> 0 | I36: 4 | J36: =I36*100/C36 -> 16.666667 | K36: 2 | L36: =K36*100/C36 -> 8.3333333 | M36: 15 | N36: =M36*100/C36 -> 62.5 | O36: 3 | P36: =O36*100/C36 -> 12.5 | Q36: Nguyễn Trung Dũng
A37: 30 | B37: 18T4-LTM2 | C37: =SUM(G37,I37,K37,M37,O37) -> 33 | D37: 4 | E37: =C37-F37 -> 26 | F37: 7 | G37: 0 | H37: =G37*100/C37 -> 0 | I37: 0 | J37: =I37*100/C37 -> 0 | K37: 2 | L37: =K37*100/C37 -> 6.0606061 | M37: 19 | N37: =M37*100/C37 -> 57.575758 | O37: 12 | P37: =O37*100/C37 -> 36.363636 | Q37: Võ Thị Kim Thư
A38: 31 | B38: 18T4-QTM1 | C38: =SUM(G38,I38,K38,M38,O38) -> 49 | D38: 1 | E38: =C38-F38 -> 44 | F38: 5 | G38: 0 | H38: =G38*100/C38 -> 0 | I38: 0 | J38: =I38*100/C38 -> 0 | K38: 0 | L38: =K38*100/C38 -> 0 | M38: 38 | N38: =M38*100/C38 -> 77.55102 | O38: 11 | P38: =O38*100/C38 -> 22.44898 | Q38: Lê Phi Trường
A39: 32 | B39: 18T4-TCD1 | C39: =SUM(G39,I39,K39,M39,O39) -> 18 | D39: 9 | E39: =C39-F39 -> 15 | F39: 3 | G39: 0 | H39: =G39*100/C39 -> 0 | I39: 0 | J39: =I39*100/C39 -> 0 | K39: 2 | L39: =K39*100/C39 -> 11.111111 | M39: 14 | N39: =M39*100/C39 -> 77.777778 | O39: 2 | P39: =O39*100/C39 -> 11.111111 | Q39: Lữ Xuân Trang
A40: 33 | B40: 18T4-QTD2 | C40: =SUM(G40,I40,K40,M40,O40) -> 39 | D40: 24 | E40: =C40-F40 -> 31 | F40: 8 | G40: 0 | H40: =G40*100/C40 -> 0 | I40: 0 | J40: =I40*100/C40 -> 0 | K40: 0 | L40: =K40*100/C40 -> 0 | M40: 33 | N40: =M40*100/C40 -> 84.615385 | O40: 6 | P40: =O40*100/C40 -> 15.384615 | Q40: Trịnh Hoàng Hiệp
A41: 34 | B41: 18T4-NNA1 | C41: =SUM(G41,I41,K41,M41,O41) -> 46 | D41: 27 | E41: =C41-F41 -> 42 | F41: 4 | G41: 0 | H41: =G41*100/C41 -> 0 | I41: 0 | J41: =I41*100/C41 -> 0 | K41: 0 | L41: =K41*100/C41 -> 0 | M41: 30 | N41: =M41*100/C41 -> 65.217391 | O41: 16 | P41: =O41*100/C41 -> 34.782609 | Q41: Nguyễn Thị Thu Hà
...

Sheet 00000000
