Workbook

Sheet RL.NH_TCCN
A1: UBND THÀNH PHỐ HỒ CHÍ MINH | K1: CỘNG HÒA XÃ HỘI CHỦ NGHĨA VIỆT NAM
A2: TRƯỜNG CAO ĐẲNG LÝ TỰ TRỌNG | K2: Độc lập - Tự do - Hạnh phúc
A3: THÀNH PHỐ HỒ CHÍ MINH
A5: THỐNG KÊ KẾT QUẢ RÈN LUYỆN NĂM HỌC 2018-2019
A6: Bậc đào tạo: Trung cấp
A8: S TT | B8: LỚP | C8: SĨ SỐ | G8: KẾT QUẢ RÈN LUYỆN | Q8: GHI CHÚ
C9: TỔNG | D9: NỮ | E9: A | F9: B | G9: Xuất sắc | I9: Tốt | K9: Khá | M9: Trung Bình | O9: Yếu
G10: SL | H10: % | I10: SL | J10: % | K10: SL | L10: % | M10: SL | N10: % | O10: SL | P10: %
A11: KHÓA 2016 TCCN (9+3)
A12: 1 | B12: 16TC-Ô1 | C12: =SUM(G12,I12,K12,M12,O12) -> 29 | E12: =C12-F12 -> 20 | F12: 9 | G12: 0 | H12: =G12*100/C12 -> 0 | I12: 0 | J12: =I12*100/C12 -> 0 | K12: 5 | L12: =K12*100/C12 -> 17.241379 | M12: 23 | N12: =M12*100/C12 -> 79.310345 | O12: 1 | P12: =O12*100/C12 -> 3.4482759
A13: 2 | B13: 16TC-MTT | C13: =SUM(G13,I13,K13,M13,O13) -> 22 | D13: 21 | E13: =C13-F13 -> 17 | F13: 5 | G13: 0 | H13: =G13*100/C13 -> 0 | I13: 1 | J13: =I13*100/C13 -> 4.5454545 | K13: 2 | L13: =K13*100/C13 -> 9.0909091 | M13: 17 | N13: =M13*100/C13 -> 77.272727 | O13: 2 | P13: =O13*100/C13 -> 9.0909091
A14: 3 | B14: 16TC-QTM | C14: =SUM(G14,I14,K14,M14,O14) -> 19 | D14: 1 | E14: =C14-F14 -> 17 | F14: 2 | G14: 0 | H14: =G14*100/C14 -> 0 | I14: 0 | J14: =I14*100/C14 -> 0 | K14: 2 | L14: =K14*100/C14 -> 10.526316 | M14: 15 | N14: =M14*100/C14 -> 78.947368 | O14: 2 | P14: =O14*100/C14 -> 10.526316 | Q14: Trần Thị Diễm Thúy
A15: TỔNG: 2016 | C15: =SUM(C12:C14) -> 70 | D15: =SUM(D12:D14) -> 22 | E15: =SUM(E12:E14) -> 54 | F15: =SUM(F12:F14) -> 16 | G15: =SUM(G12:G14) -> 0 | H15: =G15*100/C15 -> 0 | I15: =SUM(I12:I14) -> 1 | J15: =I15*100/C15 -> 1.4285714 | K15: =SUM(K12:K14) -> 9 | L15: =K15*100/C15 -> 12.857143 | M15: =SUM(M12:M14) -> 55 | N15: =M15*100/C15 -> 78.571429 | O15: =SUM(O12:O14) -> 5 | P15: =O15*100/C15 -> 7.1428571
A16: KHÓA 2016 TCN (9+4)
A17: 1 | B17: 16TCN-Đ | C17: =SUM(G17,I17,K17,M17,O17) -> 30 | E17: =C17-F17 -> 19 | F17: 11 | G17: 0 | H17: =G17*100/C17 -> 0 | I17: 0 | J17: =I17*100/C17 -> 0 | K17: 1 | L17: =K17*100/C17 -> 3.3333333 | M17: 25 | N17: =M17*100/C17 -> 83.333333 | O17: 4 | P17: =O17*100/C17 -> 13.333333 | Q17: Lê Minh Phong
A18: 2 | B18: 16TCN-ĐT | C18: =SUM(G18,I18,K18,M18,O18) -> 25 | E18: =C18-F18 -> 21 | F18: 4 | G18: 0 | H18: =G18*100/C18 -> 0 | I18: 0 | J18: =I18*100/C18 -> 0 | K18: 1 | L18: =K18*100/C18 -> 4 | M18: 22 | N18: =M18*100/C18 -> 88 | O18: 2 | P18: =O18*100/C18 -> 8
A19: 3 | B19: 16TCN-LĐL1 | C19: =SUM(G19,I19,K19,M19,O19) -> 32 | E19: =C19-F19 -> 27 | F19: 5 | G19: 0 | H19: =G19*100/C19 -> 0 | I19: 0 | J19: =I19*100/C19 -> 0 | K19: 1 | L19: =K19*100/C19 -> 3.125 | M19: 31 | N19: =M19*100/C19 -> 96.875 | O19: 0 | P19: =O19*100/C19 -> 0
A20: 4 | B20: 16TCN-CKL | C20: =SUM(G20,I20,K20,M20,O20) -> 29 | E20: =C20-F20 -> 20 | F20: 9 | G20: 0 | H20: =G20*100/C20 -> 0 | I20: 1 | J20: =I20*100/C20 -> 3.4482759 | K20: 5 | L20: =K20*100/C20 -> 17.241379 | M20: 23 | N20: =M20*100/C20 -> 79.310345 | O20: 0 | P20: =O20*100/C20 -> 0
A21: 5 | B21: 16TCN-Ô1 | C21: =SUM(G21,I21,K21,M21,O21) -> 47 | E21: =C21-F21 -> 34 | F21: 13 | G21: 1 | H21: =G21*100/C21 -> 2.1276596 | I21: 0 | J21: =I21*100/C21 -> 0 | K21: 3 | L21: =K21*100/C21 -> 6.3829787 | M21: 41 | N21: =M21*100/C21 -> 87.234043 | O21: 2 | P21: =O21*100/C21 -> 4.2553191
A22: 6 | B22: 16TCN-QTM1 | C22: =SUM(G22,I22,K22,M22,O22) -> 41 | D22: 2 | E22: =C22-F22 -> 36 | F22: 5 | G22: 0 | H22: =G22*100/C22 -> 0 | I22: 0 | J22: =I22*100/C22 -> 0 | K22: 2 | L22: =K22*100/C22 -> 4.8780488 | M22: 38 | N22: =M22*100/C22 -> 92.682927 | O22: 1 | P22: =O22*100/C22 -> 2.4390244
A23: 7 | B23: 16TCN-KTD | C23: =SUM(G23,I23,K23,M23,O23) -> 15 | D23: 15 | E23: =C23-F23 -> 13 | F23: 2 | G23: 0 | H23: =G23*100/C23 -> 0 | I23: 1 | J23: =I23*100/C23 -> 6.6666667 | K23: 2 | L23: =K23*100/C23 -> 13.333333 | M23: 12 | N23: =M23*100/C23 -> 80 | O23: 0 | P23: =O23*100/C23 -> 0
A24: 8 | B24: 16TCN-QTD | C24: =SUM(G24,I24,K24,M24,O24) -> 26 | D24: 21 | E24: =C24-F24 -> 18 | F24: 8 | G24: 1 | H24: =G24*100/C24 -> 3.8461538 | I24: 1 | J24: =I24*100/C24 -> 3.8461538 | K24: 5 | L24: =K24*100/C24 -> 19.230769 | M24: 18 | N24: =M24*100/C24 -> 69.230769 | O24: 1 | P24: =O24*100/C24 -> 3.8461538
A25: TỔNG: 2016 | C25: =SUM(C17:C24) -> 245 | D25: =SUM(D17:D24) -> 38 | E25: =SUM(E17:E24) -> 188 | F25: =SUM(F17:F24) -> 57 | G25: =SUM(G17:G24) -> 2 | H25: =G25*100/C25 -> 0.81632653 | I25: =SUM(I17:I24) -> 3 | J25: =I25*100/C25 -> 1.2244898 | K25: =SUM(K17:K24) -> 20 | L25: =K25*100/C25 -> 8.1632653 | M25: =SUM(M17:M24) -> 210 | N25: =M25*100/C25 -> 85.714286 | O25: =SUM(O17:O24) -> 10 | P25: =O25*100/C25 -> 4.0816327
A26: KHÓA 2017 Trung cấp (3N)
A27: 1 | B27: 17T4-ĐCN1 | C27: =SUM(G27,I27,K27,M27,O27) -> 25 | E27: =C27-F27 -> 22 | F27: 3 | G27: 0 | H27: =G27*100/C27 -> 0 | I27: 0 | J27: =I27*100/C27 -> 0 | K27: 1 | L27: =K27*100/C27 -> 4 | M27: 20 | N27: =M27*100/C27 -> 80 | O27: 4 | P27: =O27*100/C27 -> 16 | Q27: Cao Thị Nga
A28: 2 | B28: 17T4-ĐCN2 | C28: =SUM(G28,I28,K28,M28,O28) -> 21 | E28: =C28-F28 -> 15 | F28: 6 | G28: 0 | H28: =G28*100/C28 -> 0 | I28: 0 | J28: =I28*100/C28 -> 0 | K28: 3 | L28: =K28*100/C28 -> 14.285714 | M28: 17 | N28: =M28*100/C28 -> 80.952381 | O28: 1 | P28: =O28*100/C28 -> 4.7619048
A29: 3 | B29: 17T4-ĐĐT1 | C29: =SUM(G29,I29,K29,M29,O29) -> 35 | E29: =C29-F29 -> 31 | F29: 4 | G29: 0 | H29: =G29*100/C29 -> 0 | I29: 0 | J29: =I29*100/C29 -> 0 | K29: 2 | L29: =K29*100/C29 -> 5.7142857 | M29: 26 | N29: =M29*100/C29 -> 74.285714 | O29: 7 | P29: =O29*100/C29 -> 20 | Q29: Ngô Hoàng Anh
A30: 4 | B30: 17T4-ĐTC1 | C30: =SUM(G30,I30,K30,M30,O30) -> 15 | D30: 1 | E30: =C30-F30 -> 13 | F30: 2 | G30: 0 | H30: =G30*100/C30 -> 0 | I30: 0 | J30: =I30*100/C30 -> 0 | K30: 0 | L30: =K30*100/C30 -> 0 | M30: 11 | N30: =M30*100/C30 -> 73.333333 | O30: 4 | P30: =O30*100/C30 -> 26.666667 | Q30: Tăng Cẩm Huê
A31: 5 | B31: 17T4-LĐL1 | C31: =SUM(G31,I31,K31,M31,O31) -> 23 | E31: =C31-F31 -> 23 | F31: 0 | G31: 0 | H31: =G31*100/C31 -> 0 | I31: 0 | J31: =I31*100/C31 -> 0 | K31: 0 | L31: =K31*100/C31 -> 0 | M31: 20 | N31: =M31*100/C31 -> 86.956522 | O31: 3 | P31: =O31*100/C31 -> 13.043478 | Q31: Đặng Thế Huân
A32: 6 | B32: 17T4-LĐL2 | C32: =SUM(G32,I32,K32,M32,O32) -> 26 | E32: =C32-F32 -> 25 | F32: 1 | G32: 0 | H32: =G32*100/C32 -> 0 | I32: 0 | J32: =I32*100/C32 -> 0 | K32: 0 | L32: =K32*100/C32 -> 0 | M32: 24 | N32: =M32*100/C32 -> 92.307692 | O32: 2 | P32: =O32*100/C32 -> 7.6923077
A33: 7 | B33: 17T4-CNL1 | C33: =SUM(G33,I33,K33,M33,O33) -> 36 | E33: =C33-F33 -> 28 | F33: 8 | G33: 0 | H33: =G33*100/C33 -> 0 | I33: 0 | J33: =I33*100/C33 -> 0 | K33: 4 | L33: =K33*100/C33 -> 11.111111 | M33: 28 | N33: =M33*100/C33 -> 77.777778 | O33: 4 | P33: =O33*100/C33 -> 11.111111 | Q33: Trần Đình Khoa
A34: 8 | B34: 17T4-CKL1 | C34: =SUM(G34,I34,K34,M34,O34) -> 14 | E34: =C34-F34 -> 12 | F34: 2 | G34: 0 | H34: =G34*100/C34 -> 0 | I34: 0 | J34: =I34*100/C34 -> 0 | K34: 0 | L34: =K34*100/C34 -> 0 | M34: 11 | N34: =M34*100/C34 -> 78.571429 | O34: 3 | P34: =O34*100/C34 -> 21.428571 | Q34: Nguyễn Văn Đông
A35: 9 | B35: 17T4-CCK1 | C35: =SUM(G35,I35,K35,M35,O35) -> 28 | E35: =C35-F35 -> 22 | F35: 6 | G35: 0 | H35: =G35*100/C35 -> 0 | I35: 0 | J35: =I35*100/C35 -> 0 | K35: 0 | L35: =K35*100/C35 -> 0 | M35: 23 | N35: =M35*100/C35 -> 82.142857 | O35: 5 | P35: =O35*100/C35 -> 17.857143
A36: 10 | B36: 17T4-CCK2 | C36: =SUM(G36,I36,K36,M36,O36) -> 30 | E36: =C36-F36 -> 22 | F36: 8 | G36: 0 | H36: =G36*100/C36 -> 0 | I36: 0 | J36: =I36*100/C36 -> 0 | K36: 3 | L36: =K36*100/C36 -> 10 | M36: 27 | N36: =M36*100/C36 -> 90 | O36: 0 | P36: =O36*100/C36 -> 0
A37: 11 | B37: 17T4-CNÔ1 | C37: =SUM(G37,I37,K37,M37,O37) -> 30 | E37: =C37-F37 -> 23 | F37: 7 | G37: 0 | H37: =G37*100/C37 -> 0 | I37: 0 | J37: =I37*100/C37 -> 0 | K37: 0 | L37: =K37*100/C37 -> 0 | M37: 19 | N37: =M37*100/C37 -> 63.333333 | O37: 11 | P37: =O37*100/C37 -> 36.666667 | Q37: Phan Anh Tuấn Kiệt
A38: 12 | B38: 17T4-CNÔ2 | C38: =SUM(G38,I38,K38,M38,O38) -> 36 | E38: =C38-F38 -> 28 | F38: 8 | G38: 0 | H38: =G38*100/C38 -> 0 | I38: 0 | J38: =I38*100/C38 -> 0 | K38: 1 | L38: =K38*100/C38 -> 2.7777778 | M38: 29 | N38: =M38*100/C38 -> 80.555556 | O38: 6 | P38: =O38*100/C38 -> 16.666667 | Q38: Nguyễn Ngọc Quỳnh
A39: 13 | B39: 17T4-CNÔ3 | C39: =SUM(G39,I39,K39,M39,O39) -> 38 | E39: =C39-F39 -> 32 | F39: 6 | G39: 0 | H39: =G39*100/C39 -> 0 | I39: 0 | J39: =I39*100/C39 -> 0 | K39: 1 | L39: =K39*100/C39 -> 2.6315789 | M39: 36 | N39: =M39*100/C39 -> 94.736842 | O39: 1 | P39: =O39*100/C39 -> 2.6315789
A40: 14 | B40: 17T4-CNÔ4 | C40: =SUM(G40,I40,K40,M40,O40) -> 24 | E40: =C40-F40 -> 19 | F40: 5 | G40: 0 | H40: =G40*100/C40 -> 0 | I40: 0 | J40: =I40*100/C40 -> 0 | K40: 1 | L40: =K40*100/C40 -> 4.1666667 | M40: 15 | N40: =M40*100/C40 -> 62.5 | O40: 8 | P40: =O40*100/C40 -> 33.333333 | Q40: Dương Đức Kiên
A41: 15 | B41: 17T4-CNM1 | C41: =SUM(G41,I41,K41,M41,O41) -> 33 | D41: 28 | E41: =C41-F41 -> 23 | F41: 10 | G41: 0 | H41: =G41*100/C41 -> 0 | I41: 0 | J41: =I41*100/C41 -> 0 | K41: 3 | L41: =K41*100/C41 -> 9.0909091 | M41: 24 | N41: =M41*100/C41 -> 72.727273 | O41: 6 | P41: =O41*100/C41 -> 18.181818 | Q41: Nguyễn Thị Dinh
A42: 16 | B42: 17T4-CMT1 | C42: =SUM(G42,I42,K42,M42,O42) -> 20 | E42: =C42-F42 -> 18 | F42: 2 | G42: 0 | H42: =G42*100/C42 -> 0 | I42: 0 | J42: =I42*100/C42 -> 0 | K42: 1 | L42: =K42*100/C42 -> 5 | M42: 16 | N42: =M42*100/C42 -> 80 | O42: 3 | P42: =O42*100/C42 -> 15 | Q42: Lê Thị Hà Giang
A43: 17 | B43: 17T4-TKW1 | C43: =SUM(G43,I43,K43,M43,O43) -> 21 | E43: =C43-F43 -> 20 | F43: 1 | G43: 0 | H43: =G43*100/C43 -> 0 | I43: 0 | J43: =I43*100/C43 -> 0 | K43: 0 | L43: =K43*100/C43 -> 0 | M43: 20 | N43: =M43*100/C43 -> 95.238095 | O43: 1 | P43: =O43*100/C43 -> 4.7619048
A44: 18 | B44: 17T4-THU1 | C44: =SUM(G44,I44,K44,M44,O44) -> 48 | D44: 14 | E44: =C44-F44 -> 40 | F44: 8 | G44: 0 | H44: =G44*100/C44 -> 0 | I44: 1 | J44: =I44*100/C44 -> 2.0833333 | K44: 3 | L44: =K44*100/C44 -> 6.25 | M44: 33 | N44: =M44*100/C44 -> 68.75 | O44: 11 | P44: =O44*100/C44 -> 22.916667 | Q44: Đặng Thị Nhật Minh
A45: 19 | B45: 17T4-LTM1 | C45: =SUM(G45,I45,K45,M45,O45) -> 31 | D45: 2 | E45: =C45-F45 -> 24 | F45: 7 | G45: 0 | H45: =G45*100/C45 -> 0 | I45: 0 | J45: =I45*100/C45 -> 0 | K45: 2 | L45: =K45*100/C45 -> 6.4516129 | M45: 29 | N45: =M45*100/C45 -> 93.548387 | O45: 0 | P45: =O45*100/C45 -> 0
A46: 20 | B46: 17T4-QTM1 | C46: =SUM(G46,I46,K46,M46,O46) -> 43 | D46: 3 | E46: =C46-F46 -> 39 | F46: 4 | G46: 0 | H46: =G46*100/C46 -> 0 | I46: 0 | J46: =I46*100/C46 -> 0 | K46: 4 | L46: =K46*100/C46 -> 9.3023256 | M46: 25 | N46: =M46*100/C46 -> 58.139535 | O46: 14 | P46: =O46*100/C46 -> 32.55814 | Q46: Nguyễn Thị Cẩm Thạch
A47: 21 | B47: 17T4-KTD1 | C47: =SUM(G47,I47,K47,M47,O47) -> 36 | D47: 31 | E47: =C47-F47 -> 30 | F47: 6 | G47: 0 | H47: =G47*100/C47 -> 0 | I47: 0 | J47: =I47*100/C47 -> 0 | K47: 1 | L47: =K47*100/C47 -> 2.7777778 | M47: 32 | N47: =M47*100/C47 -> 88.888889 | O47: 3 | P47: =O47*100/C47 -> 8.3333333
A48: 22 | B48: 17T4-QTD1 | C48: =SUM(G48,I48,K48,M48,O48) -> 47 | D48: 19 | E48: =C48-F48 -> 35 | F48: 12 | G48: 0 | H48: =G48*100/C48 -> 0 | I48: 1 | J48: =I48*100/C48 -> 2.1276596 | K48: 2 | L48: =K48*100/C48 -> 4.2553191 | M48: 41 | N48: =M48*100/C48 -> 87.234043 | O48: 3 | P48: =O48*100/C48 -> 6.3829787
A49: 23 | B49: 17T4-NNA1 | C49: =SUM(G49,I49,K49,M49,O49) -> 57 | D49: 33 | E49: =C49-F49 -> 55 | F49: 2 | G49: 0 | H49: =G49*100/C49 -> 0 | I49: 1 | J49: =I49*100/C49 -> 1.754386 | K49: 2 | L49: =K49*100/C49 -> 3.5087719 | M49: 41 | N49: =M49*100/C49 -> 71.929825 | O49: 13 | P49: =O49*100/C49 -> 22.807018 | Q49: Lê Nguyễn Mỹ Trâm
A50: TỔNG: 2017T4 | C50: =SUM(C27:C49) -> 717 | D50: =SUM(D27:D49) -> 131 | E50: =SUM(E27:E49) -> 599 | F50: =SUM(F27:F49) -> 118 | G50: =SUM(G27:G49) -> 0 | H50: =G50*100/C50 -> 0 | I50: =SUM(I27:I49) -> 3 | J50: =I50*100/C50 -> 0.41841004 | K50: =SUM(K27:K49) -> 34 | L50: =K50*100/C50 -> 4.7419805 | M50: =SUM(M27:M49) -> 567 | N50: =M50*100/C50 -> 79.079498 | O50: =SUM(O27:O49) -> 113 | P50: =O50*100/C50 -> 15.760112
A51: KHÓA 2018 Trung cấp (3N)
A52: 1 | B52: 18T4-ĐCN1 | C52: =SUM(G52,I52,K52,M52,O52) -> 30 | E52: =C52-F52 -> 20 | F52: 10 | G52: 0 | H52: =G52*100/C52 -> 0 | I52: 0 | J52: =I52*100/C52 -> 0 | K52: 0 | L52: =K52*100/C52 -> 0 | M52: 23 | N52: =M52*100/C52 -> 76.666667 | O52: 7 | P52: =O52*100/C52 -> 23.333333 | Q52: Vũ Hạnh Chiêu
A53: 2 | B53: 18T4-ĐCN2 | C53: =SUM(G53,I53,K53,M53,O53) -> 26 | E53: =C53-F53 -> 20 | F53: 6 | G53: 0 | H53: =G53*100/C53 -> 0 | I53: 0 | J53: =I53*100/C53 -> 0 | K53: 1 | L53: =K53*100/C53 -> 3.8461538 | M53: 22 | N53: =M53*100/C53 -> 84.615385 | O53: 3 | P53: =O53*100/C53 -> 11.538462 | Q53: Lê Thị Hà Giang
A54: 3 | B54: 18T4-ĐĐT1 | C54: =SUM(G54,I54,K54,M54,O54) -> 51 | E54: =C54-F54 -> 39 | F54: 12 | G54: 0 | H54: =G54*100/C54 -> 0 | I54: 0 | J54: =I54*100/C54 -> 0 | K54: 1 | L54: =K54*100/C54 -> 1.9607843 | M54: 34 | N54: =M54*100/C54 -> 66.666667 | O54: 16 | P54: =O54*100/C54 -> 31.372549 | Q54: Nguyễn Văn Yên
A55: 4 | B55: 18T4-CĐT1 | C55: =SUM(G55,I55,K55,M55,O55) -> 41 | E55: =C55-F55 -> 30 | F55: 11 | G55: 0 | H55: =G55*100/C55 -> 0 | I55: 1 | J55: =I55*100/C55 -> 2.4390244 | K55: 8 | L55: =K55*100/C55 -> 19.512195 | M55: 28 | N55: =M55*100/C55 -> 68.292683 | O55: 4 | P55: =O55*100/C55 -> 9.7560976
A56: 5 | B56: 18T4-KML1 | C56: =SUM(G56,I56,K56,M56,O56) -> 41 | E56: =C56-F56 -> 35 | F56: 6 | G56: 0 | H56: =G56*100/C56 -> 0 | I56: 0 | J56: =I56*100/C56 -> 0 | K56: 1 | L56: =K56*100/C56 -> 2.4390244 | M56: 32 | N56: =M56*100/C56 -> 78.04878 | O56: 8 | P56: =O56*100/C56 -> 19.512195 | Q56: Nguyễn Vũ Xuân Thì
A57: 6 | B57: 18T4-VSL1 | C57: =SUM(G57,I57,K57,M57,O57) -> 46 | E57: =C57-F57 -> 32 | F57: 14 | G57: 0 | H57: =G57*100/C57 -> 0 | I57: 0 | J57: =I57*100/C57 -> 0 | K57: 0 | L57: =K57*100/C57 -> 0 | M57: 45 | N57: =M57*100/C57 -> 97.826087 | O57: 1 | P57: =O57*100/C57 -> 2.173913
A58: 7 | B58: 18T4-VSL2 | C58: =SUM(G58,I58,K58,M58,O58) -> 46 | E58: =C58-F58 -> 34 | F58: 12 | G58: 0 | H58: =G58*100/C58 -> 0 | I58: 0 | J58: =I58*100/C58 -> 0 | K58: 0 | L58: =K58*100/C58 -> 0 | M58: 44 | N58: =M58*100/C58 -> 95.652174 | O58: 2 | P58: =O58*100/C58 -> 4.3478261
A59: 8 | B59: 18T4-CKC1 | C59: =SUM(G59,I59,K59,M59,O59) -> 31 | E59: =C59-F59 -> 23 | F59: 8 | G59: 0 | H59: =G59*100/C59 -> 0 | I59: 0 | J59: =I59*100/C59 -> 0 | K59: 2 | L59: =K59*100/C59 -> 6.4516129 | M59: 22 | N59: =M59*100/C59 -> 70.967742 | O59: 7 | P59: =O59*100/C59 -> 22.580645 | Q59: Nguyễn Phương Hà
A60: 9 | B60: 18T4-CCK1 | C60: =SUM(G60,I60,K60,M60,O60) -> 30 | E60: =C60-F60 -> 19 | F60: 11 | G60: 0 | H60: =G60*100/C60 -> 0 | I60: 0 | J60: =I60*100/C60 -> 0 | K60: 2 | L60: =K60*100/C60 -> 6.6666667 | M60: 21 | N60: =M60*100/C60 -> 70 | O60: 7 | P60: =O60*100/C60 -> 23.333333 | Q60: Vũ Quang Khải
A61: 10 | B61: 18T4-CCK2 | C61: =SUM(G61,I61,K61,M61,O61) -> 30 | E61: =C61-F61 -> 24 | F61: 6 | G61: 1 | H61: =G61*100/C61 -> 3.3333333 | I61: 2 | J61: =I61*100/C61 -> 6.6666667 | K61: 4 | L61: =K61*100/C61 -> 13.333333 | M61: 22 | N61: =M61*100/C61 -> 73.333333 | O61: 1 | P61: =O61*100/C61 -> 3.3333333
A62: 11 | B62: 18T4-CNÔ1 | C62: =SUM(G62,I62,K62,M62,O62) -> 39 | D62: 1 | E62: =C62-F62 -> 29 | F62: 10 | G62: 0 | H62: =G62*100/C62 -> 0 | I62: 1 | J62: =I62*100/C62 -> 2.5641026 | K62: 1 | L62: =K62*100/C62 -> 2.5641026 | M62: 32 | N62: =M62*100/C62 -> 82.051282 | O62: 5 | P62: =O62*100/C62 -> 12.820513 | Q62: Sĩ Thị Chung
A63: 12 | B63: 18T4-CNÔ2 | C63: =SUM(G63,I63,K63,M63,O63) -> 46 | E63: =C63-F63 -> 36 | F63: 10 | G63: 0 | H63: =G63*100/C63 -> 0 | I63: 0 | J63: =I63*100/C63 -> 0 | K63: 1 | L63: =K63*100/C63 -> 2.173913 | M63: 39 | N63: =M63*100/C63 -> 84.782609 | O63: 6 | P63: =O63*100/C63 -> 13.043478 | Q63: Hoàng Thị Trang
A64: 13 | B64: 18T4-CNÔ3 | C64: =SUM(G64,I64,K64,M64,O64) -> 35 | E64: =C64-F64 -> 26 | F64: 9 | G64: 0 | H64: =G64*100/C64 -> 0 | I64: 0 | J64: =I64*100/C64 -> 0 | K64: 1 | L64: =K64*100/C64 -> 2.8571429 | M64: 32 | N64: =M64*100/C64 -> 91.428571 | O64: 2 | P64: =O64*100/C64 -> 5.7142857
A65: 14 | B65: 18T4-CNÔ4 | C65: =SUM(G65,I65,K65,M65,O65) -> 47 | E65: =C65-F65 -> 36 | F65: 11 | G65: 0 | H65: =G65*100/C65 -> 0 | I65: 0 | J65: =I65*100/C65 -> 0 | K65: 5 | L65: =K65*100/C65 -> 10.638298 | M65: 40 | N65: =M65*100/C65 -> 85.106383 | O65: 2 | P65: =O65*100/C65 -> 4.2553191
A66: 15 | B66: 18T4-CNÔ5 | C66: =SUM(G66,I66,K66,M66,O66) -> 46 | E66: =C66-F66 -> 36 | F66: 10 | G66: 0 | H66: =G66*100/C66 -> 0 | I66: 0 | J66: =I66*100/C66 -> 0 | K66: 1 | L66: =K66*100/C66 -> 2.173913 | M66: 33 | N66: =M66*100/C66 -> 71.73913 | O66: 12 | P66: =O66*100/C66 -> 26.086957 | Q66: Trần Quốc Duy
A67: 16 | B67: 18T4-CNÔ6 | C67: =SUM(G67,I67,K67,M67,O67) -> 28 | E67: =C67-F67 -> 19 | F67: 9 | G67: 0 | H67: =G67*100/C67 -> 0 | I67: 0 | J67: =I67*100/C67 -> 0 | K67: 3 | L67: =K67*100/C67 -> 10.714286 | M67: 23 | N67: =M67*100/C67 -> 82.142857 | O67: 2 | P67: =O67*100/C67 -> 7.1428571
A68: 17 | B68: 18T4-CNM1 | C68: =SUM(G68,I68,K68,M68,O68) -> 49 | D68: 42 | E68: =C68-F68 -> 40 | F68: 9 | G68: 0 | H68: =G68*100/C68 -> 0 | I68: 0 | J68: =I68*100/C68 -> 0 | K68: 2 | L68: =K68*100/C68 -> 4.0816327 | M68: 38 | N68: =M68*100/C68 -> 77.55102 | O68: 9 | P68: =O68*100/C68 -> 18.367347 | Q68: Bùi Thị Ngọc Sương
A69: 18 | B69: 18T4-ANM1 | C69: =SUM(G69,I69,K69,M69,O69) -> 38 | D69: 4 | E69: =C69-F69 -> 34 | F69: 4 | G69: 1 | H69: =G69*100/C69 -> 2.6315789 | I69: 4 | J69: =I69*100/C69 -> 10.526316 | K69: 8 | L69: =K69*100/C69 -> 21.052632 | M69: 25 | N69: =M69*100/C69 -> 65.789474 | O69: 0 | P69: =O69*100/C69 -> 0
A70: 19 | B70: 18T4-CMT1 | C70: =SUM(G70,I70,K70,M70,O70) -> 28 | E70: =C70-F70 -> 24 | F70: 4 | G70: 0 | H70: =G70*100/C70 -> 0 | I70: 0 | J70: =I70*100/C70 -> 0 | K70: 3 | L70: =K70*100/C70 -> 10.714286 | M70: 24 | N70: =M70*100/C70 -> 85.714286 | O70: 1 | P70: =O70*100/C70 -> 3.5714286
A71: 20 | B71: 18T4-CMT2 | C71: =SUM(G71,I71,K71,M71,O71) -> 25 | E71: =C71-F71 -> 24 | F71: 1 | G71: 0 | H71: =G71*100/C71 -> 0 | I71: 0 | J71: =I71*100/C71 -> 0 | K71: 3 | L71: =K71*100/C71 -> 12 | M71: 22 | N71: =M71*100/C71 -> 88 | O71: 0 | P71: =O71*100/C71 -> 0
A72: 21 | B72: 18T4-TKW1 | C72: =SUM(G72,I72,K72,M72,O72) -> 34 | D72: 6 | E72: =C72-F72 -> 28 | F72: 6 | G72: 0 | H72: =G72*100/C72 -> 0 | I72: 0 | J72: =I72*100/C72 -> 0 | K72: 3 | L72: =K72*100/C72 -> 8.8235294 | M72: 29 | N72: =M72*100/C72 -> 85.294118 | O72: 2 | P72: =O72*100/C72 -> 5.8823529
A73: 22 | B73: 18T4-THU1 | C73: =SUM(G73,I73,K73,M73,O73) -> 30 | D73: 7 | E73: =C73-F73 -> 23 | F73: 7 | G73: 0 | H73: =G73*100/C73 -> 0 | I73: 0 | J73: =I73*100/C73 -> 0 | K73: 1 | L73: =K73*100/C73 -> 3.3333333 | M73: 26 | N73: =M73*100/C73 -> 86.666667 | O73: 3 | P73: =O73*100/C73 -> 10 | Q73: Cao Xuân Giang
A74: 23 | B74: 18T4-THU2 | C74: =SUM(G74,I74,K74,M74,O74) -> 24 | D74: 4 | E74: =C74-F74 -> 21 | F74: 3 | G74: 0 | H74: =G74*100/C74 -> 0 | I74: 4 | J74: =I74*100/C74 -> 16.666667 | K74: 2 | L74: =K74*100/C74 -> 8.3333333 | M74: 15 | N74: =M74*100/C74 -> 62.5 | O74: 3 | P74: =O74*100/C74 -> 12.5 | Q74: Nguyễn Trung Dũng
A75: 24 | B75: 18T4-TKĐ1 | C75: =SUM(G75,I75,K75,M75,O75) -> 42 | D75: 12 | E75: =C75-F75 -> 37 | F75: 5 | G75: 0 | H75: =G75*100/C75 -> 0 | I75: 0 | J75: =I75*100/C75 -> 0 | K75: 6 | L75: =K75*100/C75 -> 14.285714 | M75: 33 | N75: =M75*100/C75 -> 78.571429 | O75: 3 | P75: =O75*100/C75 -> 7.1428571
A76: 25 | B76: 18T4-TKĐ2 | C76: =SUM(G76,I76,K76,M76,O76) -> 35 | D76: 10 | E76: =C76-F76 -> 28 | F76: 7 | G76: 0 | H76: =G76*100/C76 -> 0 | I76: 0 | J76: =I76*100/C76 -> 0 | K76: 6 | L76: =K76*100/C76 -> 17.142857 | M76: 29 | N76: =M76*100/C76 -> 82.857143 | O76: 0 | P76: =O76*100/C76 -> 0
A77: 26 | B77: 18T4-LTM1 | C77: =SUM(G77,I77,K77,M77,O77) -> 36 | D77: 1 | E77: =C77-F77 -> 33 | F77: 3 | G77: 0 | H77: =G77*100/C77 -> 0 | I77: 1 | J77: =I77*100/C77 -> 2.7777778 | K77: 4 | L77: =K77*100/C77 -> 11.111111 | M77: 31 | N77: =M77*100/C77 -> 86.111111 | O77: 0 | P77: =O77*100/C77 -> 0
A78: 27 | B78: 18T4-LTM2 | C78: =SUM(G78,I78,K78,M78,O78) -> 33 | D78: 4 | E78: =C78-F78 -> 26 | F78: 7 | G78: 0 | H78: =G78*100/C78 -> 0 | I78: 0 | J78: =I78*100/C78 -> 0 | K78: 2 | L78: =K78*100/C78 -> 6.0606061 | M78: 19 | N78: =M78*100/C78 -> 57.575758 | O78: 12 | P78: =O78*100/C78 -> 36.363636 | Q78: Võ Thị Kim Thư
A79: 28 | B79: 18T4-QTM1 | C79: =SUM(G79,I79,K79,M79,O79) -> 49 | D79: 1 | E79: =C79-F79 -> 44 | F79: 5 | G79: 0 | H79: =G79*100/C79 -> 0 | I79: 0 | J79: =I79*100/C79 -> 0 | K79: 0 | L79: =K79*100/C79 -> 0 | M79: 38 | N79: =M79*100/C79 -> 77.55102 | O79: 11 | P79: =O79*100/C79 -> 22.44898 | Q79: Lê Phi Trường
A80: 29 | B80: 18T4-TCD1 | C80: =SUM(G80,I80,K80,M80,O80) -> 18 | D80: 9 | E80: =C80-F80 -> 15 | F80: 3 | G80: 0 | H80: =G80*100/C80 -> 0 | I80: 0 | J80: =I80*100/C80 -> 0 | K80: 2 | L80: =K80*100/C80 -> 11.111111 | M80: 14 | N80: =M80*100/C80 -> 77.777778 | O80: 2 | P80: =O80*100/C80 -> 11.111111 | Q80: Lữ Xuân Trang
A81: 30 | B81: 18T4-KTD1 | C81: =SUM(G81,I81,K81,M81,O81) -> 53 | D81: 44 | E81: =C81-F81 -> 37 | F81: 16 | G81: 0 | H81: =G81*100/C81 -> 0 | I81: 2 | J81: =I81*100/C81 -> 3.7735849 | K81: 12 | L81: =K81*100/C81 -> 22.641509 | M81: 34 | N81: =M81*100/C81 -> 64.150943 | O81: 5 | P81: =O81*100/C81 -> 9.4339623
A82: 31 | B82: 18T4-QTD1 | C82: =SUM(G82,I82,K82,M82,O82) -> 41 | D82: 26 | E82: =C82-F82 -> 34 | F82: 7 | G82: 0 | H82: =G82*100/C82 -> 0 | I82: 0 | J82: =I82*100/C82 -> 0 | K82: 4 | L82: =K82*100/C82 -> 9.7560976 | M82: 33 | N82: =M82*100/C82 -> 80.487805 | O82: 4 | P82: =O82*100/C82 -> 9.7560976
A83: 32 | B83: 18T4-QTD2 | C83: =SUM(G83,I83,K83,M83,O83) -> 39 | D83: 24 | E83: =C83-F83 -> 31 | F83: 8 | G83: 0 | H83: =G83*100/C83 -> 0 | I83: 0 | J83: =I83*100/C83 -> 0 | K83: 0 | L83: =K83*100/C83 -> 0 | M83: 33 | N83: =M83*100/C83 -> 84.615385 | O83: 6 | P83: =O83*100/C83 -> 15.384615 | Q83: Trịnh Hoàng Hiệp
A84: 33 | B84: 18T4-NNA1 | C84: =SUM(G84,I84,K84,M84,O84) -> 46 | D84: 27 | E84: =C84-F84 -> 42 | F84: 4 | G84: 0 | H84: =G84*100/C84 -> 0 | I84: 0 | J84: =I84*100/C84 -> 0 | K84: 0 | L84: =K84*100/C84 -> 0 | M84: 30 | N84: =M84*100/C84 -> 65.217391 | O84: 16 | P84: =O84*100/C84 -> 34.782609 | Q84: Nguyễn Thị Thu Hà
A85: 34 | B85: 18T4-NNA2 | C85: =SUM(G85,I85,K85,M85,O85) -> 47 | D85: 34 | E85: =C85-F85 -> 41 | F85: 6 | G85: 0 | H85: =G85*100/C85 -> 0 | I85: 0 | J85: =I85*100/C85 -> 0 | K85: 5 | L85: =K85*100/C85 -> 10.638298 | M85: 40 | N85: =M85*100/C85 -> 85.106383 | O85: 2 | P85: =O85*100/C85 -> 4.2553191
A86: 35 | B86: 18T4-NNA3 | C86: =SUM(G86,I86,K86,M86,O86) -> 46 | D86: 27 | E86: =C86-F86 -> 38 | F86: 8 | G86: 0 | H86: =G86*100/C86 -> 0 | I86: 0 | J86: =I86*100/C86 -> 0 | K86: 1 | L86: =K86*100/C86 -> 2.173913 | M86: 40 | N86: =M86*100/C86 -> 86.956522 | O86: 5 | P86: =O86*100/C86 -> 10.869565 | Q86: Nguyễn thị Nhuận
A87: 36 | B87: 18T4-KXD1 | C87: =SUM(G87,I87,K87,M87,O87) -> 20 | E87: =C87-F87 -> 13 | F87: 7 | G87: 0 | H87: =G87*100/C87 -> 0 | I87: 0 | J87: =I87*100/C87 -> 0 | K87: 0 | L87: =K87*100/C87 -> 0 | M87: 19 | N87: =M87*100/C87 -> 95 | O87: 1 | P87: =O87*100/C87 -> 5
A88: TỔNG: 2017T4 | C88: =SUM(C52:C87) -> 1346 | D88: =SUM(D52:D87) -> 283 | E88: =SUM(E52:E87) -> 1071 | F88: =SUM(F52:F87) -> 275 | G88: =SUM(G52:G87) -> 2 | H88: =G88*100/C88 -> 0.14858841 | I88: =SUM(I52:I87) -> 15 | J88: =I88*100/C88 -> 1.1144131 | K88: =SUM(K52:K87) -> 95 | L88: =K88*100/C88 -> 7.0579495 | M88: =SUM(M52:M87) -> 1064 | N88: =M88*100/C88 -> 79.049034 | O88: =SUM(O52:O87) -> 170 | P88: =O88*100/C88 -> 12.630015
A89: KHÓA 2018 Trung cấp (1N3)
A90: 1 | B90: 18T2-CNÔ1 | C90: =SUM(G90,I90,K90,M90,O90) -> 46 | D90: 2 | E90: =C90-F90 -> 17 | F90: 29 | G90: 0 | H90: =G90*100/C90 -> 0 | I90: 1 | J90: =I90*100/C90 -> 2.173913 | K90: 6 | L90: =K90*100/C90 -> 13.043478 | M90: 39 | N90: =M90*100/C90 -> 84.782609 | O90: 0 | P90: =O90*100/C90 -> 0
A91: TỔNG: 2017T2 | C91: =SUM(C90:C90) -> 46 | D91: =SUM(D90:D90) -> 2 | E91: =SUM(E90:E90) -> 17 | F91: =SUM(F90:F90) -> 29 | G91: =SUM(G90:G90) -> 0 | H91: =G91*100/C91 -> 0 | I91: =SUM(I90:I90) -> 1 | J91: =I91*100/C91 -> 2.173913 | K91: =SUM(K90:K90) -> 6 | L91: =K91*100/C91 -> 13.043478 | M91: =SUM(M90:M90) -> 39 | N91: =M91*100/C91 -> 84.782609 | O91: =SUM(O90:O90) -> 0 | P91: =O91*100/C91 -> 0
A92: TỔNG TC | C92: =SUM(C15,C25,C50,C88,C91) -> 2424 | D92: =SUM(D15,D25,D50,D88,D91) -> 476 | E92: =SUM(E15,E25,E50,E88,E91) -> 1929 | F92: =SUM(F15,F25,F50,F88,F91) -> 495 | G92: =SUM(G15,G25,G50,G88,G91) -> 4 | H92: =G92*100/C92 -> 0.1650165 | I92: =SUM(I15,I25,I50,I88,I91) -> 23 | J92: =I92*100/C92 -> 0.94884488 | K92: =SUM(K15,K25,K50,K88,K91) -> 164 | L92: =K92*100/C92 -> 6.7656766 | M92: =SUM(M15,M25,M50,M88,M91) -> 1935 | N92: =M92*100/C92 -> 79.826733 | O92: =SUM(O15,O25,O50,O88,O91) -> 298 | P92: =O92*100/C92 -> 12.293729
L94: Thành phố Hồ Chí Minh, ngày tháng 8 năm 2019
L95: KT. HIỆU TRƯỞNG
B96: P.TRƯỞNG PHÒNG CTCT - HSSV | L96: PHÓ HIỆU TRƯỞNG
B98: (Đã ký) | L98: (Đã ký)
B101: Lê Xuân Thiện | L101: Đinh Hồng Minh
A102: - Từ TB trở lên = | C102: =SUM(G92,I92,K92,M92) -> 2126 | D102: =C102*100/C92 -> 87.706271
A103: - Yếu = | C103: =O92 -> 298 | D103: =C103*100/C92 -> 12.293729

Sheet RL.NH_CĐ
A1: UBND THÀNH PHỐ HỒ CHÍ MINH | K1: CỘNG HÒA XÃ HỘI CHỦ NGHĨA VIỆT NAM
A2: TRƯỜNG CAO ĐẲNG LÝ TỰ TRỌNG | K2: Độc lập - Tự do - Hạnh phúc
A3: THÀNH PHỐ HỒ CHÍ MINH
A5: THỐNG KÊ KẾT QUẢ RÈN LUYỆN NĂM HỌC 2018-2019
A6: Bậc đào tạo: Cao đẳng
A8: S TT | B8: LỚP | C8: SĨ SỐ | G8: KẾT QUẢ RÈN LUYỆN | Q8: GHI CHÚ
C9: TỔNG | D9: NỮ | E9: A | F9: B | G9: Xuất sắc | I9: Tốt | K9: Khá | M9: Trung Bình | O9: Yếu
G10: SL | H10: % | I10: SL | J10: % | K10: SL | L10: % | M10: SL | N10: % | O10: SL | P10: %
B11: KHÓA 2016 Cao đẳng
A12: 1 | B12: 16CĐ-ĐCN1 | C12: =SUM(G12,I12,K12,M12,O12) -> 46 | E12: =C12-F12 -> 6 | F12: 40 | G12: 1 | H12: =G12*100/C12 -> 2.173913 | I12: 0 | J12: =I12*100/C12 -> 0 | K12: 0 | L12: =K12*100/C12 -> 0 | M12: 44 | N12: =M12*100/C12 -> 95.652174 | O12: 1 | P12: =O12*100/C12 -> 2.173913
A13: 2 | B13: 16CĐ-ĐCN2 | C13: =SUM(G13,I13,K13,M13,O13) -> 41 | D13: 1 | E13: =C13-F13 -> 9 | F13: 32 | G13: 0 | H13: =G13*100/C13 -> 0 | I13: 0 | J13: =I13*100/C13 -> 0 | K13: 2 | L13: =K13*100/C13 -> 4.8780488 | M13: 37 | N13: =M13*100/C13 -> 90.243902 | O13: 2 | P13: =O13*100/C13 -> 4.8780488
A14: 3 | B14: 16CĐ-ĐCN3 | C14: =SUM(G14,I14,K14,M14,O14) -> 35 | E14: =C14-F14 -> 5 | F14: 30 | G14: 0 | H14: =G14*100/C14 -> 0 | I14: 0 | J14: =I14*100/C14 -> 0 | K14: 0 | L14: =K14*100/C14 -> 0 | M14: 35 | N14: =M14*100/C14 -> 100 | O14: 0 | P14: =O14*100/C14 -> 0
A15: 4 | B15: 16CĐ-ĐCN4 | C15: =SUM(G15,I15,K15,M15,O15) -> 40 | E15: =C15-F15 -> 10 | F15: 30 | G15: 0 | H15: =G15*100/C15 -> 0 | I15: 0 | J15: =I15*100/C15 -> 0 | K15: 3 | L15: =K15*100/C15 -> 7.5 | M15: 36 | N15: =M15*100/C15 -> 90 | O15: 1 | P15: =O15*100/C15 -> 2.5
A16: 5 | B16: 16CĐ-ĐCN5 | C16: =SUM(G16,I16,K16,M16,O16) -> 48 | E16: =C16-F16 -> 9 | F16: 39 | G16: 0 | H16: =G16*100/C16 -> 0 | I16: 2 | J16: =I16*100/C16 -> 4.1666667 | K16: 3 | L16: =K16*100/C16 -> 6.25 | M16: 42 | N16: =M16*100/C16 -> 87.5 | O16: 1 | P16: =O16*100/C16 -> 2.0833333
A17: 6 | B17: 16CĐ-ĐTCN1 | C17: =SUM(G17,I17,K17,M17,O17) -> 43 | E17: =C17-F17 -> 12 | F17: 31 | G17: 0 | H17: =G17*100/C17 -> 0 | I17: 0 | J17: =I17*100/C17 -> 0 | K17: 4 | L17: =K17*100/C17 -> 9.3023256 | M17: 37 | N17: =M17*100/C17 -> 86.046512 | O17: 2 | P17: =O17*100/C17 -> 4.6511628
A18: 7 | B18: 16CĐ-TĐH1 | C18: =SUM(G18,I18,K18,M18,O18) -> 37 | D18: 1 | E18: =C18-F18 -> 11 | F18: 26 | G18: 2 | H18: =G18*100/C18 -> 5.4054054 | I18: 1 | J18: =I18*100/C18 -> 2.7027027 | K18: 3 | L18: =K18*100/C18 -> 8.1081081 | M18: 31 | N18: =M18*100/C18 -> 83.783784 | O18: 0 | P18: =O18*100/C18 -> 0
A19: 8 | B19: 16CĐ-ĐL1 | C19: =SUM(G19,I19,K19,M19,O19) -> 43 | E19: =C19-F19 -> 13 | F19: 30 | G19: 0 | H19: =G19*100/C19 -> 0 | I19: 1 | J19: =I19*100/C19 -> 2.3255814 | K19: 2 | L19: =K19*100/C19 -> 4.6511628 | M19: 39 | N19: =M19*100/C19 -> 90.697674 | O19: 1 | P19: =O19*100/C19 -> 2.3255814
A20: 9 | B20: 16CĐ-ĐL2 | C20: =SUM(G20,I20,K20,M20,O20) -> 40 | E20: =C20-F20 -> 12 | F20: 28 | G20: 0 | H20: =G20*100/C20 -> 0 | I20: 0 | J20: =I20*100/C20 -> 0 | K20: 0 | L20: =K20*100/C20 -> 0 | M20: 38 | N20: =M20*100/C20 -> 95 | O20: 2 | P20: =O20*100/C20 -> 5
A21: 10 | B21: 16CĐ-ĐL3 | C21: =SUM(G21,I21,K21,M21,O21) -> 35 | E21: =C21-F21 -> 11 | F21: 24 | G21: 0 | H21: =G21*100/C21 -> 0 | I21: 0 | J21: =I21*100/C21 -> 0 | K21: 0 | L21: =K21*100/C21 -> 0 | M21: 30 | N21: =M21*100/C21 -> 85.714286 | O21: 5 | P21: =O21*100/C21 -> 14.285714 | Q21: Hoàng Văn Viết
A22: 11 | B22: 16CĐ-CĐ1 | C22: =SUM(G22,I22,K22,M22,O22) -> 14 | E22: =C22-F22 -> 3 | F22: 11 | G22: 0 | H22: =G22*100/C22 -> 0 | I22: 0 | J22: =I22*100/C22 -> 0 | K22: 3 | L22: =K22*100/C22 -> 21.428571 | M22: 10 | N22: =M22*100/C22 -> 71.428571 | O22: 1 | P22: =O22*100/C22 -> 7.1428571
A23: 12 | B23: 16CĐ-CĐT1 | C23: =SUM(G23,I23,K23,M23,O23) -> 11 | E23: =C23-F23 -> 2 | F23: 9 | G23: 0 | H23: =G23*100/C23 -> 0 | I23: 0 | J23: =I23*100/C23 -> 0 | K23: 2 | L23: =K23*100/C23 -> 18.181818 | M23: 9 | N23: =M23*100/C23 -> 81.818182 | O23: 0 | P23: =O23*100/C23 -> 0
A24: 13 | B24: 16CĐ-CNC1 | C24: =SUM(G24,I24,K24,M24,O24) -> 16 | E24: =C24-F24 -> 8 | F24: 8 | G24: 0 | H24: =G24*100/C24 -> 0 | I24: 0 | J24: =I24*100/C24 -> 0 | K24: 2 | L24: =K24*100/C24 -> 12.5 | M24: 14 | N24: =M24*100/C24 -> 87.5 | O24: 0 | P24: =O24*100/C24 -> 0
A25: 14 | B25: 16CĐ-CTM1 | C25: =SUM(G25,I25,K25,M25,O25) -> 44 | E25: =C25-F25 -> 24 | F25: 20 | G25: 0 | H25: =G25*100/C25 -> 0 | I25: 0 | J25: =I25*100/C25 -> 0 | K25: 3 | L25: =K25*100/C25 -> 6.8181818 | M25: 41 | N25: =M25*100/C25 -> 93.181818 | O25: 0 | P25: =O25*100/C25 -> 0
A26: 15 | B26: 16CĐ-CTM2 | C26: =SUM(G26,I26,K26,M26,O26) -> 34 | E26: =C26-F26 -> 8 | F26: 26 | G26: 0 | H26: =G26*100/C26 -> 0 | I26: 0 | J26: =I26*100/C26 -> 0 | K26: 1 | L26: =K26*100/C26 -> 2.9411765 | M26: 33 | N26: =M26*100/C26 -> 97.058824 | O26: 0 | P26: =O26*100/C26 -> 0
A27: 16 | B27: 16CĐ-CTM3 | C27: =SUM(G27,I27,K27,M27,O27) -> 39 | E27: =C27-F27 -> 10 | F27: 29 | G27: 1 | H27: =G27*100/C27 -> 2.5641026 | I27: 4 | J27: =I27*100/C27 -> 10.25641 | K27: 7 | L27: =K27*100/C27 -> 17.948718 | M27: 26 | N27: =M27*100/C27 -> 66.666667 | O27: 1 | P27: =O27*100/C27 -> 2.5641026
A28: 17 | B28: 16CĐ-CTM4 | C28: =SUM(G28,I28,K28,M28,O28) -> 51 | E28: =C28-F28 -> 18 | F28: 33 | G28: 1 | H28: =G28*100/C28 -> 1.9607843 | I28: 1 | J28: =I28*100/C28 -> 1.9607843 | K28: 4 | L28: =K28*100/C28 -> 7.8431373 | M28: 45 | N28: =M28*100/C28 -> 88.235294 | O28: 0 | P28: =O28*100/C28 -> 0
A29: 18 | B29: 16CĐ-CTM5 | C29: =SUM(G29,I29,K29,M29,O29) -> 40 | D29: 1 | E29: =C29-F29 -> 17 | F29: 23 | G29: 0 | H29: =G29*100/C29 -> 0 | I29: 4 | J29: =I29*100/C29 -> 10 | K29: 8 | L29: =K29*100/C29 -> 20 | M29: 26 | N29: =M29*100/C29 -> 65 | O29: 2 | P29: =O29*100/C29 -> 5
A30: 19 | B30: 16CĐ-Ô1 | C30: =SUM(G30,I30,K30,M30,O30) -> 46 | E30: =C30-F30 -> 22 | F30: 24 | G30: 0 | H30: =G30*100/C30 -> 0 | I30: 0 | J30: =I30*100/C30 -> 0 | K30: 4 | L30: =K30*100/C30 -> 8.6956522 | M30: 42 | N30: =M30*100/C30 -> 91.304348 | O30: 0 | P30: =O30*100/C30 -> 0
A31: 20 | B31: 16CĐ-Ô2 | C31: =SUM(G31,I31,K31,M31,O31) -> 44 | E31: =C31-F31 -> 10 | F31: 34 | G31: 0 | H31: =G31*100/C31 -> 0 | I31: 0 | J31: =I31*100/C31 -> 0 | K31: 2 | L31: =K31*100/C31 -> 4.5454545 | M31: 40 | N31: =M31*100/C31 -> 90.909091 | O31: 2 | P31: =O31*100/C31 -> 4.5454545
A32: 21 | B32: 16CĐ-Ô3 | C32: =SUM(G32,I32,K32,M32,O32) -> 43 | D32: 1 | E32: =C32-F32 -> 13 | F32: 30 | G32: 1 | H32: =G32*100/C32 -> 2.3255814 | I32: 1 | J32: =I32*100/C32 -> 2.3255814 | K32: 10 | L32: =K32*100/C32 -> 23.255814 | M32: 31 | N32: =M32*100/C32 -> 72.093023 | O32: 0 | P32: =O32*100/C32 -> 0
A33: 22 | B33: 16CĐ-Ô4 | C33: =SUM(G33,I33,K33,M33,O33) -> 46 | E33: =C33-F33 -> 21 | F33: 25 | G33: 1 | H33: =G33*100/C33 -> 2.173913 | I33: 5 | J33: =I33*100/C33 -> 10.869565 | K33: 12 | L33: =K33*100/C33 -> 26.086957 | M33: 28 | N33: =M33*100/C33 -> 60.869565 | O33: 0 | P33: =O33*100/C33 -> 0
A34: 23 | B34: 16CĐ-Ô5 | C34: =SUM(G34,I34,K34,M34,O34) -> 43 | E34: =C34-F34 -> 9 | F34: 34 | G34: 0 | H34: =G34*100/C34 -> 0 | I34: 0 | J34: =I34*100/C34 -> 0 | K34: 2 | L34: =K34*100/C34 -> 4.6511628 | M34: 41 | N34: =M34*100/C34 -> 95.348837 | O34: 0 | P34: =O34*100/C34 -> 0
A35: 24 | B35: 16CĐ-Ô6 | C35: =SUM(G35,I35,K35,M35,O35) -> 43 | E35: =C35-F35 -> 12 | F35: 31 | G35: 0 | H35: =G35*100/C35 -> 0 | I35: 0 | J35: =I35*100/C35 -> 0 | K35: 0 | L35: =K35*100/C35 -> 0 | M35: 43 | N35: =M35*100/C35 -> 100 | O35: 0 | P35: =O35*100/C35 -> 0
A36: 25 | B36: 16CĐ-Ô7 | C36: =SUM(G36,I36,K36,M36,O36) -> 44 | E36: =C36-F36 -> 11 | F36: 33 | G36: 0 | H36: =G36*100/C36 -> 0 | I36: 0 | J36: =I36*100/C36 -> 0 | K36: 6 | L36: =K36*100/C36 -> 13.636364 | M36: 36 | N36: =M36*100/C36 -> 81.818182 | O36: 2 | P36: =O36*100/C36 -> 4.5454545
A37: 26 | B37: 16CĐ-Ô8 | C37: =SUM(G37,I37,K37,M37,O37) -> 41 | E37: =C37-F37 -> 8 | F37: 33 | G37: 0 | H37: =G37*100/C37 -> 0 | I37: 0 | J37: =I37*100/C37 -> 0 | K37: 3 | L37: =K37*100/C37 -> 7.3170732 | M37: 38 | N37: =M37*100/C37 -> 92.682927 | O37: 0 | P37: =O37*100/C37 -> 0
A38: 27 | B38: 16CĐ-Ô9 | C38: =SUM(G38,I38,K38,M38,O38) -> 39 | E38: =C38-F38 -> 9 | F38: 30 | G38: 0 | H38: =G38*100/C38 -> 0 | I38: 1 | J38: =I38*100/C38 -> 2.5641026 | K38: 1 | L38: =K38*100/C38 -> 2.5641026 | M38: 37 | N38: =M38*100/C38 -> 94.871795 | O38: 0 | P38: =O38*100/C38 -> 0
A39: 28 | B39: 16CĐ-Ô10 | C39: =SUM(G39,I39,K39,M39,O39) -> 44 | E39: =C39-F39 -> 15 | F39: 29 | G39: 0 | H39: =G39*100/C39 -> 0 | I39: 0 | J39: =I39*100/C39 -> 0 | K39: 4 | L39: =K39*100/C39 -> 9.0909091 | M39: 40 | N39: =M39*100/C39 -> 90.909091 | O39: 0 | P39: =O39*100/C39 -> 0
A40: 29 | B40: 16CĐ-MTT1 | C40: =SUM(G40,I40,K40,M40,O40) -> 39 | D40: 34 | E40: =C40-F40 -> 10 | F40: 29 | G40: 1 | H40: =G40*100/C40 -> 2.5641026 | I40: 3 | J40: =I40*100/C40 -> 7.6923077 | K40: 5 | L40: =K40*100/C40 -> 12.820513 | M40: 30 | N40: =M40*100/C40 -> 76.923077 | O40: 0 | P40: =O40*100/C40 -> 0
A41: 30 | B41: 16CĐ-MTT2 | C41: =SUM(G41,I41,K41,M41,O41) -> 45 | D41: 43 | E41: =C41-F41 -> 5 | F41: 40 | G41: 2 | H41: =G41*100/C41 -> 4.4444444 | I41: 2 | J41: =I41*100/C41 -> 4.4444444 | K41: 8 | L41: =K41*100/C41 -> 17.777778 | M41: 29 | N41: =M41*100/C41 -> 64.444444 | O41: 4 | P41: =O41*100/C41 -> 8.8888889
A42: 31 | B42: 16CĐ-TP1 | C42: =SUM(G42,I42,K42,M42,O42) -> 51 | D42: 3 | E42: =C42-F42 -> 29 | F42: 22 | G42: 0 | H42: =G42*100/C42 -> 0 | I42: 0 | J42: =I42*100/C42 -> 0 | K42: 4 | L42: =K42*100/C42 -> 7.8431373 | M42: 45 | N42: =M42*100/C42 -> 88.235294 | O42: 2 | P42: =O42*100/C42 -> 3.9215686
A43: 32 | B43: 16CĐ-TM1 | C43: =SUM(G43,I43,K43,M43,O43) -> 31 | D43: 1 | E43: =C43-F43 -> 20 | F43: 11 | G43: 0 | H43: =G43*100/C43 -> 0 | I43: 0 | J43: =I43*100/C43 -> 0 | K43: 0 | L43: =K43*100/C43 -> 0 | M43: 31 | N43: =M43*100/C43 -> 100 | O43: 0 | P43: =O43*100/C43 -> 0
A44: 33 | B44: 16CĐ-TM2 | C44: =SUM(G44,I44,K44,M44,O44) -> 32 | D44: 3 | E44: =C44-F44 -> 8 | F44: 24 | G44: 0 | H44: =G44*100/C44 -> 0 | I44: 0 | J44: =I44*100/C44 -> 0 | K44: 1 | L44: =K44*100/C44 -> 3.125 | M44: 31 | N44: =M44*100/C44 -> 96.875 | O44: 0 | P44: =O44*100/C44 -> 0
A45: 34 | B45: 16CĐ-TW1 | C45: =SUM(G45,I45,K45,M45,O45) -> 45 | D45: 4 | E45: =C45-F45 -> 26 | F45: 19 | G45: 0 | H45: =G45*100/C45 -> 0 | I45: 0 | J45: =I45*100/C45 -> 0 | K45: 6 | L45: =K45*100/C45 -> 13.333333 | M45: 39 | N45: =M45*100/C45 -> 86.666667 | O45: 0 | P45: =O45*100/C45 -> 0
A46: TỔNG: 2016CĐ | C46: =SUM(C12:C45) -> 1333 | D46: =SUM(D12:D45) -> 92 | E46: =SUM(E12:E45) -> 416 | F46: =SUM(F12:F45) -> 917 | G46: =SUM(G12:G45) -> 10 | H46: =G46*100/C46 -> 0.75018755 | I46: =SUM(I12:I45) -> 25 | J46: =I46*100/C46 -> 1.8754689 | K46: =SUM(K12:K45) -> 115 | L46: =K46*100/C46 -> 8.6271568 | M46: =SUM(M12:M45) -> 1154 | N46: =M46*100/C46 -> 86.571643 | O46: =SUM(O12:O45) -> 29 | P46: =O46*100/C46 -> 2.1755439 | S46: =1339+40 -> 1379
B47: KHÓA 2017 Cao đẳng
A48: 1 | B48: 17C1-ĐCN1 | C48: =SUM(G48,I48,K48,M48,O48) -> 45 | E48: =C48-F48 -> 7 | F48: 38 | G48: 0 | H48: =G48*100/C48 -> 0 | I48: 0 | J48: =I48*100/C48 -> 0 | K48: 0 | L48: =K48*100/C48 -> 0 | M48: 42 | N48: =M48*100/C48 -> 93.333333 | O48: 3 | P48: =O48*100/C48 -> 6.6666667
A49: 2 | B49: 17C1-ĐCN2 | C49: =SUM(G49,I49,K49,M49,O49) -> 47 | E49: =C49-F49 -> 8 | F49: 39 | G49: 0 | H49: =G49*100/C49 -> 0 | I49: 0 | J49: =I49*100/C49 -> 0 | K49: 0 | L49: =K49*100/C49 -> 0 | M49: 38 | N49: =M49*100/C49 -> 80.851064 | O49: 9 | P49: =O49*100/C49 -> 19.148936 | Q49: Đỗ Huỳnh Thanh Phong
A50: 3 | B50: 17C1-ĐCN3 | C50: =SUM(G50,I50,K50,M50,O50) -> 34 | E50: =C50-F50 -> 6 | F50: 28 | G50: 1 | H50: =G50*100/C50 -> 2.9411765 | I50: 0 | J50: =I50*100/C50 -> 0 | K50: 5 | L50: =K50*100/C50 -> 14.705882 | M50: 28 | N50: =M50*100/C50 -> 82.352941 | O50: 0 | P50: =O50*100/C50 -> 0
A51: 4 | B51: 17C1-ĐCN4 | C51: =SUM(G51,I51,K51,M51,O51) -> 38 | E51: =C51-F51 -> 3 | F51: 35 | G51: 0 | H51: =G51*100/C51 -> 0 | I51: 2 | J51: =I51*100/C51 -> 5.2631579 | K51: 3 | L51: =K51*100/C51 -> 7.8947368 | M51: 31 | N51: =M51*100/C51 -> 81.578947 | O51: 2 | P51: =O51*100/C51 -> 5.2631579
A52: 5 | B52: 17C1-ĐĐT1 | C52: =SUM(G52,I52,K52,M52,O52) -> 37 | D52: 1 | E52: =C52-F52 -> 12 | F52: 25 | G52: 0 | H52: =G52*100/C52 -> 0 | I52: 0 | J52: =I52*100/C52 -> 0 | K52: 3 | L52: =K52*100/C52 -> 8.1081081 | M52: 31 | N52: =M52*100/C52 -> 83.783784 | O52: 3 | P52: =O52*100/C52 -> 8.1081081
A53: 6 | B53: 17C1-ĐĐT2 | C53: =SUM(G53,I53,K53,M53,O53) -> 39 | D53: 2 | E53: =C53-F53 -> 5 | F53: 34 | G53: 5 | H53: =G53*100/C53 -> 12.820513 | I53: 0 | J53: =I53*100/C53 -> 0 | K53: 2 | L53: =K53*100/C53 -> 5.1282051 | M53: 27 | N53: =M53*100/C53 -> 69.230769 | O53: 5 | P53: =O53*100/C53 -> 12.820513 | Q53: Võ Cường
A54: 7 | B54: 17C1-ĐĐT3 | C54: =SUM(G54,I54,K54,M54,O54) -> 28 | E54: =C54-F54 -> 3 | F54: 25 | G54: 0 | H54: =G54*100/C54 -> 0 | I54: 2 | J54: =I54*100/C54 -> 7.1428571 | K54: 2 | L54: =K54*100/C54 -> 7.1428571 | M54: 19 | N54: =M54*100/C54 -> 67.857143 | O54: 5 | P54: =O54*100/C54 -> 17.857143 | Q54: Nguyễn Hồng Đức
A55: 8 | B55: 17C1-ĐĐT4 | C55: =SUM(G55,I55,K55,M55,O55) -> 32 | D55: 1 | E55: =C55-F55 -> 8 | F55: 24 | G55: 0 | H55: =G55*100/C55 -> 0 | I55: 1 | J55: =I55*100/C55 -> 3.125 | K55: 1 | L55: =K55*100/C55 -> 3.125 | M55: 22 | N55: =M55*100/C55 -> 68.75 | O55: 8 | P55: =O55*100/C55 -> 25 | Q55: Phạm Minh nghĩa
A56: 9 | B56: 17C1-ĐTC1 | C56: =SUM(G56,I56,K56,M56,O56) -> 20 | E56: =C56-F56 -> 5 | F56: 15 | G56: 0 | H56: =G56*100/C56 -> 0 | I56: 2 | J56: =I56*100/C56 -> 10 | K56: 1 | L56: =K56*100/C56 -> 5 | M56: 16 | N56: =M56*100/C56 -> 80 | O56: 1 | P56: =O56*100/C56 -> 5
A57: 10 | B57: 17C1-CĐT1 | C57: =SUM(G57,I57,K57,M57,O57) -> 45 | E57: =C57-F57 -> 10 | F57: 35 | G57: 0 | H57: =G57*100/C57 -> 0 | I57: 0 | J57: =I57*100/C57 -> 0 | K57: 1 | L57: =K57*100/C57 -> 2.2222222 | M57: 41 | N57: =M57*100/C57 -> 91.111111 | O57: 3 | P57: =O57*100/C57 -> 6.6666667
A58: 11 | B58: 17C1-TĐH1 | C58: =SUM(G58,I58,K58,M58,O58) -> 39 | E58: =C58-F58 -> 11 | F58: 28 | G58: 1 | H58: =G58*100/C58 -> 2.5641026 | I58: 1 | J58: =I58*100/C58 -> 2.5641026 | K58: 0 | L58: =K58*100/C58 -> 0 | M58: 34 | N58: =M58*100/C58 -> 87.179487 | O58: 3 | P58: =O58*100/C58 -> 7.6923077
A59: 12 | B59: 17C1-KML1 | C59: =SUM(G59,I59,K59,M59,O59) -> 36 | D59: 1 | E59: =C59-F59 -> 10 | F59: 26 | G59: 0 | H59: =G59*100/C59 -> 0 | I59: 0 | J59: =I59*100/C59 -> 0 | K59: 1 | L59: =K59*100/C59 -> 2.7777778 | M59: 35 | N59: =M59*100/C59 -> 97.222222 | O59: 0 | P59: =O59*100/C59 -> 0
A60: 13 | B60: 17C1-KML2 | C60: =SUM(G60,I60,K60,M60,O60) -> 23 | E60: =C60-F60 -> 4 | F60: 19 | G60: 0 | H60: =G60*100/C60 -> 0 | I60: 1 | J60: =I60*100/C60 -> 4.3478261 | K60: 5 | L60: =K60*100/C60 -> 21.73913 | M60: 16 | N60: =M60*100/C60 -> 69.565217 | O60: 1 | P60: =O60*100/C60 -> 4.3478261
A61: 14 | B61: 17C1-VSL1 | C61: =SUM(G61,I61,K61,M61,O61) -> 31 | E61: =C61-F61 -> 13 | F61: 18 | G61: 0 | H61: =G61*100/C61 -> 0 | I61: 0 | J61: =I61*100/C61 -> 0 | K61: 0 | L61: =K61*100/C61 -> 0 | M61: 28 | N61: =M61*100/C61 -> 90.322581 | O61: 3 | P61: =O61*100/C61 -> 9.6774194
A62: 15 | B62: 17C1-VSL2 | C62: =SUM(G62,I62,K62,M62,O62) -> 34 | E62: =C62-F62 -> 18 | F62: 16 | G62: 0 | H62: =G62*100/C62 -> 0 | I62: 0 | J62: =I62*100/C62 -> 0 | K62: 1 | L62: =K62*100/C62 -> 2.9411765 | M62: 31 | N62: =M62*100/C62 -> 91.176471 | O62: 2 | P62: =O62*100/C62 -> 5.8823529
A63: 16 | B63: 17C1-CNL1 | C63: =SUM(G63,I63,K63,M63,O63) -> 42 | E63: =C63-F63 -> 14 | F63: 28 | G63: 0 | H63: =G63*100/C63 -> 0 | I63: 2 | J63: =I63*100/C63 -> 4.7619048 | K63: 1 | L63: =K63*100/C63 -> 2.3809524 | M63: 37 | N63: =M63*100/C63 -> 88.095238 | O63: 2 | P63: =O63*100/C63 -> 4.7619048
A64: 17 | B64: 17C1-CCK1 | C64: =SUM(G64,I64,K64,M64,O64) -> 40 | D64: 1 | E64: =C64-F64 -> 16 | F64: 24 | G64: 0 | H64: =G64*100/C64 -> 0 | I64: 0 | J64: =I64*100/C64 -> 0 | K64: 9 | L64: =K64*100/C64 -> 22.5 | M64: 30 | N64: =M64*100/C64 -> 75 | O64: 1 | P64: =O64*100/C64 -> 2.5
A65: 18 | B65: 17C1-CCK2 | C65: =SUM(G65,I65,K65,M65,O65) -> 40 | E65: =C65-F65 -> 21 | F65: 19 | G65: 0 | H65: =G65*100/C65 -> 0 | I65: 1 | J65: =I65*100/C65 -> 2.5 | K65: 2 | L65: =K65*100/C65 -> 5 | M65: 37 | N65: =M65*100/C65 -> 92.5 | O65: 0 | P65: =O65*100/C65 -> 0
A66: 19 | B66: 17C1-CCK3 | C66: =SUM(G66,I66,K66,M66,O66) -> 39 | E66: =C66-F66 -> 9 | F66: 30 | G66: 0 | H66: =G66*100/C66 -> 0 | I66: 1 | J66: =I66*100/C66 -> 2.5641026 | K66: 12 | L66: =K66*100/C66 -> 30.769231 | M66: 26 | N66: =M66*100/C66 -> 66.666667 | O66: 0 | P66: =O66*100/C66 -> 0
A67: 20 | B67: 17C1-CCK4 | C67: =SUM(G67,I67,K67,M67,O67) -> 50 | D67: 2 | E67: =C67-F67 -> 7 | F67: 43 | G67: 0 | H67: =G67*100/C67 -> 0 | I67: 3 | J67: =I67*100/C67 -> 6 | K67: 15 | L67: =K67*100/C67 -> 30 | M67: 30 | N67: =M67*100/C67 -> 60 | O67: 2 | P67: =O67*100/C67 -> 4
A68: 21 | B68: 17C1-CCK5 | C68: =SUM(G68,I68,K68,M68,O68) -> 30 | E68: =C68-F68 -> 8 | F68: 22 | G68: 0 | H68: =G68*100/C68 -> 0 | I68: 1 | J68: =I68*100/C68 -> 3.3333333 | K68: 1 | L68: =K68*100/C68 -> 3.3333333 | M68: 27 | N68: =M68*100/C68 -> 90 | O68: 1 | P68: =O68*100/C68 -> 3.3333333
A69: 22 | B69: 17C1-CCK6 | C69: =SUM(G69,I69,K69,M69,O69) -> 37 | E69: =C69-F69 -> 5 | F69: 32 | G69: 0 | H69: =G69*100/C69 -> 0 | I69: 1 | J69: =I69*100/C69 -> 2.7027027 | K69: 3 | L69: =K69*100/C69 -> 8.1081081 | M69: 29 | N69: =M69*100/C69 -> 78.378378 | O69: 4 | P69: =O69*100/C69 -> 10.810811 | Q69: Hà Nhật Thanh
A70: 23 | B70: 17C1-CCK7 | C70: =SUM(G70,I70,K70,M70,O70) -> 43 | E70: =C70-F70 -> 9 | F70: 34 | G70: 0 | H70: =G70*100/C70 -> 0 | I70: 1 | J70: =I70*100/C70 -> 2.3255814 | K70: 4 | L70: =K70*100/C70 -> 9.3023256 | M70: 36 | N70: =M70*100/C70 -> 83.72093 | O70: 2 | P70: =O70*100/C70 -> 4.6511628
A71: 24 | B71: 17C1-CCK8 | C71: =SUM(G71,I71,K71,M71,O71) -> 31 | E71: =C71-F71 -> 5 | F71: 26 | G71: 0 | H71: =G71*100/C71 -> 0 | I71: 0 | J71: =I71*100/C71 -> 0 | K71: 4 | L71: =K71*100/C71 -> 12.903226 | M71: 26 | N71: =M71*100/C71 -> 83.870968 | O71: 1 | P71: =O71*100/C71 -> 3.2258065
A72: 25 | B72: 17C1-CTM1 | C72: =SUM(G72,I72,K72,M72,O72) -> 37 | E72: =C72-F72 -> 7 | F72: 30 | G72: 3 | H72: =G72*100/C72 -> 8.1081081 | I72: 3 | J72: =I72*100/C72 -> 8.1081081 | K72: 2 | L72: =K72*100/C72 -> 5.4054054 | M72: 29 | N72: =M72*100/C72 -> 78.378378 | O72: 0 | P72: =O72*100/C72 -> 0
A73: 26 | B73: 17C1-CTM2 | C73: =SUM(G73,I73,K73,M73,O73) -> 36 | E73: =C73-F73 -> 3 | F73: 33 | G73: 0 | H73: =G73*100/C73 -> 0 | I73: 0 | J73: =I73*100/C73 -> 0 | K73: 2 | L73: =K73*100/C73 -> 5.5555556 | M73: 34 | N73: =M73*100/C73 -> 94.444444 | O73: 0 | P73: =O73*100/C73 -> 0
A74: 27 | B74: 17C1-CKL1 | C74: =SUM(G74,I74,K74,M74,O74) -> 10 | E74: =C74-F74 -> 1 | F74: 9 | G74: 0 | H74: =G74*100/C74 -> 0 | I74: 0 | J74: =I74*100/C74 -> 0 | K74: 3 | L74: =K74*100/C74 -> 30 | M74: 7 | N74: =M74*100/C74 -> 70 | O74: 0 | P74: =O74*100/C74 -> 0
A75: 28 | B75: 17C1-BCN1 | C75: =SUM(G75,I75,K75,M75,O75) -> 24 | E75: =C75-F75 -> 5 | F75: 19 | G75: 2 | H75: =G75*100/C75 -> 8.3333333 | I75: 1 | J75: =I75*100/C75 -> 4.1666667 | K75: 3 | L75: =K75*100/C75 -> 12.5 | M75: 17 | N75: =M75*100/C75 -> 70.833333 | O75: 1 | P75: =O75*100/C75 -> 4.1666667
A76: 29 | B76: 17C1-CNÔ1 | C76: =SUM(G76,I76,K76,M76,O76) -> 48 | E76: =C76-F76 -> 17 | F76: 31 | G76: 2 | H76: =G76*100/C76 -> 4.1666667 | I76: 2 | J76: =I76*100/C76 -> 4.1666667 | K76: 11 | L76: =K76*100/C76 -> 22.916667 | M76: 33 | N76: =M76*100/C76 -> 68.75 | O76: 0 | P76: =O76*100/C76 -> 0
A77: 30 | B77: 17C1-CNÔ2 | C77: =SUM(G77,I77,K77,M77,O77) -> 43 | E77: =C77-F77 -> 9 | F77: 34 | G77: 1 | H77: =G77*100/C77 -> 2.3255814 | I77: 1 | J77: =I77*100/C77 -> 2.3255814 | K77: 5 | L77: =K77*100/C77 -> 11.627907 | M77: 36 | N77: =M77*100/C77 -> 83.72093 | O77: 0 | P77: =O77*100/C77 -> 0
A78: 31 | B78: 17C1-CNÔ3 | C78: =SUM(G78,I78,K78,M78,O78) -> 47 | E78: =C78-F78 -> 17 | F78: 30 | G78: 1 | H78: =G78*100/C78 -> 2.1276596 | I78: 9 | J78: =I78*100/C78 -> 19.148936 | K78: 18 | L78: =K78*100/C78 -> 38.297872 | M78: 18 | N78: =M78*100/C78 -> 38.297872 | O78: 1 | P78: =O78*100/C78 -> 2.1276596
A79: 32 | B79: 17C1-CNÔ4 | C79: =SUM(G79,I79,K79,M79,O79) -> 43 | D79: 1 | E79: =C79-F79 -> 12 | F79: 31 | G79: 0 | H79: =G79*100/C79 -> 0 | I79: 1 | J79: =I79*100/C79 -> 2.3255814 | K79: 6 | L79: =K79*100/C79 -> 13.953488 | M79: 36 | N79: =M79*100/C79 -> 83.72093 | O79: 0 | P79: =O79*100/C79 -> 0
A80: 33 | B80: 17C1-CNÔ5 | C80: =SUM(G80,I80,K80,M80,O80) -> 38 | E80: =C80-F80 -> 13 | F80: 25 | G80: 0 | H80: =G80*100/C80 -> 0 | I80: 0 | J80: =I80*100/C80 -> 0 | K80: 6 | L80: =K80*100/C80 -> 15.789474 | M80: 31 | N80: =M80*100/C80 -> 81.578947 | O80: 1 | P80: =O80*100/C80 -> 2.6315789
A81: 34 | B81: 17C1-CNÔ6 | C81: =SUM(G81,I81,K81,M81,O81) -> 39 | E81: =C81-F81 -> 14 | F81: 25 | G81: 0 | H81: =G81*100/C81 -> 0 | I81: 1 | J81: =I81*100/C81 -> 2.5641026 | K81: 7 | L81: =K81*100/C81 -> 17.948718 | M81: 31 | N81: =M81*100/C81 -> 79.487179 | O81: 0 | P81: =O81*100/C81 -> 0
A82: 35 | B82: 17C1-CNÔ7 | C82: =SUM(G82,I82,K82,M82,O82) -> 45 | D82: 4 | E82: =C82-F82 -> 15 | F82: 30 | G82: 0 | H82: =G82*100/C82 -> 0 | I82: 1 | J82: =I82*100/C82 -> 2.2222222 | K82: 4 | L82: =K82*100/C82 -> 8.8888889 | M82: 37 | N82: =M82*100/C82 -> 82.222222 | O82: 3 | P82: =O82*100/C82 -> 6.6666667
A83: 36 | B83: 17C1-CNÔ8 | C83: =SUM(G83,I83,K83,M83,O83) -> 37 | E83: =C83-F83 -> 16 | F83: 21 | G83: 0 | H83: =G83*100/C83 -> 0 | I83: 2 | J83: =I83*100/C83 -> 5.4054054 | K83: 5 | L83: =K83*100/C83 -> 13.513514 | M83: 30 | N83: =M83*100/C83 -> 81.081081 | O83: 0 | P83: =O83*100/C83 -> 0
A84: 37 | B84: 17C1-CNÔ9 | C84: =SUM(G84,I84,K84,M84,O84) -> 39 | E84: =C84-F84 -> 8 | F84: 31 | G84: 2 | H84: =G84*100/C84 -> 5.1282051 | I84: 1 | J84: =I84*100/C84 -> 2.5641026 | K84: 4 | L84: =K84*100/C84 -> 10.25641 | M84: 31 | N84: =M84*100/C84 -> 79.487179 | O84: 1 | P84: =O84*100/C84 -> 2.5641026
A85: 38 | B85: 17C1-CNÔ10 | C85: =SUM(G85,I85,K85,M85,O85) -> 39 | E85: =C85-F85 -> 12 | F85: 27 | G85: 0 | H85: =G85*100/C85 -> 0 | I85: 1 | J85: =I85*100/C85 -> 2.5641026 | K85: 4 | L85: =K85*100/C85 -> 10.25641 | M85: 34 | N85: =M85*100/C85 -> 87.179487 | O85: 0 | P85: =O85*100/C85 -> 0
A86: 39 | B86: 17C1-CNÔ11 | C86: =SUM(G86,I86,K86,M86,O86) -> 37 | E86: =C86-F86 -> 9 | F86: 28 | G86: 0 | H86: =G86*100/C86 -> 0 | I86: 1 | J86: =I86*100/C86 -> 2.7027027 | K86: 2 | L86: =K86*100/C86 -> 5.4054054 | M86: 33 | N86: =M86*100/C86 -> 89.189189 | O86: 1 | P86: =O86*100/C86 -> 2.7027027
A87: 40 | B87: 17C1-CNÔ12 | C87: =SUM(G87,I87,K87,M87,O87) -> 43 | E87: =C87-F87 -> 13 | F87: 30 | G87: 0 | H87: =G87*100/C87 -> 0 | I87: 3 | J87: =I87*100/C87 -> 6.9767442 | K87: 1 | L87: =K87*100/C87 -> 2.3255814 | M87: 39 | N87: =M87*100/C87 -> 90.697674 | O87: 0 | P87: =O87*100/C87 -> 0
A88: 41 | B88: 17C1-CNÔ13 | C88: =SUM(G88,I88,K88,M88,O88) -> 39 | D88: 1 | E88: =C88-F88 -> 5 | F88: 34 | G88: 1 | H88: =G88*100/C88 -> 2.5641026 | I88: 1 | J88: =I88*100/C88 -> 2.5641026 | K88: 6 | L88: =K88*100/C88 -> 15.384615 | M88: 30 | N88: =M88*100/C88 -> 76.923077 | O88: 1 | P88: =O88*100/C88 -> 2.5641026
A89: 42 | B89: 17C1-CNÔ14 | C89: =SUM(G89,I89,K89,M89,O89) -> 35 | E89: =C89-F89 -> 11 | F89: 24 | G89: 0 | H89: =G89*100/C89 -> 0 | I89: 4 | J89: =I89*100/C89 -> 11.428571 | K89: 5 | L89: =K89*100/C89 -> 14.285714 | M89: 26 | N89: =M89*100/C89 -> 74.285714 | O89: 0 | P89: =O89*100/C89 -> 0
A90: 43 | B90: 17C1-CNM1 | C90: =SUM(G90,I90,K90,M90,O90) -> 34 | D90: 32 | E90: =C90-F90 -> 9 | F90: 25 | G90: 6 | H90: =G90*100/C90 -> 17.647059 | I90: 4 | J90: =I90*100/C90 -> 11.764706 | K90: 7 | L90: =K90*100/C90 -> 20.588235 | M90: 17 | N90: =M90*100/C90 -> 50 | O90: 0 | P90: =O90*100/C90 -> 0
A91: 44 | B91: 17C1-CNM2 | C91: =SUM(G91,I91,K91,M91,O91) -> 42 | D91: 41 | E91: =C91-F91 -> 8 | F91: 34 | G91: 4 | H91: =G91*100/C91 -> 9.5238095 | I91: 6 | J91: =I91*100/C91 -> 14.285714 | K91: 26 | L91: =K91*100/C91 -> 61.904762 | M91: 5 | N91: =M91*100/C91 -> 11.904762 | O91: 1 | P91: =O91*100/C91 -> 2.3809524
A92: 45 | B92: 17C1-ANM1 | C92: =SUM(G92,I92,K92,M92,O92) -> 16 | E92: =C92-F92 -> 11 | F92: 5 | G92: 0 | H92: =G92*100/C92 -> 0 | I92: 0 | J92: =I92*100/C92 -> 0 | K92: 1 | L92: =K92*100/C92 -> 6.25 | M92: 12 | N92: =M92*100/C92 -> 75 | O92: 3 | P92: =O92*100/C92 -> 18.75 | Q92: Nguyễn Văn Đôn
A93: 46 | B93: 17C1-CMT1 | C93: =SUM(G93,I93,K93,M93,O93) -> 50 | D93: 1 | E93: =C93-F93 -> 21 | F93: 29 | G93: 0 | H93: =G93*100/C93 -> 0 | I93: 0 | J93: =I93*100/C93 -> 0 | K93: 4 | L93: =K93*100/C93 -> 8 | M93: 45 | N93: =M93*100/C93 -> 90 | O93: 1 | P93: =O93*100/C93 -> 2
A94: 47 | B94: 17C1-TKW1 | C94: =SUM(G94,I94,K94,M94,O94) -> 16 | D94: 1 | E94: =C94-F94 -> 9 | F94: 7 | G94: 0 | H94: =G94*100/C94 -> 0 | I94: 0 | J94: =I94*100/C94 -> 0 | K94: 0 | L94: =K94*100/C94 -> 0 | M94: 15 | N94: =M94*100/C94 -> 93.75 | O94: 1 | P94: =O94*100/C94 -> 6.25
A95: 48 | B95: 17C1-THU1 | C95: =SUM(G95,I95,K95,M95,O95) -> 19 | D95: 1 | E95: =C95-F95 -> 6 | F95: 13 | G95: 0 | H95: =G95*100/C95 -> 0 | I95: 0 | J95: =I95*100/C95 -> 0 | K95: 3 | L95: =K95*100/C95 -> 15.789474 | M95: 15 | N95: =M95*100/C95 -> 78.947368 | O95: 1 | P95: =O95*100/C95 -> 5.2631579
A96: 49 | B96: 17C1-LTM1 | C96: =SUM(G96,I96,K96,M96,O96) -> 20 | D96: 1 | E96: =C96-F96 -> 6 | F96: 14 | G96: 0 | H96: =G96*100/C96 -> 0 | I96: 0 | J96: =I96*100/C96 -> 0 | K96: 4 | L96: =K96*100/C96 -> 20 | M96: 15 | N96: =M96*100/C96 -> 75 | O96: 1 | P96: =O96*100/C96 -> 5
A97: 50 | B97: 17C1-LTM2 | C97: =SUM(G97,I97,K97,M97,O97) -> 29 | D97: 3 | E97: =C97-F97 -> 12 | F97: 17 | G97: 0 | H97: =G97*100/C97 -> 0 | I97: 0 | J97: =I97*100/C97 -> 0 | K97: 4 | L97: =K97*100/C97 -> 13.793103 | M97: 24 | N97: =M97*100/C97 -> 82.758621 | O97: 1 | P97: =O97*100/C97 -> 3.4482759
A98: 51 | B98: 17C1-QTM1 | C98: =SUM(G98,I98,K98,M98,O98) -> 27 | D98: 4 | E98: =C98-F98 -> 12 | F98: 15 | G98: 0 | H98: =G98*100/C98 -> 0 | I98: 0 | J98: =I98*100/C98 -> 0 | K98: 1 | L98: =K98*100/C98 -> 3.7037037 | M98: 25 | N98: =M98*100/C98 -> 92.592593 | O98: 1 | P98: =O98*100/C98 -> 3.7037037
A99: 52 | B99: 17C1-KTD1 | C99: =SUM(G99,I99,K99,M99,O99) -> 45 | D99: 34 | E99: =C99-F99 -> 24 | F99: 21 | G99: 0 | H99: =G99*100/C99 -> 0 | I99: 2 | J99: =I99*100/C99 -> 4.4444444 | K99: 4 | L99: =K99*100/C99 -> 8.8888889 | M99: 35 | N99: =M99*100/C99 -> 77.777778 | O99: 4 | P99: =O99*100/C99 -> 8.8888889
A100: 53 | B100: 17C1-QTD1 | C100: =SUM(G100,I100,K100,M100,O100) -> 37 | D100: 19 | E100: =C100-F100 -> 19 | F100: 18 | G100: 2 | H100: =G100*100/C100 -> 5.4054054 | I100: 2 | J100: =I100*100/C100 -> 5.4054054 | K100: 5 | L100: =K100*100/C100 -> 13.513514 | M100: 25 | N100: =M100*100/C100 -> 67.567568 | O100: 3 | P100: =O100*100/C100 -> 8.1081081
A101: 54 | B101: 17C1-NNA1 | C101: =SUM(G101,I101,K101,M101,O101) -> 36 | D101: 27 | E101: =C101-F101 -> 18 | F101: 18 | G101: 0 | H101: =G101*100/C101 -> 0 | I101: 2 | J101: =I101*100/C101 -> 5.5555556 | K101: 7 | L101: =K101*100/C101 -> 19.444444 | M101: 27 | N101: =M101*100/C101 -> 75 | O101: 0 | P101: =O101*100/C101 -> 0
A102: TỔNG: 2017C1 | C102: =SUM(C48:C101) -> 1930 | D102: =SUM(D48:D101) -> 178 | E102: =SUM(E48:E101) -> 559 | F102: =SUM(F48:F101) -> 1371 | G102: =SUM(G48:G101) -> 31 | H102: =G102*100/C102 -> 1.6062176 | I102: =SUM(I48:I101) -> 67 | J102: =I102*100/C102 -> 3.4715026 | K102: =SUM(K48:K101) -> 236 | L102: =K102*100/C102 -> 12.227979 | M102: =SUM(M48:M101) -> 1509 | N102: =M102*100/C102 -> 78.186528 | O102: =SUM(O48:O101) -> 87 | P102: =O102*100/C102 -> 4.507772 | S102: =1943+112 -> 2055
...

Sheet RL.NH_LTCĐ
A1: UBND THÀNH PHỐ HỒ CHÍ MINH | K1: CỘNG HÒA XÃ HỘI CHỦ NGHĨA VIỆT NAM
A2: TRƯỜNG CAO ĐẲNG LÝ TỰ TRỌNG | K2: Độc lập - Tự do - Hạnh phúc
A3: THÀNH PHỐ HỒ CHÍ MINH
A5: THỐNG KÊ KẾT QUẢ RÈN LUYỆN NĂM HỌC 2018-2019
A6: Bậc đào tạo: Trung cấp Chính quy 1 năm, 1N3, 3 năm (Liên kết đào tạo)
A8: S TT | B8: LỚP | C8: SĨ SỐ | G8: KẾT QUẢ RÈN LUYỆN | Q8: GHI CHÚ
C9: TỔNG | D9: NỮ | E9: A | F9: B | G9: Xuất sắc | I9: Tốt | K9: Khá | M9: Trung Bình | O9: Yếu
G10: SL | H10: % | I10: SL | J10: % | K10: SL | L10: % | M10: SL | N10: % | O10: SL | P10: %
A11: 1 | B11: 18T5-ĐCN1 | C11: =SUM(G11,I11,K11,M11,O11) -> 23 | D11: 1 | E11: =C11-F11 -> 22 | F11: 1 | G11: 0 | H11: =G11*100/C11 -> 0 | I11: 0 | J11: =I11*100/C11 -> 0 | K11: 16 | L11: =K11*100/C11 -> 69.565217 | M11: 5 | N11: =M11*100/C11 -> 21.73913 | O11: 2 | P11: =O11*100/C11 -> 8.6956522
A12: 2 | B12: 18T6-ĐCN1 | C12: =SUM(G12,I12,K12,M12,O12) -> 12 | D12: 1 | E12: =C12-F12 -> 12 | F12: 0 | G12: 0 | H12: =G12*100/C12 -> 0 | I12: 0 | J12: =I12*100/C12 -> 0 | K12: 7 | L12: =K12*100/C12 -> 58.333333 | M12: 5 | N12: =M12*100/C12 -> 41.666667 | O12: 0 | P12: =O12*100/C12 -> 0
A13: 3 | B13: 18T7-ĐCN1 | C13: =SUM(G13,I13,K13,M13,O13) -> 39 | D13: 2 | E13: =C13-F13 -> 38 | F13: 1 | G13: 0 | H13: =G13*100/C13 -> 0 | I13: 11 | J13: =I13*100/C13 -> 28.205128 | K13: 27 | L13: =K13*100/C13 -> 69.230769 | M13: 0 | N13: =M13*100/C13 -> 0 | O13: 1 | P13: =O13*100/C13 -> 2.5641026
A14: TỔNG: TRUNG CẤP | C14: =SUM(C11:C13) -> 74 | D14: =SUM(D11:D13) -> 4 | E14: =SUM(E11:E13) -> 72 | F14: =SUM(F11:F13) -> 2 | G14: =SUM(G11:G13) -> 0 | H14: =G14*100/C14 -> 0 | I14: =SUM(I11:I13) -> 11 | J14: =I14*100/C14 -> 14.864865 | K14: =SUM(K11:K13) -> 50 | L14: =K14*100/C14 -> 67.567568 | M14: =SUM(M11:M13) -> 10 | N14: =M14*100/C14 -> 13.513514 | O14: =SUM(O11:O13) -> 3 | P14: =O14*100/C14 -> 4.0540541
L16: Thành phố Hồ Chí Minh, ngày tháng 8 năm 2019
L17: KT. HIỆU TRƯỞNG
A18: P.TRƯỞNG PHÒNG CTCT - HSSV | L18: PHÓ HIỆU TRƯỞNG
A23: Lê Xuân Thiện | L23: Đinh Hồng Minh
A25: Từ TB trở lên | C25: =SUM(G14,I14,K14,M14) -> 71 | D25: =C25*100/C14 -> 95.945946
A26: Yếu | C26: =O14 -> 3 | D26: =C26*100/C14 -> 4.0540541
A27: UBND THÀNH PHỐ HỒ CHÍ MINH | K27: CỘNG HÒA XÃ HỘI CHỦ NGHĨA VIỆT NAM
A28: TRƯỜNG CAO ĐẲNG LÝ TỰ TRỌNG | K28: Độc lập - Tự do - Hạnh phúc
A29: THÀNH PHỐ HỒ CHÍ MINH
A31: THỐNG KÊ KẾT QUẢ RÈN LUYỆN NĂM HỌC 2018-2019
A32: Bậc đào tạo: Liên thông Cao đẳng
A34: S TT | B34: LỚP | C34: SĨ SỐ | G34: KẾT QUẢ RÈN LUYỆN | Q34: GHI CHÚ
C35: TỔNG | D35: NỮ | E35: A | F35: B | G35: Xuất sắc | I35: Tốt | K35: Khá | M35: Trung bình | O35: Yếu
G36: SL | H36: % | I36: SL | J36: % | K36: SL | L36: % | M36: SL | N36: % | O36: SL | P36: %
A37: 1 | B37: 18C2-ĐĐT1 | C37: =SUM(G37,I37,K37,M37,O37) -> 72 | E37: =C37-F37 -> 38 | F37: 34 | G37: 0 | H37: =G37*100/C37 -> 0 | I37: 0 | J37: =I37*100/C37 -> 0 | K37: 6 | L37: =K37*100/C37 -> 8.3333333 | M37: 32 | N37: =M37*100/C37 -> 44.444444 | O37: 34 | P37: =O37*100/C37 -> 47.222222 | Q37: Nguyễn Ngọc Trang
A38: 2 | B38: 18C2-CNÔ1 | C38: =SUM(G38,I38,K38,M38,O38) -> 42 | E38: =C38-F38 -> 24 | F38: 18 | G38: 0 | H38: =G38*100/C38 -> 0 | I38: 0 | J38: =I38*100/C38 -> 0 | K38: 11 | L38: =K38*100/C38 -> 26.190476 | M38: 29 | N38: =M38*100/C38 -> 69.047619 | O38: 2 | P38: =O38*100/C38 -> 4.7619048
A39: 3 | B39: 18C2-QTM1 | C39: =SUM(G39,I39,K39,M39,O39) -> 43 | D39: 2 | E39: =C39-F39 -> 34 | F39: 9 | G39: 0 | H39: =G39*100/C39 -> 0 | I39: 3 | J39: =I39*100/C39 -> 6.9767442 | K39: 13 | L39: =K39*100/C39 -> 30.232558 | M39: 16 | N39: =M39*100/C39 -> 37.209302 | O39: 11 | P39: =O39*100/C39 -> 25.581395 | Q39: Nguyễn Thị Khánh Thư
A40: 4 | B40: 18C2-KTD1 | C40: =SUM(G40,I40,K40,M40,O40) -> 13 | D40: 10 | E40: =C40-F40 -> 13 | F40: 0 | G40: 1 | H40: =G40*100/C40 -> 7.6923077 | I40: 0 | J40: =I40*100/C40 -> 0 | K40: 5 | L40: =K40*100/C40 -> 38.461538 | M40: 7 | N40: =M40*100/C40 -> 53.846154 | O40: 0 | P40: =O40*100/C40 -> 0
B41: 18C2-CNL1 | C41: =SUM(G41,I41,K41,M41,O41) -> 17 | E41: =C41-F41 -> 10 | F41: 7 | G41: 0 | H41: =G41*100/C41 -> 0 | I41: 3 | J41: =I41*100/C41 -> 17.647059 | K41: 10 | L41: =K41*100/C41 -> 58.823529 | M41: 2 | N41: =M41*100/C41 -> 11.764706 | O41: 2 | P41: =O41*100/C41 -> 11.764706 | Q41: Cao Xuân Giang
A42: 5 | B42: 18C2-CCK1 | C42: =SUM(G42,I42,K42,M42,O42) -> 16 | E42: =C42-F42 -> 9 | F42: 7 | G42: 0 | H42: =G42*100/C42 -> 0 | I42: 0 | J42: =I42*100/C42 -> 0 | K42: 3 | L42: =K42*100/C42 -> 18.75 | M42: 11 | N42: =M42*100/C42 -> 68.75 | O42: 2 | P42: =O42*100/C42 -> 12.5 | Q42: Bùi Thị Ngọc Sương
B43: 18C2-CNM1 | C43: =SUM(G43,I43,K43,M43,O43) -> 8 | D43: 6 | E43: =C43-F43 -> 5 | F43: 3 | G43: 0 | H43: =G43*100/C43 -> 0 | I43: 5 | J43: =I43*100/C43 -> 62.5 | K43: 3 | L43: =K43*100/C43 -> 37.5 | M43: 0 | N43: =M43*100/C43 -> 0 | O43: 0 | P43: =O43*100/C43 -> 0
A44: TỔNG BẬC LTCĐ | C44: =SUM(C37:C43) -> 211 | D44: =SUM(D37:D43) -> 18 | E44: =SUM(E37:E43) -> 133 | F44: =SUM(F37:F43) -> 78 | G44: =SUM(G37:G43) -> 1 | H44: =G44*100/C44 -> 0.47393365 | I44: =SUM(I37:I43) -> 11 | J44: =I44*100/C44 -> 5.2132701 | K44: =SUM(K37:K43) -> 51 | L44: =K44*100/C44 -> 24.170616 | M44: =SUM(M37:M43) -> 97 | N44: =M44*100/C44 -> 45.971564 | O44: =SUM(O37:O43) -> 51 | P44: =O44*100/C44 -> 24.170616
L46: Thành phố Hồ Chí Minh, ngày tháng 8 năm 2019
L47: KT. HIỆU TRƯỞNG
A48: P.TRƯỞNG PHÒNG CTCT - HSSV | L48: PHÓ HIỆU TRƯỞNG
A53: Lê Xuân Thiện | L53: Đinh Hồng Minh
A54: Từ TB trở lên | C54: =SUM(G44,I44,K44,M44) -> 160 | D54: =C54*100/C44 -> 75.829384
A55: Yếu | C55: =O44 -> 51 | D55: =C55*100/C44 -> 24.170616

Sheet RL.NH_NGÀNH
A1: UBND THÀNH PHỐ HỒ CHÍ MINH | K1: CỘNG HÒA XÃ HỘI CHỦ NGHĨA VIỆT NAM
A2: TRƯỜNG CAO ĐẲNG LÝ TỰ TRỌNG | K2: Độc lập - Tự do - Hạnh phúc
A3: THÀNH PHỐ HỒ CHÍ MINH
A5: THỐNG KÊ KẾT QUẢ RÈN LUYỆN NĂM HỌC 2018-2019
A6: Khoa: Điện - Điện tử
A8: S TT | B8: LỚP | C8: SĨ SỐ | G8: KẾT QUẢ RÈN LUYỆN | Q8: GHI CHÚ (Không xếp loại)
C9: TỔNG | D9: NỮ | E9: A | F9: B | G9: Xuất sắc | I9: Tốt | K9: Khá | M9: Trung Bình | O9: Yếu
G10: SL | H10: % | I10: SL | J10: % | K10: SL | L10: % | M10: SL | N10: % | O10: SL | P10: %
B11: Cao đẳng
A12: Ngành: Điện công nghiệp
A13: 1 | B13: 16CĐ-ĐCN1 | C13: =SUM(G13,I13,K13,M13,O13) -> 46 | E13: =C13-F13 -> 6 | F13: 40 | G13: 1 | H13: =G13*100/C13 -> 2.173913 | I13: 0 | J13: =I13*100/C13 -> 0 | K13: 0 | L13: =K13*100/C13 -> 0 | M13: 44 | N13: =M13*100/C13 -> 95.652174 | O13: 1 | P13: =O13*100/C13 -> 2.173913
A14: 2 | B14: 16CĐ-ĐCN2 | C14: =SUM(G14,I14,K14,M14,O14) -> 41 | D14: 1 | E14: =C14-F14 -> 9 | F14: 32 | G14: 0 | H14: =G14*100/C14 -> 0 | I14: 0 | J14: =I14*100/C14 -> 0 | K14: 2 | L14: =K14*100/C14 -> 4.8780488 | M14: 37 | N14: =M14*100/C14 -> 90.243902 | O14: 2 | P14: =O14*100/C14 -> 4.8780488
A15: 3 | B15: 16CĐ-ĐCN3 | C15: =SUM(G15,I15,K15,M15,O15) -> 35 | E15: =C15-F15 -> 5 | F15: 30 | G15: 0 | H15: =G15*100/C15 -> 0 | I15: 0 | J15: =I15*100/C15 -> 0 | K15: 0 | L15: =K15*100/C15 -> 0 | M15: 35 | N15: =M15*100/C15 -> 100 | O15: 0 | P15: =O15*100/C15 -> 0
A16: 4 | B16: 16CĐ-ĐCN4 | C16: =SUM(G16,I16,K16,M16,O16) -> 40 | E16: =C16-F16 -> 10 | F16: 30 | G16: 0 | H16: =G16*100/C16 -> 0 | I16: 0 | J16: =I16*100/C16 -> 0 | K16: 3 | L16: =K16*100/C16 -> 7.5 | M16: 36 | N16: =M16*100/C16 -> 90 | O16: 1 | P16: =O16*100/C16 -> 2.5
A17: 5 | B17: 16CĐ-ĐCN5 | C17: =SUM(G17,I17,K17,M17,O17) -> 48 | E17: =C17-F17 -> 9 | F17: 39 | G17: 0 | H17: =G17*100/C17 -> 0 | I17: 2 | J17: =I17*100/C17 -> 4.1666667 | K17: 3 | L17: =K17*100/C17 -> 6.25 | M17: 42 | N17: =M17*100/C17 -> 87.5 | O17: 1 | P17: =O17*100/C17 -> 2.0833333
A18: 6 | B18: 17C1-ĐCN1 | C18: =SUM(G18,I18,K18,M18,O18) -> 45 | E18: =C18-F18 -> 7 | F18: 38 | G18: 0 | H18: =G18*100/C18 -> 0 | I18: 0 | J18: =I18*100/C18 -> 0 | K18: 0 | L18: =K18*100/C18 -> 0 | M18: 42 | N18: =M18*100/C18 -> 93.333333 | O18: 3 | P18: =O18*100/C18 -> 6.6666667
A19: 7 | B19: 17C1-ĐCN2 | C19: =SUM(G19,I19,K19,M19,O19) -> 47 | E19: =C19-F19 -> 8 | F19: 39 | G19: 0 | H19: =G19*100/C19 -> 0 | I19: 0 | J19: =I19*100/C19 -> 0 | K19: 0 | L19: =K19*100/C19 -> 0 | M19: 38 | N19: =M19*100/C19 -> 80.851064 | O19: 9 | P19: =O19*100/C19 -> 19.148936
A20: 8 | B20: 17C1-ĐCN3 | C20: =SUM(G20,I20,K20,M20,O20) -> 34 | E20: =C20-F20 -> 6 | F20: 28 | G20: 1 | H20: =G20*100/C20 -> 2.9411765 | I20: 0 | J20: =I20*100/C20 -> 0 | K20: 5 | L20: =K20*100/C20 -> 14.705882 | M20: 28 | N20: =M20*100/C20 -> 82.352941 | O20: 0 | P20: =O20*100/C20 -> 0
A21: 9 | B21: 17C1-ĐCN4 | C21: =SUM(G21,I21,K21,M21,O21) -> 38 | E21: =C21-F21 -> 3 | F21: 35 | G21: 0 | H21: =G21*100/C21 -> 0 | I21: 2 | J21: =I21*100/C21 -> 5.2631579 | K21: 3 | L21: =K21*100/C21 -> 7.8947368 | M21: 31 | N21: =M21*100/C21 -> 81.578947 | O21: 2 | P21: =O21*100/C21 -> 5.2631579
A22: 10 | B22: 18C1-ĐCN1 | C22: =SUM(G22,I22,K22,M22,O22) -> 43 | E22: =C22-F22 -> 10 | F22: 33 | G22: 0 | H22: =G22*100/C22 -> 0 | I22: 2 | J22: =I22*100/C22 -> 4.6511628 | K22: 4 | L22: =K22*100/C22 -> 9.3023256 | M22: 37 | N22: =M22*100/C22 -> 86.046512 | O22: 0 | P22: =O22*100/C22 -> 0
A23: 11 | B23: 18C1-ĐCN2 | C23: =SUM(G23,I23,K23,M23,O23) -> 50 | E23: =C23-F23 -> 9 | F23: 41 | G23: 0 | H23: =G23*100/C23 -> 0 | I23: 2 | J23: =I23*100/C23 -> 4 | K23: 2 | L23: =K23*100/C23 -> 4 | M23: 46 | N23: =M23*100/C23 -> 92 | O23: 0 | P23: =O23*100/C23 -> 0
A24: 12 | B24: 18C1-ĐCN3 | C24: =SUM(G24,I24,K24,M24,O24) -> 38 | E24: =C24-F24 -> 2 | F24: 36 | G24: 0 | H24: =G24*100/C24 -> 0 | I24: 3 | J24: =I24*100/C24 -> 7.8947368 | K24: 7 | L24: =K24*100/C24 -> 18.421053 | M24: 27 | N24: =M24*100/C24 -> 71.052632 | O24: 1 | P24: =O24*100/C24 -> 2.6315789
A25: 13 | B25: 18C1-ĐCN4 | C25: =SUM(G25,I25,K25,M25,O25) -> 51 | E25: =C25-F25 -> 10 | F25: 41 | G25: 0 | H25: =G25*100/C25 -> 0 | I25: 1 | J25: =I25*100/C25 -> 1.9607843 | K25: 5 | L25: =K25*100/C25 -> 9.8039216 | M25: 45 | N25: =M25*100/C25 -> 88.235294 | O25: 0 | P25: =O25*100/C25 -> 0
A26: CỘNG 13 Lớp | C26: =SUM(C13:C25) -> 556 | D26: =SUM(D13:D25) -> 1 | E26: =SUM(E13:E25) -> 94 | F26: =SUM(F13:F25) -> 462 | G26: =SUM(G13:G25) -> 2 | H26: =G26*100/C26 -> 0.35971223 | I26: =SUM(I13:I25) -> 12 | J26: =I26*100/C26 -> 2.1582734 | K26: =SUM(K13:K25) -> 34 | L26: =K26*100/C26 -> 6.1151079 | M26: =SUM(M13:M25) -> 488 | N26: =M26*100/C26 -> 87.769784 | O26: =SUM(O13:O25) -> 20 | P26: =O26*100/C26 -> 3.5971223
A27: Ngành: Điện tử công nghiệp
A28: 1 | B28: 16CĐ-ĐTCN1 | C28: =SUM(G28,I28,K28,M28,O28) -> 43 | E28: =C28-F28 -> 12 | F28: 31 | G28: 0 | H28: =G28*100/C28 -> 0 | I28: 0 | J28: =I28*100/C28 -> 0 | K28: 4 | L28: =K28*100/C28 -> 9.3023256 | M28: 37 | N28: =M28*100/C28 -> 86.046512 | O28: 2 | P28: =O28*100/C28 -> 4.6511628
A29: 2 | B29: 17C1-ĐTC1 | C29: =SUM(G29,I29,K29,M29,O29) -> 20 | E29: =C29-F29 -> 5 | F29: 15 | G29: 0 | H29: =G29*100/C29 -> 0 | I29: 2 | J29: =I29*100/C29 -> 10 | K29: 1 | L29: =K29*100/C29 -> 5 | M29: 16 | N29: =M29*100/C29 -> 80 | O29: 1 | P29: =O29*100/C29 -> 5
A30: CỘNG 02 Lớp | C30: =SUM(C28:C29) -> 63 | D30: =SUM(D28:D29) -> 0 | E30: =SUM(E28:E29) -> 17 | F30: =SUM(F28:F29) -> 46 | G30: =SUM(G28:G29) -> 0 | H30: =G30*100/C30 -> 0 | I30: =SUM(I28:I29) -> 2 | J30: =I30*100/C30 -> 3.1746032 | K30: =SUM(K28:K29) -> 5 | L30: =K30*100/C30 -> 7.9365079 | M30: =SUM(M28:M29) -> 53 | N30: =M30*100/C30 -> 84.126984 | O30: =SUM(O28:O29) -> 3 | P30: =O30*100/C30 -> 4.7619048
A31: S TT | B31: LỚP | C31: SĨ SỐ | G31: KẾT QUẢ RÈN LUYỆN | Q31: GHI CHÚ (Không xếp loại)
C32: TỔNG | D32: NỮ | E32: A | F32: B | G32: Xuất sắc | I32: Tốt | K32: Khá | M32: Trung Bình | O32: Yếu
G33: SL | H33: % | I33: SL | J33: % | K33: SL | L33: % | M33: SL | N33: % | O33: SL | P33: %
A34: Ngành: Công nghệ kỹ thuật Điện, Điện tử
A35: 1 | B35: 17C1-ĐĐT1 | C35: =SUM(G35,I35,K35,M35,O35) -> 37 | D35: 1 | E35: =C35-F35 -> 12 | F35: 25 | G35: 0 | H35: =G35*100/C35 -> 0 | I35: 0 | J35: =I35*100/C35 -> 0 | K35: 3 | L35: =K35*100/C35 -> 8.1081081 | M35: 31 | N35: =M35*100/C35 -> 83.783784 | O35: 3 | P35: =O35*100/C35 -> 8.1081081
A36: 2 | B36: 17C1-ĐĐT2 | C36: =SUM(G36,I36,K36,M36,O36) -> 39 | D36: 2 | E36: =C36-F36 -> 5 | F36: 34 | G36: 5 | H36: =G36*100/C36 -> 12.820513 | I36: 0 | J36: =I36*100/C36 -> 0 | K36: 2 | L36: =K36*100/C36 -> 5.1282051 | M36: 27 | N36: =M36*100/C36 -> 69.230769 | O36: 5 | P36: =O36*100/C36 -> 12.820513
A37: 3 | B37: 17C1-ĐĐT3 | C37: =SUM(G37,I37,K37,M37,O37) -> 28 | E37: =C37-F37 -> 3 | F37: 25 | G37: 0 | H37: =G37*100/C37 -> 0 | I37: 2 | J37: =I37*100/C37 -> 7.1428571 | K37: 2 | L37: =K37*100/C37 -> 7.1428571 | M37: 19 | N37: =M37*100/C37 -> 67.857143 | O37: 5 | P37: =O37*100/C37 -> 17.857143
A38: 4 | B38: 17C1-ĐĐT4 | C38: =SUM(G38,I38,K38,M38,O38) -> 32 | D38: 1 | E38: =C38-F38 -> 8 | F38: 24 | G38: 0 | H38: =G38*100/C38 -> 0 | I38: 1 | J38: =I38*100/C38 -> 3.125 | K38: 1 | L38: =K38*100/C38 -> 3.125 | M38: 22 | N38: =M38*100/C38 -> 68.75 | O38: 8 | P38: =O38*100/C38 -> 25
A39: 5 | B39: 18C1-ĐĐT1 | C39: =SUM(G39,I39,K39,M39,O39) -> 41 | E39: =C39-F39 -> 7 | F39: 34 | G39: 2 | H39: =G39*100/C39 -> 4.8780488 | I39: 5 | J39: =I39*100/C39 -> 12.195122 | K39: 6 | L39: =K39*100/C39 -> 14.634146 | M39: 28 | N39: =M39*100/C39 -> 68.292683 | O39: 0 | P39: =O39*100/C39 -> 0
A40: 6 | B40: 18C1-ĐĐT2 | C40: =SUM(G40,I40,K40,M40,O40) -> 38 | D40: 1 | E40: =C40-F40 -> 7 | F40: 31 | G40: 4 | H40: =G40*100/C40 -> 10.526316 | I40: 3 | J40: =I40*100/C40 -> 7.8947368 | K40: 5 | L40: =K40*100/C40 -> 13.157895 | M40: 26 | N40: =M40*100/C40 -> 68.421053 | O40: 0 | P40: =O40*100/C40 -> 0
A41: 7 | B41: 18C1-ĐĐT3 | C41: =SUM(G41,I41,K41,M41,O41) -> 51 | E41: =C41-F41 -> 10 | F41: 41 | G41: 0 | H41: =G41*100/C41 -> 0 | I41: 1 | J41: =I41*100/C41 -> 1.9607843 | K41: 6 | L41: =K41*100/C41 -> 11.764706 | M41: 43 | N41: =M41*100/C41 -> 84.313725 | O41: 1 | P41: =O41*100/C41 -> 1.9607843
A42: 8 | B42: 18C2-ĐĐT1 | C42: =SUM(G42,I42,K42,M42,O42) -> 72 | E42: =C42-F42 -> 38 | F42: 34 | G42: 0 | H42: =G42*100/C42 -> 0 | I42: 0 | J42: =I42*100/C42 -> 0 | K42: 6 | L42: =K42*100/C42 -> 8.3333333 | M42: 30 | N42: =M42*100/C42 -> 41.666667 | O42: 36 | P42: =O42*100/C42 -> 50
A43: CỘNG 08 Lớp | C43: =SUM(C35:C42) -> 338 | D43: =SUM(D35:D42) -> 5 | E43: =SUM(E35:E42) -> 90 | F43: =SUM(F35:F42) -> 248 | G43: =SUM(G35:G42) -> 11 | H43: =G43*100/C43 -> 3.2544379 | I43: =SUM(I35:I42) -> 12 | J43: =I43*100/C43 -> 3.5502959 | K43: =SUM(K35:K42) -> 31 | L43: =K43*100/C43 -> 9.1715976 | M43: =SUM(M35:M42) -> 226 | N43: =M43*100/C43 -> 66.863905 | O43: =SUM(O35:O42) -> 58 | P43: =O43*100/C43 -> 17.159763
A44: Ngành: Cơ điện tử
A45: 1 | B45: 17C1-CĐT1 | C45: =SUM(G45,I45,K45,M45,O45) -> 45 | E45: =C45-F45 -> 10 | F45: 35 | G45: 0 | H45: =G45*100/C45 -> 0 | I45: 0 | J45: =I45*100/C45 -> 0 | K45: 1 | L45: =K45*100/C45 -> 2.2222222 | M45: 41 | N45: =M45*100/C45 -> 91.111111 | O45: 3 | P45: =O45*100/C45 -> 6.6666667
A46: 2 | B46: 18C1-CĐT1 | C46: =SUM(G46,I46,K46,M46,O46) -> 37 | E46: =C46-F46 -> 7 | F46: 30 | G46: 1 | H46: =G46*100/C46 -> 2.7027027 | I46: 1 | J46: =I46*100/C46 -> 2.7027027 | K46: 5 | L46: =K46*100/C46 -> 13.513514 | M46: 28 | N46: =M46*100/C46 -> 75.675676 | O46: 2 | P46: =O46*100/C46 -> 5.4054054
A47: 3 | B47: 18C1-CĐT2 | C47: =SUM(G47,I47,K47,M47,O47) -> 27 | D47: 1 | E47: =C47-F47 -> 5 | F47: 22 | G47: 1 | H47: =G47*100/C47 -> 3.7037037 | I47: 1 | J47: =I47*100/C47 -> 3.7037037 | K47: 3 | L47: =K47*100/C47 -> 11.111111 | M47: 19 | N47: =M47*100/C47 -> 70.37037 | O47: 3 | P47: =O47*100/C47 -> 11.111111
A48: CỘNG 03 Lớp | C48: =SUM(C45:C47) -> 109 | D48: =SUM(D45:D47) -> 1 | E48: =SUM(E45:E47) -> 22 | F48: =SUM(F45:F47) -> 87 | G48: =SUM(G45:G47) -> 2 | H48: =G48*100/C48 -> 1.8348624 | I48: =SUM(I45:I47) -> 2 | J48: =I48*100/C48 -> 1.8348624 | K48: =SUM(K45:K47) -> 9 | L48: =K48*100/C48 -> 8.2568807 | M48: =SUM(M45:M47) -> 88 | N48: =M48*100/C48 -> 80.733945 | O48: =SUM(O45:O47) -> 8 | P48: =O48*100/C48 -> 7.3394495
A49: Ngành: Công nghệ Kỹ thuật điều khiển và Tự động hóa
A50: 1 | B50: 16CĐ-TĐH1 | C50: =SUM(G50,I50,K50,M50,O50) -> 37 | D50: 1 | E50: =C50-F50 -> 11 | F50: 26 | G50: 2 | H50: =G50*100/C50 -> 5.4054054 | I50: 1 | J50: =I50*100/C50 -> 2.7027027 | K50: 3 | L50: =K50*100/C50 -> 8.1081081 | M50: 31 | N50: =M50*100/C50 -> 83.783784 | O50: 0 | P50: =O50*100/C50 -> 0
A51: 2 | B51: 17C1-TĐH1 | C51: =SUM(G51,I51,K51,M51,O51) -> 39 | E51: =C51-F51 -> 11 | F51: 28 | G51: 1 | H51: =G51*100/C51 -> 2.5641026 | I51: 1 | J51: =I51*100/C51 -> 2.5641026 | K51: 0 | L51: =K51*100/C51 -> 0 | M51: 34 | N51: =M51*100/C51 -> 87.179487 | O51: 3 | P51: =O51*100/C51 -> 7.6923077
A52: 3 | B52: 18C1-TĐH1 | C52: =SUM(G52,I52,K52,M52,O52) -> 41 | E52: =C52-F52 -> 12 | F52: 29 | G52: 0 | H52: =G52*100/C52 -> 0 | I52: 1 | J52: =I52*100/C52 -> 2.4390244 | K52: 2 | L52: =K52*100/C52 -> 4.8780488 | M52: 38 | N52: =M52*100/C52 -> 92.682927 | O52: 0 | P52: =O52*100/C52 -> 0
A53: 4 | B53: 18C1-TĐH2 | C53: =SUM(G53,I53,K53,M53,O53) -> 26 | E53: =C53-F53 -> 8 | F53: 18 | G53: 1 | H53: =G53*100/C53 -> 3.8461538 | I53: 1 | J53: =I53*100/C53 -> 3.8461538 | K53: 1 | L53: =K53*100/C53 -> 3.8461538 | M53: 20 | N53: =M53*100/C53 -> 76.923077 | O53: 3 | P53: =O53*100/C53 -> 11.538462
A54: CỘNG 04 Lớp | C54: =SUM(C50:C53) -> 143 | D54: =SUM(D50:D53) -> 1 | E54: =SUM(E50:E53) -> 42 | F54: =SUM(F50:F53) -> 101 | G54: =SUM(G50:G53) -> 4 | H54: =G54*100/C54 -> 2.7972028 | I54: =SUM(I50:I53) -> 4 | J54: =I54*100/C54 -> 2.7972028 | K54: =SUM(K50:K53) -> 6 | L54: =K54*100/C54 -> 4.1958042 | M54: =SUM(M50:M53) -> 123 | N54: =M54*100/C54 -> 86.013986 | O54: =SUM(O50:O53) -> 6 | P54: =O54*100/C54 -> 4.1958042
B55: Trung cấp
A56: Ngành: Điện Công nghiệp
A57: 1 | B57: 16TCN-Đ | C57: =SUM(G57,I57,K57,M57,O57) -> 30 | E57: =C57-F57 -> 19 | F57: 11 | G57: 0 | H57: =G57*100/C57 -> 0 | I57: 0 | J57: =I57*100/C57 -> 0 | K57: 1 | L57: =K57*100/C57 -> 3.3333333 | M57: 25 | N57: =M57*100/C57 -> 83.333333 | O57: 4 | P57: =O57*100/C57 -> 13.333333
A58: 2 | B58: 17T4-ĐCN1 | C58: =SUM(G58,I58,K58,M58,O58) -> 25 | E58: =C58-F58 -> 22 | F58: 3 | G58: 0 | H58: =G58*100/C58 -> 0 | I58: 0 | J58: =I58*100/C58 -> 0 | K58: 1 | L58: =K58*100/C58 -> 4 | M58: 20 | N58: =M58*100/C58 -> 80 | O58: 4 | P58: =O58*100/C58 -> 16
A59: 3 | B59: 17T4-ĐCN2 | C59: =SUM(G59,I59,K59,M59,O59) -> 21 | E59: =C59-F59 -> 15 | F59: 6 | G59: 0 | H59: =G59*100/C59 -> 0 | I59: 0 | J59: =I59*100/C59 -> 0 | K59: 3 | L59: =K59*100/C59 -> 14.285714 | M59: 17 | N59: =M59*100/C59 -> 80.952381 | O59: 1 | P59: =O59*100/C59 -> 4.7619048
A60: 4 | B60: 18T4-ĐCN1 | C60: =SUM(G60,I60,K60,M60,O60) -> 30 | E60: =C60-F60 -> 20 | F60: 10 | G60: 0 | H60: =G60*100/C60 -> 0 | I60: 0 | J60: =I60*100/C60 -> 0 | K60: 0 | L60: =K60*100/C60 -> 0 | M60: 23 | N60: =M60*100/C60 -> 76.666667 | O60: 7 | P60: =O60*100/C60 -> 23.333333
A61: 5 | B61: 18T4-ĐCN2 | C61: =SUM(G61,I61,K61,M61,O61) -> 26 | E61: =C61-F61 -> 20 | F61: 6 | G61: 0 | H61: =G61*100/C61 -> 0 | I61: 0 | J61: =I61*100/C61 -> 0 | K61: 1 | L61: =K61*100/C61 -> 3.8461538 | M61: 22 | N61: =M61*100/C61 -> 84.615385 | O61: 3 | P61: =O61*100/C61 -> 11.538462
A62: 6 | B62: 18T5-ĐCN1 | C62: =SUM(G62,I62,K62,M62,O62) -> 23 | D62: 1 | E62: =C62-F62 -> 22 | F62: 1 | G62: 0 | H62: =G62*100/C62 -> 0 | I62: 0 | J62: =I62*100/C62 -> 0 | K62: 16 | L62: =K62*100/C62 -> 69.565217 | M62: 5 | N62: =M62*100/C62 -> 21.73913 | O62: 2 | P62: =O62*100/C62 -> 8.6956522
A63: 7 | B63: 18T6-ĐCN1 | C63: =SUM(G63,I63,K63,M63,O63) -> 12 | D63: 1 | E63: =C63-F63 -> 12 | F63: 0 | G63: 0 | H63: =G63*100/C63 -> 0 | I63: 0 | J63: =I63*100/C63 -> 0 | K63: 7 | L63: =K63*100/C63 -> 58.333333 | M63: 5 | N63: =M63*100/C63 -> 41.666667 | O63: 0 | P63: =O63*100/C63 -> 0
A64: 8 | B64: 18T7-ĐCN1 | C64: =SUM(G64,I64,K64,M64,O64) -> 39 | D64: 2 | E64: =C64-F64 -> 38 | F64: 1 | G64: 0 | H64: =G64*100/C64 -> 0 | I64: 11 | J64: =I64*100/C64 -> 28.205128 | K64: 27 | L64: =K64*100/C64 -> 69.230769 | M64: 0 | N64: =M64*100/C64 -> 0 | O64: 1 | P64: =O64*100/C64 -> 2.5641026
A65: CỘNG 08 Lớp | C65: =SUM(C57:C64) -> 206 | D65: =SUM(D57:D64) -> 4 | E65: =SUM(E57:E64) -> 168 | F65: =SUM(F57:F64) -> 38 | G65: =SUM(G57:G64) -> 0 | H65: =G65*100/C65 -> 0 | I65: =SUM(I57:I64) -> 11 | J65: =I65*100/C65 -> 5.3398058 | K65: =SUM(K57:K64) -> 56 | L65: =K65*100/C65 -> 27.184466 | M65: =SUM(M57:M64) -> 117 | N65: =M65*100/C65 -> 56.796117 | O65: =SUM(O57:O64) -> 22 | P65: =O65*100/C65 -> 10.679612
A66: S TT | B66: LỚP | C66: SĨ SỐ | G66: KẾT QUẢ RÈN LUYỆN | Q66: GHI CHÚ (Không xếp loại)
C67: TỔNG | D67: NỮ | E67: A | F67: B | G67: Xuất sắc | I67: Tốt | K67: Khá | M67: Trung Bình | O67: Yếu
G68: SL | H68: % | I68: SL | J68: % | K68: SL | L68: % | M68: SL | N68: % | O68: SL | P68: %
A69: Ngành: Điện tử Công nghiệp
A70: 1 | B70: 16TCN-ĐT | C70: =SUM(G70,I70,K70,M70,O70) -> 25 | E70: =C70-F70 -> 21 | F70: 4 | G70: 0 | H70: =G70*100/C70 -> 0 | I70: 0 | J70: =I70*100/C70 -> 0 | K70: 1 | L70: =K70*100/C70 -> 4 | M70: 22 | N70: =M70*100/C70 -> 88 | O70: 2 | P70: =O70*100/C70 -> 8
A71: 2 | B71: 17T4-ĐTC1 | C71: =SUM(G71,I71,K71,M71,O71) -> 15 | D71: 1 | E71: =C71-F71 -> 13 | F71: 2 | G71: 0 | H71: =G71*100/C71 -> 0 | I71: 0 | J71: =I71*100/C71 -> 0 | K71: 0 | L71: =K71*100/C71 -> 0 | M71: 11 | N71: =M71*100/C71 -> 73.333333 | O71: 4 | P71: =O71*100/C71 -> 26.666667
A72: CỘNG 02 Lớp | C72: =SUM(C70:C71) -> 40 | D72: =SUM(D70:D71) -> 1 | E72: =SUM(E70:E71) -> 34 | F72: =SUM(F70:F71) -> 6 | G72: =SUM(G70:G71) -> 0 | H72: =G72*100/C72 -> 0 | I72: =SUM(I70:I71) -> 0 | J72: =I72*100/C72 -> 0 | K72: =SUM(K70:K71) -> 1 | L72: =K72*100/C72 -> 2.5 | M72: =SUM(M70:M71) -> 33 | N72: =M72*100/C72 -> 82.5 | O72: =SUM(O70:O71) -> 6 | P72: =O72*100/C72 -> 15
A73: Ngành: Công nghệ kỹ thuật Điện, Điện tử
A74: 1 | B74: 17T4-ĐĐT1 | C74: =SUM(G74,I74,K74,M74,O74) -> 35 | E74: =C74-F74 -> 31 | F74: 4 | G74: 0 | H74: =G74*100/C74 -> 0 | I74: 0 | J74: =I74*100/C74 -> 0 | K74: 2 | L74: =K74*100/C74 -> 5.7142857 | M74: 26 | N74: =M74*100/C74 -> 74.285714 | O74: 7 | P74: =O74*100/C74 -> 20
A75: 2 | B75: 18T4-ĐĐT1 | C75: =SUM(G75,I75,K75,M75,O75) -> 51 | E75: =C75-F75 -> 39 | F75: 12 | G75: 0 | H75: =G75*100/C75 -> 0 | I75: 0 | J75: =I75*100/C75 -> 0 | K75: 1 | L75: =K75*100/C75 -> 1.9607843 | M75: 34 | N75: =M75*100/C75 -> 66.666667 | O75: 16 | P75: =O75*100/C75 -> 31.372549
A76: CỘNG 02 Lớp | C76: =SUM(C74:C75) -> 86 | D76: =SUM(D74:D75) -> 0 | E76: =SUM(E74:E75) -> 70 | F76: =SUM(F74:F75) -> 16 | G76: =SUM(G74:G75) -> 0 | H76: =G76*100/C76 -> 0 | I76: =SUM(I74:I75) -> 0 | J76: =I76*100/C76 -> 0 | K76: =SUM(K74:K75) -> 3 | L76: =K76*100/C76 -> 3.4883721 | M76: =SUM(M74:M75) -> 60 | N76: =M76*100/C76 -> 69.767442 | O76: =SUM(O74:O75) -> 23 | P76: =O76*100/C76 -> 26.744186
A77: Ngành: Cơ điện tử
A78: 1 | B78: 18T4-CĐT1 | C78: =SUM(G78,I78,K78,M78,O78) -> 41 | E78: =C78-F78 -> 30 | F78: 11 | G78: 0 | H78: =G78*100/C78 -> 0 | I78: 1 | J78: =I78*100/C78 -> 2.4390244 | K78: 8 | L78: =K78*100/C78 -> 19.512195 | M78: 28 | N78: =M78*100/C78 -> 68.292683 | O78: 4 | P78: =O78*100/C78 -> 9.7560976
A79: CỘNG 01 Lớp | C79: =C78 -> 41 | D79: =D78 -> 0 | E79: =E78 -> 30 | F79: =F78 -> 11 | G79: =G78 -> 0 | H79: =G79*100/C79 -> 0 | I79: =I78 -> 1 | J79: =I79*100/C79 -> 2.4390244 | K79: =K78 -> 8 | L79: =K79*100/C79 -> 19.512195 | M79: =M78 -> 28 | N79: =M79*100/C79 -> 68.292683 | O79: =O78 -> 4 | P79: =O79*100/C79 -> 9.7560976
A80: TỔNG CỘNG (43 LỚP) | C80: =SUM(C26,C30,C43,C48,C54,C65,C72,C76,C79) -> 1582 | D80: =SUM(D26,D30,D43,D48,D54,D65,D72,D76,D79) -> 13 | E80: =SUM(E26,E30,E43,E48,E54,E65,E72,E76,E79) -> 567 | F80: =SUM(F26,F30,F43,F48,F54,F65,F72,F76,F79) -> 1015 | G80: =SUM(G26,G30,G43,G48,G54,G65,G72,G76,G79) -> 19 | H80: =G80*100/C80 -> 1.2010114 | I80: =SUM(I26,I30,I43,I48,I54,I65,I72,I76,I79) -> 44 | J80: =I80*100/C80 -> 2.7812895 | K80: =SUM(K26,K30,K43,K48,K54,K65,K72,K76,K79) -> 153 | L80: =K80*100/C80 -> 9.6713021 | M80: =SUM(M26,M30,M43,M48,M54,M65,M72,M76,M79) -> 1216 | N80: =M80*100/C80 -> 76.864728 | O80: =SUM(O26,O30,O43,O48,O54,O65,O72,O76,O79) -> 150 | P80: =O80*100/C80 -> 9.4816688
L82: Thành phố Hồ Chí Minh, ngày tháng 8 năm 2019
L83: KT. HIỆU TRƯỞNG
A84: P.TRƯỞNG PHÒNG CTCT - HSSV | L84: PHÓ HIỆU TRƯỞNG
A89: Lê Xuân Thiện | L89: Đinh Hồng Minh
A94: UBND THÀNH PHỐ HỒ CHÍ MINH | K94: CỘNG HÒA XÃ HỘI CHỦ NGHĨA VIỆT NAM
A95: TRƯỜNG CAO ĐẲNG LÝ TỰ TRỌNG | K95: Độc lập - Tự do - Hạnh phúc
A96: THÀNH PHỐ HỒ CHÍ MINH
A98: THỐNG KÊ KẾT QUẢ RÈN LUYỆN NĂM HỌC 2018-2019
A99: Khoa: Nhiệt - Lạnh
A101: S TT | B101: LỚP | C101: SĨ SỐ | G101: KẾT QUẢ RÈN LUYỆN | Q101: GHI CHÚ (Không xếp loại)
C102: TỔNG | D102: NỮ | E102: A | F102: B | G102: Xuất sắc | I102: Tốt | K102: Khá | M102: Trung Bình | O102: Yếu
G103: SL | H103: % | I103: SL | J103: % | K103: SL | L103: % | M103: SL | N103: % | O103: SL | P103: %
B104: Cao đẳng
A105: Ngành: Điện lạnh
A106: 1 | B106: 16CĐ-ĐL1 | C106: =SUM(G106,I106,K106,M106,O106) -> 43 | E106: =C106-F106 -> 13 | F106: 30 | G106: 0 | H106: =G106*100/C106 -> 0 | I106: 1 | J106: =I106*100/C106 -> 2.3255814 | K106: 2 | L106: =K106*100/C106 -> 4.6511628 | M106: 39 | N106: =M106*100/C106 -> 90.697674 | O106: 1 | P106: =O106*100/C106 -> 2.3255814
A107: 2 | B107: 16CĐ-ĐL2 | C107: =SUM(G107,I107,K107,M107,O107) -> 40 | E107: =C107-F107 -> 12 | F107: 28 | G107: 0 | H107: =G107*100/C107 -> 0 | I107: 0 | J107: =I107*100/C107 -> 0 | K107: 0 | L107: =K107*100/C107 -> 0 | M107: 38 | N107: =M107*100/C107 -> 95 | O107: 2 | P107: =O107*100/C107 -> 5
A108: 3 | B108: 16CĐ-ĐL3 | C108: =SUM(G108,I108,K108,M108,O108) -> 35 | E108: =C108-F108 -> 11 | F108: 24 | G108: 0 | H108: =G108*100/C108 -> 0 | I108: 0 | J108: =I108*100/C108 -> 0 | K108: 0 | L108: =K108*100/C108 -> 0 | M108: 30 | N108: =M108*100/C108 -> 85.714286 | O108: 5 | P108: =O108*100/C108 -> 14.285714
A109: CỘNG 03 Lớp | C109: =SUM(C106:C108) -> 118 | D109: =SUM(D106:D108) -> 0 | E109: =SUM(E106:E108) -> 36 | F109: =SUM(F106:F108) -> 82 | G109: =SUM(G106:G108) -> 0 | H109: =G109*100/C109 -> 0 | I109: =SUM(I106:I108) -> 1 | J109: =I109*100/C109 -> 0.84745763 | K109: =SUM(K106:K108) -> 2 | L109: =K109*100/C109 -> 1.6949153 | M109: =SUM(M106:M108) -> 107 | N109: =M109*100/C109 -> 90.677966 | O109: =SUM(O106:O108) -> 8 | P109: =O109*100/C109 -> 6.779661
A110: Ngành: Kỹ thuật máy lạnh và Điều hòa không khí
A111: 1 | B111: 17C1-KML1 | C111: =SUM(G111,I111,K111,M111,O111) -> 36 | D111: 1 | E111: =C111-F111 -> 10 | F111: 26 | G111: 0 | H111: =G111*100/C111 -> 0 | I111: 0 | J111: =I111*100/C111 -> 0 | K111: 1 | L111: =K111*100/C111 -> 2.7777778 | M111: 35 | N111: =M111*100/C111 -> 97.222222 | O111: 0 | P111: =O111*100/C111 -> 0
A112: 2 | B112: 17C1-KML2 | C112: =SUM(G112,I112,K112,M112,O112) -> 23 | E112: =C112-F112 -> 4 | F112: 19 | G112: 0 | H112: =G112*100/C112 -> 0 | I112: 1 | J112: =I112*100/C112 -> 4.3478261 | K112: 5 | L112: =K112*100/C112 -> 21.73913 | M112: 16 | N112: =M112*100/C112 -> 69.565217 | O112: 1 | P112: =O112*100/C112 -> 4.3478261
A113: 3 | B113: 18C1-KML1 | C113: =SUM(G113,I113,K113,M113,O113) -> 45 | E113: =C113-F113 -> 10 | F113: 35 | G113: 0 | H113: =G113*100/C113 -> 0 | I113: 1 | J113: =I113*100/C113 -> 2.2222222 | K113: 5 | L113: =K113*100/C113 -> 11.111111 | M113: 38 | N113: =M113*100/C113 -> 84.444444 | O113: 1 | P113: =O113*100/C113 -> 2.2222222
...

Sheet TK.T.TR_NH
A1: UBND THÀNH PHỐ HỒ CHÍ MINH | K1: CỘNG HÒA XÃ HỘI CHỦ NGHĨA VIỆT NAM
A2: TRƯỜNG CAO ĐẲNG LÝ TỰ TRỌNG | K2: Độc lập - Tự do - Hạnh phúc
A3: THÀNH PHỐ HỒ CHÍ MINH
A5: THỐNG KÊ KẾT QUẢ RÈN LUYỆN NĂM HỌC 2018-2019
A6: TOÀN TRƯỜNG
A8: BẬC ĐÀO TẠO | D8: SĨ SỐ | H8: KẾT QUẢ RÈN LUYỆN | R8: GHI CHÚ
D9: TỔNG | E9: NỮ | F9: A | G9: B | H9: Xuất sắc | J9: Tốt | L9: Khá | N9: Trung Bình | P9: Yếu
H10: SL | I10: % | J10: SL | K10: % | L10: SL | M10: % | N10: SL | O10: % | P10: SL | Q10: %
A11: Cao đẳng | D11: =RL.NH_CĐ!C171 -> 5858 | E11: =RL.NH_CĐ!D171 -> 475 | F11: =RL.NH_CĐ!E171 -> 1613 | G11: =RL.NH_CĐ!F171 -> 4245 | H11: =RL.NH_CĐ!G171 -> 60 | I11: =H11*100/D11 -> 1.0242404 | J11: =RL.NH_CĐ!I171 -> 208 | K11: =J11*100/D11 -> 3.5506999 | L11: =RL.NH_CĐ!K171 -> 665 | M11: =L11*100/D11 -> 11.351997 | N11: =RL.NH_CĐ!M171 -> 4722 | O11: =N11*100/D11 -> 80.607716 | P11: =RL.NH_CĐ!O171 -> 203 | Q11: =P11*100/D11 -> 3.4653465
A12: Liên thông Cao đẳng | D12: =RL.NH_LTCĐ!C44 -> 211 | E12: =RL.NH_LTCĐ!D44 -> 18 | F12: =RL.NH_LTCĐ!E44 -> 133 | G12: =RL.NH_LTCĐ!F44 -> 78 | H12: =RL.NH_LTCĐ!G44 -> 1 | I12: =H12*100/D12 -> 0.47393365 | J12: =RL.NH_LTCĐ!I44 -> 11 | K12: =J12*100/D12 -> 5.2132701 | L12: =RL.NH_LTCĐ!K44 -> 51 | M12: =L12*100/D12 -> 24.170616 | N12: =RL.NH_LTCĐ!M44 -> 97 | O12: =N12*100/D12 -> 45.971564 | P12: =RL.NH_LTCĐ!O44 -> 51 | Q12: =P12*100/D12 -> 24.170616
A13: Cao đẳng nghề | D13: =RL.NH_CĐ!C175 -> 61 | E13: =RL.NH_CĐ!D175 -> 16 | F13: =RL.NH_CĐ!E175 -> 22 | G13: =RL.NH_CĐ!F175 -> 39 | H13: =RL.NH_CĐ!G175 -> 1 | I13: =H13*100/D13 -> 1.6393443 | J13: =RL.NH_CĐ!I175 -> 0 | K13: =J13*100/D13 -> 0 | L13: =RL.NH_CĐ!K175 -> 11 | M13: =L13*100/D13 -> 18.032787 | N13: =RL.NH_CĐ!M175 -> 48 | O13: =N13*100/D13 -> 78.688525 | P13: =RL.NH_CĐ!O175 -> 1 | Q13: =P13*100/D13 -> 1.6393443
A14: Trung cấp | D14: =RL.NH_TCCN!C92 -> 2424 | E14: =RL.NH_TCCN!D92 -> 476 | F14: =RL.NH_TCCN!E92 -> 1929 | G14: =RL.NH_TCCN!F92 -> 495 | H14: =RL.NH_TCCN!G92 -> 4 | I14: =H14*100/D14 -> 0.1650165 | J14: =RL.NH_TCCN!I92 -> 23 | K14: =J14*100/D14 -> 0.94884488 | L14: =RL.NH_TCCN!K92 -> 164 | M14: =L14*100/D14 -> 6.7656766 | N14: =RL.NH_TCCN!M92 -> 1935 | O14: =N14*100/D14 -> 79.826733 | P14: =RL.NH_TCCN!O92 -> 298 | Q14: =P14*100/D14 -> 12.293729
A15: Trung cấp (LKĐT) | D15: =RL.NH_LTCĐ!C14 -> 74 | E15: =RL.NH_LTCĐ!D14 -> 4 | F15: =RL.NH_LTCĐ!E14 -> 72 | G15: =RL.NH_LTCĐ!F14 -> 2 | H15: =RL.NH_LTCĐ!G14 -> 0 | I15: =H15*100/D15 -> 0 | J15: =RL.NH_LTCĐ!I14 -> 11 | K15: =J15*100/D15 -> 14.864865 | L15: =RL.NH_LTCĐ!K14 -> 50 | M15: =L15*100/D15 -> 67.567568 | N15: =RL.NH_LTCĐ!M14 -> 10 | O15: =N15*100/D15 -> 13.513514 | P15: =RL.NH_LTCĐ!O14 -> 3 | Q15: =P15*100/D15 -> 4.0540541
A16: Cao đẳng liên thông | D16: =SUM(H16,J16,L16,#REF!,N16,P16,#REF!,R16) -> #REF! | E16: =#REF! -> #REF! | F16: =#REF! -> #REF! | G16: =#REF! -> #REF! | H16: 0 | I16: =H16*100/D16 -> #REF! | J16: 0 | K16: =J16*100/D16 -> #REF! | L16: 0 | M16: =L16*100/D16 -> #REF! | N16: 0 | O16: =N16*100/D16 -> #REF! | P16: 0 | Q16: =P16*100/D16 -> #REF! | R16: =#REF! -> #REF!
A17: TỔNG TOÀN TRƯỜNG | D17: =SUM(D11:D15) -> 8628 | E17: =SUM(E11:E15) -> 989 | F17: =SUM(F11:F15) -> 3769 | G17: =SUM(G11:G15) -> 4859 | H17: =SUM(H11:H15) -> 66 | I17: =H17*100/D17 -> 0.76495132 | J17: =SUM(J11:J15) -> 253 | K17: =J17*100/D17 -> 2.9323134 | L17: =SUM(L11:L15) -> 941 | M17: =L17*100/D17 -> 10.906351 | N17: =SUM(N11:N15) -> 6812 | O17: =N17*100/D17 -> 78.952248 | P17: =SUM(P11:P15) -> 556 | Q17: =P17*100/D17 -> 6.4441354
L19: Thành phố Hồ Chí Minh, ngày tháng 8 năm 2019
L20: KT. HIỆU TRƯỞNG
A21: P.TRƯỞNG PHÒNG CTCT - HSSV | L21: PHÓ HIỆU TRƯỞNG
A26: Lê Xuân Thiện | L26: Đinh Hồng Minh
A28: Từ TB trở lên | C28: =SUM(H17,J17,L17,N17) -> 8072 | D28: =C28*100/D17 -> 93.555865
A29: Yếu | C29: =P17 -> 556 | D29: =C29*100/D17 -> 6.4441354
A30: UBND THÀNH PHỐ HỒ CHÍ MINH | K30: CỘNG HÒA XÃ HỘI CHỦ NGHĨA VIỆT NAM
A31: TRƯỜNG CAO ĐẲNG LÝ TỰ TRỌNG | K31: Độc lập - Tự do - Hạnh phúc
A32: THÀNH PHỐ HỒ CHÍ MINH
A34: THỐNG KÊ KẾT QUẢ RÈN LUYỆN NĂM HỌC 2018-2019
A35: TOÀN TRƯỜNG (Niên chế)
A37: BẬC ĐÀO TẠO | D37: SĨ SỐ | H37: KẾT QUẢ RÈN LUYỆN | R37: GHI CHÚ (không xếp loại)
D38: TỔNG | E38: NỮ | F38: A | G38: B | H38: Xuất sắc | J38: Tốt | L38: Khá | N38: Trung Bình | P38: Yếu
H39: SL | I39: % | J39: SL | K39: % | L39: SL | M39: % | N39: SL | O39: % | P39: SL | Q39: %
A40: 2016 TCCN (9+3) | D40: =RL.NH_TCCN!C15 -> 70 | E40: =RL.NH_TCCN!D15 -> 22 | F40: =RL.NH_TCCN!E15 -> 54 | G40: =RL.NH_TCCN!F15 -> 16 | H40: =RL.NH_TCCN!G15 -> 0 | I40: =H40*100/D40 -> 0 | J40: =RL.NH_TCCN!I15 -> 1 | K40: =J40*100/D40 -> 1.4285714 | L40: =RL.NH_TCCN!K15 -> 9 | M40: =L40*100/D40 -> 12.857143 | N40: =RL.NH_TCCN!M15 -> 55 | O40: =N40*100/D40 -> 78.571429 | P40: =RL.NH_TCCN!O15 -> 5 | Q40: =P40*100/D40 -> 7.1428571
A41: 2016 TCN (9+4) | D41: =RL.NH_TCCN!C25 -> 245 | E41: =RL.NH_TCCN!D25 -> 38 | F41: =RL.NH_TCCN!E25 -> 188 | G41: =RL.NH_TCCN!F25 -> 57 | H41: =RL.NH_TCCN!G25 -> 2 | I41: =H41*100/D41 -> 0.81632653 | J41: =RL.NH_TCCN!I25 -> 3 | K41: =J41*100/D41 -> 1.2244898 | L41: =RL.NH_TCCN!K25 -> 20 | M41: =L41*100/D41 -> 8.1632653 | N41: =RL.NH_TCCN!M25 -> 210 | O41: =N41*100/D41 -> 85.714286 | P41: =RL.NH_TCCN!O25 -> 10 | Q41: =P41*100/D41 -> 4.0816327
A42: 2016 CĐN (12+3) | D42: =RL.NH_CĐ!C175 -> 61 | E42: =RL.NH_CĐ!D175 -> 16 | F42: =RL.NH_CĐ!E175 -> 22 | G42: =RL.NH_CĐ!F175 -> 39 | H42: =RL.NH_CĐ!G175 -> 1 | I42: =H42*100/D42 -> 1.6393443 | J42: =RL.NH_CĐ!I175 -> 0 | K42: =J42*100/D42 -> 0 | L42: =RL.NH_CĐ!K175 -> 11 | M42: =L42*100/D42 -> 18.032787 | N42: =RL.NH_CĐ!M175 -> 48 | O42: =N42*100/D42 -> 78.688525 | P42: =RL.NH_CĐ!O175 -> 1 | Q42: =P42*100/D42 -> 1.6393443
A43: TỔNG TOÀN TRƯỜNG | D43: =SUM(D40:D42) -> 376 | E43: =SUM(E40:E42) -> 76 | F43: =SUM(F40:F42) -> 264 | G43: =SUM(G40:G42) -> 112 | H43: =SUM(H40:H42) -> 3 | I43: =H43*100/D43 -> 0.79787234 | J43: =SUM(J40:J42) -> 4 | K43: =J43*100/D43 -> 1.0638298 | L43: =SUM(L40:L42) -> 40 | M43: =L43*100/D43 -> 10.638298 | N43: =SUM(N40:N42) -> 313 | O43: =N43*100/D43 -> 83.244681 | P43: =SUM(P40:P42) -> 16 | Q43: =P43*100/D43 -> 4.2553191 | R43: =SUM(R40:R42) -> 0
L45: Thành phố Hồ Chí Minh, ngày tháng 8 năm 2019
L46: KT. HIỆU TRƯỞNG
A47: P.TRƯỞNG PHÒNG CTCT - HSSV | L47: PHÓ HIỆU TRƯỞNG
A52: Lê Xuân Thiện | L52: Đinh Hồng Minh
A54: Từ TB trở lên | C54: =SUM(H43,J43,L43,N43) -> 360 | D54: =C54*100/D43 -> 95.744681
A55: Yếu, kém | C55: =P43 -> 16 | D55: =C55*100/D43 -> 4.2553191
A57: UBND THÀNH PHỐ HỒ CHÍ MINH | K57: CỘNG HÒA XÃ HỘI CHỦ NGHĨA VIỆT NAM
A58: TRƯỜNG CAO ĐẲNG LÝ TỰ TRỌNG | K58: Độc lập - Tự do - Hạnh phúc
A59: THÀNH PHỐ HỒ CHÍ MINH
A61: THỐNG KÊ KẾT QUẢ RÈN LUYỆN NĂM HỌC 2018-2019
A62: TOÀN TRƯỜNG (Tín chỉ)
A64: BẬC ĐÀO TẠO | D64: SĨ SỐ | H64: KẾT QUẢ RÈN LUYỆN | R64: GHI CHÚ (không xếp loại)
D65: TỔNG | E65: NỮ | F65: A | G65: B | H65: Xuất sắc | J65: Tốt | L65: Khá | N65: Trung Bình | P65: Yếu
H66: SL | I66: % | J66: SL | K66: % | L66: SL | M66: % | N66: SL | O66: % | P66: SL | Q66: %
A67: 2016 CĐ (3N) | D67: =RL.NH_CĐ!C46 -> 1333 | E67: =RL.NH_CĐ!D46 -> 92 | F67: =RL.NH_CĐ!E46 -> 416 | G67: =RL.NH_CĐ!F46 -> 917 | H67: =RL.NH_CĐ!G46 -> 10 | I67: =H67*100/D67 -> 0.75018755 | J67: =RL.NH_CĐ!I46 -> 25 | K67: =J67*100/D67 -> 1.8754689 | L67: =RL.NH_CĐ!K46 -> 115 | M67: =L67*100/D67 -> 8.6271568 | N67: =RL.NH_CĐ!M46 -> 1154 | O67: =N67*100/D67 -> 86.571643 | P67: =RL.NH_CĐ!O46 -> 29 | Q67: =P67*100/D67 -> 2.1755439
A68: 2017 CĐ (2N) | D68: =RL.NH_CĐ!C102 -> 1930 | E68: =RL.NH_CĐ!D102 -> 178 | F68: =RL.NH_CĐ!E102 -> 559 | G68: =RL.NH_CĐ!F102 -> 1371 | H68: =RL.NH_CĐ!G102 -> 31 | I68: =H68*100/D68 -> 1.6062176 | J68: =RL.NH_CĐ!I102 -> 67 | K68: =J68*100/D68 -> 3.4715026 | L68: =RL.NH_CĐ!K102 -> 236 | M68: =L68*100/D68 -> 12.227979 | N68: =RL.NH_CĐ!M102 -> 1509 | O68: =N68*100/D68 -> 78.186528 | P68: =RL.NH_CĐ!O102 -> 87 | Q68: =P68*100/D68 -> 4.507772
A69: 2018 CĐ (2N) | D69: =RL.NH_CĐ!C170 -> 2595 | E69: =RL.NH_CĐ!D170 -> 205 | F69: =RL.NH_CĐ!E170 -> 638 | G69: =RL.NH_CĐ!F170 -> 1957 | H69: =RL.NH_CĐ!G170 -> 19 | I69: =H69*100/D69 -> 0.73217726 | J69: =RL.NH_CĐ!I170 -> 116 | K69: =J69*100/D69 -> 4.4701349 | L69: =RL.NH_CĐ!K170 -> 314 | M69: =L69*100/D69 -> 12.100193 | N69: =RL.NH_CĐ!M170 -> 2059 | O69: =N69*100/D69 -> 79.344894 | P69: =RL.NH_CĐ!O170 -> 87 | Q69: =P69*100/D69 -> 3.3526012
A70: 2018 LTCĐ | D70: =RL.NH_LTCĐ!C44 -> 211 | E70: =RL.NH_LTCĐ!D44 -> 18 | F70: =RL.NH_LTCĐ!E44 -> 133 | G70: =RL.NH_LTCĐ!F44 -> 78 | H70: =RL.NH_LTCĐ!G44 -> 1 | I70: =H70*100/D70 -> 0.47393365 | J70: =RL.NH_LTCĐ!I44 -> 11 | K70: =J70*100/D70 -> 5.2132701 | L70: =RL.NH_LTCĐ!K44 -> 51 | M70: =L70*100/D70 -> 24.170616 | N70: =RL.NH_LTCĐ!M44 -> 97 | O70: =N70*100/D70 -> 45.971564 | P70: =RL.NH_LTCĐ!O44 -> 51 | Q70: =P70*100/D70 -> 24.170616
A71: 2018 T5,T6,T7 (LKĐT) | D71: =RL.NH_LTCĐ!C14 -> 74 | E71: =RL.NH_LTCĐ!D14 -> 4 | F71: =RL.NH_LTCĐ!E14 -> 72 | G71: =RL.NH_LTCĐ!F14 -> 2 | H71: =RL.NH_LTCĐ!G14 -> 0 | I71: =H71*100/D71 -> 0 | J71: =RL.NH_LTCĐ!I14 -> 11 | K71: =J71*100/D71 -> 14.864865 | L71: =RL.NH_LTCĐ!K14 -> 50 | M71: =L71*100/D71 -> 67.567568 | N71: =RL.NH_LTCĐ!M14 -> 10 | O71: =N71*100/D71 -> 13.513514 | P71: =RL.NH_LTCĐ!O14 -> 3 | Q71: =P71*100/D71 -> 4.0540541
A72: 2018 T2 (1N3) | D72: =RL.NH_TCCN!C91 -> 46 | E72: =RL.NH_TCCN!D91 -> 2 | F72: =RL.NH_TCCN!E91 -> 17 | G72: =RL.NH_TCCN!F91 -> 29 | H72: =RL.NH_TCCN!G91 -> 0 | I72: =H72*100/D72 -> 0 | J72: =RL.NH_TCCN!I91 -> 1 | K72: =J72*100/D72 -> 2.173913 | L72: =RL.NH_TCCN!K91 -> 6 | M72: =L72*100/D72 -> 13.043478 | N72: =RL.NH_TCCN!M91 -> 39 | O72: =N72*100/D72 -> 84.782609 | P72: =RL.NH_TCCN!O91 -> 0 | Q72: =P72*100/D72 -> 0
A73: 2017 T4 (3N) | D73: =RL.NH_TCCN!C50 -> 717 | E73: =RL.NH_TCCN!D50 -> 131 | F73: =RL.NH_TCCN!E50 -> 599 | G73: =RL.NH_TCCN!F50 -> 118 | H73: =RL.NH_TCCN!G50 -> 0 | I73: =H73*100/D73 -> 0 | J73: =RL.NH_TCCN!I50 -> 3 | K73: =J73*100/D73 -> 0.41841004 | L73: =RL.NH_TCCN!K50 -> 34 | M73: =L73*100/D73 -> 4.7419805 | N73: =RL.NH_TCCN!M50 -> 567 | O73: =N73*100/D73 -> 79.079498 | P73: =RL.NH_TCCN!O50 -> 113 | Q73: =P73*100/D73 -> 15.760112
A74: 2018 T4 (3N) | D74: =RL.NH_TCCN!C88 -> 1346 | E74: =RL.NH_TCCN!D88 -> 283 | F74: =RL.NH_TCCN!E88 -> 1071 | G74: =RL.NH_TCCN!F88 -> 275 | H74: =RL.NH_TCCN!G88 -> 2 | I74: =H74*100/D74 -> 0.14858841 | J74: =RL.NH_TCCN!I88 -> 15 | K74: =J74*100/D74 -> 1.1144131 | L74: =RL.NH_TCCN!K88 -> 95 | M74: =L74*100/D74 -> 7.0579495 | N74: =RL.NH_TCCN!M88 -> 1064 | O74: =N74*100/D74 -> 79.049034 | P74: =RL.NH_TCCN!O88 -> 170 | Q74: =P74*100/D74 -> 12.630015
A75: TỔNG TOÀN TRƯỜNG | D75: =SUM(D67:D74) -> 8252 | E75: =SUM(E67:E74) -> 913 | F75: =SUM(F67:F74) -> 3505 | G75: =SUM(G67:G74) -> 4747 | H75: =SUM(H67:H74) -> 63 | I75: =H75*100/D75 -> 0.76345128 | J75: =SUM(J67:J74) -> 249 | K75: =J75*100/D75 -> 3.0174503 | L75: =SUM(L67:L74) -> 901 | M75: =L75*100/D75 -> 10.918565 | N75: =SUM(N67:N74) -> 6499 | O75: =N75*100/D75 -> 78.756665 | P75: =SUM(P67:P74) -> 540 | Q75: =P75*100/D75 -> 6.5438682 | R75: =SUM(R67:R74) -> 0
L77: Thành phố Hồ Chí Minh, ngày tháng 8 năm 2019
L78: KT. HIỆU TRƯỞNG
A79: P.TRƯỞNG PHÒNG CTCT - HSSV | L79: PHÓ HIỆU TRƯỞNG
A84: Lê Xuân Thiện | L84: Đinh Hồng Minh
A87: Từ TB trở lên | C87: =SUM(H75,J75,L75,N75) -> 7712 | D87: =C87*100/D75 -> 93.456132
A88: Yếu, kém | C88: =P75 -> 540 | D88: =C88*100/D75 -> 6.5438682
A89: Không xếp loại | C89: =R17 -> 0 | D89: =C89*100/D17 -> 0
A124: UBND THÀNH PHỐ HỒ CHÍ MINH | K124: CỘNG HÒA XÃ HỘI CHỦ NGHĨA VIỆT NAM
A125: TRƯỜNG CAO ĐẲNG LÝ TỰ TRỌNG | K125: Độc lập - Tự do - Hạnh phúc
A126: THÀNH PHỐ HỒ CHÍ MINH
A128: THỐNG KÊ KẾT QUẢ RÈN LUYỆN NĂM HỌC 2017-2018
A129: TOÀN TRƯỜNG
A131: BẬC ĐÀO TẠO | D131: SĨ SỐ | H131: KẾT QUẢ RÈN LUYỆN | R131: GHI CHÚ
D132: TỔNG | E132: NỮ | F132: A | G132: B | H132: Xuất sắc | J132: Tốt | L132: Khá | N132: Trung Bình | P132: Yếu
H133: SL | I133: % | J133: SL | K133: % | L133: SL | M133: % | N133: SL | O133: % | P133: SL | Q133: %
A134: Cao đẳng | D134: 5785 | E134: 469 | F134: 1742 | G134: 4043 | H134: 20 | I134: 0.34572169 | J134: 129 | K134: 2.2299049 | L134: 736 | M134: 12.722558 | N134: 1486 | O134: 25.687122 | P134: 465 | Q134: 8.0380294
A135: Liên thông Cao đẳng | D135: 131 | E135: 0 | F135: 36 | G135: 95 | H135: 0 | I135: 0 | J135: 2 | K135: 1.5267176 | L135: 47 | M135: 35.877863 | N135: 11 | O135: 8.3969466 | P135: 2 | Q135: 1.5267176
A136: Cao đẳng nghề | D136: 116 | E136: 25 | F136: 52 | G136: 64 | H136: 0 | I136: 0 | J136: 5 | K136: 4.3103448 | L136: 29 | M136: 25 | N136: 8 | O136: 6.8965517 | P136: 12 | Q136: 10.344828
A137: Trung cấp | D137: 2176 | E137: 336 | F137: 1738 | G137: 438 | H137: 0 | I137: 0 | J137: 31 | K137: 1.4246324 | L137: 181 | M137: 8.3180147 | N137: 722 | O137: 33.180147 | P137: 424 | Q137: 19.485294
A138: Cao đẳng liên thông | D138: 0 | E138: 0 | F138: 0 | G138: 0 | H138: 0 | I138: #DIV/0! | J138: 0 | K138: #DIV/0! | L138: 0 | M138: #DIV/0! | N138: 0 | O138: #DIV/0! | P138: 0 | Q138: #DIV/0! | R138: =#REF! -> #REF!
A139: TỔNG TOÀN TRƯỜNG | D139: 8208 | E139: 830 | F139: 3568 | G139: 4640 | H139: 20 | I139: 0.24366472 | J139: 167 | K139: 2.0346004 | L139: 993 | M139: 12.097953 | N139: 2227 | O139: 27.132066 | P139: 903 | Q139: 11.001462
L141: Thành phố Hồ Chí Minh, ngày 31 tháng 7 năm 2018
L142: KT. HIỆU TRƯỞNG
A143: PHÓ TRƯỞNG PHÒNG CTCT - HSSV | L143: PHÓ HIỆU TRƯỞNG
A148: Hoàng Ngọc Cảnh | L148: Đinh Hồng Minh
A149: Gửi BC

Sheet Các lớp RL<10%
A1: THỐNG KÊ KẾT QUẢ RÈN LUYỆN NĂM HỌC 2018-2019
A2: Bậc đào tạo: Trung cấp và Cao đẳng (Yếu từ 10 % trở lên)
A4: S TT | B4: LỚP | C4: SĨ SỐ | G4: KẾT QUẢ RÈN LUYỆN | Q4: GHI CHÚ
C5: TỔNG | D5: NỮ | E5: A | F5: B | G5: Xuất sắc | I5: Tốt | K5: Khá | M5: Trung Bình | O5: Yếu
G6: SL | H6: % | I6: SL | J6: % | K6: SL | L6: % | M6: SL | N6: % | O6: SL | P6: %
B7: Trung cấp
A8: 1 | B8: 16TC-QTM | C8: =SUM(G8,I8,K8,M8,O8) -> 19 | D8: 1 | E8: =C8-F8 -> 17 | F8: 2 | G8: 0 | H8: =G8*100/C8 -> 0 | I8: 0 | J8: =I8*100/C8 -> 0 | K8: 2 | L8: =K8*100/C8 -> 10.526316 | M8: 15 | N8: =M8*100/C8 -> 78.947368 | O8: 2 | P8: =O8*100/C8 -> 10.526316 | Q8: Trần Thị Diễm Thúy
A9: 2 | B9: 16TCN-Đ | C9: =SUM(G9,I9,K9,M9,O9) -> 30 | E9: =C9-F9 -> 19 | F9: 11 | G9: 0 | H9: =G9*100/C9 -> 0 | I9: 0 | J9: =I9*100/C9 -> 0 | K9: 1 | L9: =K9*100/C9 -> 3.3333333 | M9: 25 | N9: =M9*100/C9 -> 83.333333 | O9: 4 | P9: =O9*100/C9 -> 13.333333 | Q9: Lê Minh Phong
A10: 3 | B10: 17T4-ĐCN1 | C10: =SUM(G10,I10,K10,M10,O10) -> 25 | E10: =C10-F10 -> 22 | F10: 3 | G10: 0 | H10: =G10*100/C10 -> 0 | I10: 0 | J10: =I10*100/C10 -> 0 | K10: 1 | L10: =K10*100/C10 -> 4 | M10: 20 | N10: =M10*100/C10 -> 80 | O10: 4 | P10: =O10*100/C10 -> 16 | Q10: Cao Thị Nga
A11: 4 | B11: 17T4-ĐĐT1 | C11: =SUM(G11,I11,K11,M11,O11) -> 35 | E11: =C11-F11 -> 31 | F11: 4 | G11: 0 | H11: =G11*100/C11 -> 0 | I11: 0 | J11: =I11*100/C11 -> 0 | K11: 2 | L11: =K11*100/C11 -> 5.7142857 | M11: 26 | N11: =M11*100/C11 -> 74.285714 | O11: 7 | P11: =O11*100/C11 -> 20 | Q11: Ngô Hoàng Anh
A12: 5 | B12: 17T4-ĐTC1 | C12: =SUM(G12,I12,K12,M12,O12) -> 15 | D12: 1 | E12: =C12-F12 -> 13 | F12: 2 | G12: 0 | H12: =G12*100/C12 -> 0 | I12: 0 | J12: =I12*100/C12 -> 0 | K12: 0 | L12: =K12*100/C12 -> 0 | M12: 11 | N12: =M12*100/C12 -> 73.333333 | O12: 4 | P12: =O12*100/C12 -> 26.666667 | Q12: Tăng Cẩm Huê
A13: 6 | B13: 17T4-LĐL1 | C13: =SUM(G13,I13,K13,M13,O13) -> 23 | E13: =C13-F13 -> 23 | F13: 0 | G13: 0 | H13: =G13*100/C13 -> 0 | I13: 0 | J13: =I13*100/C13 -> 0 | K13: 0 | L13: =K13*100/C13 -> 0 | M13: 20 | N13: =M13*100/C13 -> 86.956522 | O13: 3 | P13: =O13*100/C13 -> 13.043478 | Q13: Đặng Thế Huân
A14: 7 | B14: 17T4-CNL1 | C14: =SUM(G14,I14,K14,M14,O14) -> 36 | E14: =C14-F14 -> 28 | F14: 8 | G14: 0 | H14: =G14*100/C14 -> 0 | I14: 0 | J14: =I14*100/C14 -> 0 | K14: 4 | L14: =K14*100/C14 -> 11.111111 | M14: 28 | N14: =M14*100/C14 -> 77.777778 | O14: 4 | P14: =O14*100/C14 -> 11.111111 | Q14: Trần Đình Khoa
A15: 8 | B15: 17T4-CKL1 | C15: =SUM(G15,I15,K15,M15,O15) -> 14 | E15: =C15-F15 -> 12 | F15: 2 | G15: 0 | H15: =G15*100/C15 -> 0 | I15: 0 | J15: =I15*100/C15 -> 0 | K15: 0 | L15: =K15*100/C15 -> 0 | M15: 11 | N15: =M15*100/C15 -> 78.571429 | O15: 3 | P15: =O15*100/C15 -> 21.428571 | Q15: Nguyễn Văn Đông
A16: 9 | B16: 17T4-CCK1 | C16: =SUM(G16,I16,K16,M16,O16) -> 28 | E16: =C16-F16 -> 22 | F16: 6 | G16: 0 | H16: =G16*100/C16 -> 0 | I16: 0 | J16: =I16*100/C16 -> 0 | K16: 0 | L16: =K16*100/C16 -> 0 | M16: 23 | N16: =M16*100/C16 -> 82.142857 | O16: 5 | P16: =O16*100/C16 -> 17.857143
A17: 10 | B17: 17T4-CNÔ1 | C17: =SUM(G17,I17,K17,M17,O17) -> 30 | E17: =C17-F17 -> 23 | F17: 7 | G17: 0 | H17: =G17*100/C17 -> 0 | I17: 0 | J17: =I17*100/C17 -> 0 | K17: 0 | L17: =K17*100/C17 -> 0 | M17: 19 | N17: =M17*100/C17 -> 63.333333 | O17: 11 | P17: =O17*100/C17 -> 36.666667 | Q17: Phan Anh Tuấn Kiệt
A18: 11 | B18: 17T4-CNÔ2 | C18: =SUM(G18,I18,K18,M18,O18) -> 36 | E18: =C18-F18 -> 28 | F18: 8 | G18: 0 | H18: =G18*100/C18 -> 0 | I18: 0 | J18: =I18*100/C18 -> 0 | K18: 1 | L18: =K18*100/C18 -> 2.7777778 | M18: 29 | N18: =M18*100/C18 -> 80.555556 | O18: 6 | P18: =O18*100/C18 -> 16.666667 | Q18: Nguyễn Ngọc Quỳnh
A19: 12 | B19: 17T4-CNÔ4 | C19: =SUM(G19,I19,K19,M19,O19) -> 24 | E19: =C19-F19 -> 19 | F19: 5 | G19: 0 | H19: =G19*100/C19 -> 0 | I19: 0 | J19: =I19*100/C19 -> 0 | K19: 1 | L19: =K19*100/C19 -> 4.1666667 | M19: 15 | N19: =M19*100/C19 -> 62.5 | O19: 8 | P19: =O19*100/C19 -> 33.333333 | Q19: Dương Đức Kiên
A20: 13 | B20: 17T4-CNM1 | C20: =SUM(G20,I20,K20,M20,O20) -> 33 | D20: 28 | E20: =C20-F20 -> 23 | F20: 10 | G20: 0 | H20: =G20*100/C20 -> 0 | I20: 0 | J20: =I20*100/C20 -> 0 | K20: 3 | L20: =K20*100/C20 -> 9.0909091 | M20: 24 | N20: =M20*100/C20 -> 72.727273 | O20: 6 | P20: =O20*100/C20 -> 18.181818 | Q20: Nguyễn Thị Dinh
A21: 14 | B21: 17T4-CMT1 | C21: =SUM(G21,I21,K21,M21,O21) -> 20 | E21: =C21-F21 -> 18 | F21: 2 | G21: 0 | H21: =G21*100/C21 -> 0 | I21: 0 | J21: =I21*100/C21 -> 0 | K21: 1 | L21: =K21*100/C21 -> 5 | M21: 16 | N21: =M21*100/C21 -> 80 | O21: 3 | P21: =O21*100/C21 -> 15 | Q21: Lê Thị Hà Giang
A22: 15 | B22: 17T4-THU1 | C22: =SUM(G22,I22,K22,M22,O22) -> 48 | D22: 14 | E22: =C22-F22 -> 40 | F22: 8 | G22: 0 | H22: =G22*100/C22 -> 0 | I22: 1 | J22: =I22*100/C22 -> 2.0833333 | K22: 3 | L22: =K22*100/C22 -> 6.25 | M22: 33 | N22: =M22*100/C22 -> 68.75 | O22: 11 | P22: =O22*100/C22 -> 22.916667 | Q22: Đặng Thị Nhật Minh
A23: 16 | B23: 17T4-QTM1 | C23: =SUM(G23,I23,K23,M23,O23) -> 43 | D23: 3 | E23: =C23-F23 -> 39 | F23: 4 | G23: 0 | H23: =G23*100/C23 -> 0 | I23: 0 | J23: =I23*100/C23 -> 0 | K23: 4 | L23: =K23*100/C23 -> 9.3023256 | M23: 25 | N23: =M23*100/C23 -> 58.139535 | O23: 14 | P23: =O23*100/C23 -> 32.55814 | Q23: Nguyễn Thị Cẩm Thạch
A24: 17 | B24: 17T4-NNA1 | C24: =SUM(G24,I24,K24,M24,O24) -> 57 | D24: 33 | E24: =C24-F24 -> 55 | F24: 2 | G24: 0 | H24: =G24*100/C24 -> 0 | I24: 1 | J24: =I24*100/C24 -> 1.754386 | K24: 2 | L24: =K24*100/C24 -> 3.5087719 | M24: 41 | N24: =M24*100/C24 -> 71.929825 | O24: 13 | P24: =O24*100/C24 -> 22.807018 | Q24: Lê Nguyễn Mỹ Trâm
A25: 18 | B25: 18T4-ĐCN1 | C25: =SUM(G25,I25,K25,M25,O25) -> 30 | E25: =C25-F25 -> 20 | F25: 10 | G25: 0 | H25: =G25*100/C25 -> 0 | I25: 0 | J25: =I25*100/C25 -> 0 | K25: 0 | L25: =K25*100/C25 -> 0 | M25: 23 | N25: =M25*100/C25 -> 76.666667 | O25: 7 | P25: =O25*100/C25 -> 23.333333 | Q25: Vũ Hạnh Chiêu
A26: 19 | B26: 18T4-ĐCN2 | C26: =SUM(G26,I26,K26,M26,O26) -> 26 | E26: =C26-F26 -> 20 | F26: 6 | G26: 0 | H26: =G26*100/C26 -> 0 | I26: 0 | J26: =I26*100/C26 -> 0 | K26: 1 | L26: =K26*100/C26 -> 3.8461538 | M26: 22 | N26: =M26*100/C26 -> 84.615385 | O26: 3 | P26: =O26*100/C26 -> 11.538462 | Q26: Lê Thị Hà Giang
A27: 20 | B27: 18T4-ĐĐT1 | C27: =SUM(G27,I27,K27,M27,O27) -> 51 | E27: =C27-F27 -> 39 | F27: 12 | G27: 0 | H27: =G27*100/C27 -> 0 | I27: 0 | J27: =I27*100/C27 -> 0 | K27: 1 | L27: =K27*100/C27 -> 1.9607843 | M27: 34 | N27: =M27*100/C27 -> 66.666667 | O27: 16 | P27: =O27*100/C27 -> 31.372549 | Q27: Nguyễn Văn Yên
A28: 21 | B28: 18T4-KML1 | C28: =SUM(G28,I28,K28,M28,O28) -> 41 | E28: =C28-F28 -> 35 | F28: 6 | G28: 0 | H28: =G28*100/C28 -> 0 | I28: 0 | J28: =I28*100/C28 -> 0 | K28: 1 | L28: =K28*100/C28 -> 2.4390244 | M28: 32 | N28: =M28*100/C28 -> 78.04878 | O28: 8 | P28: =O28*100/C28 -> 19.512195 | Q28: Nguyễn Vũ Xuân Thì
A29: 22 | B29: 18T4-CKC1 | C29: =SUM(G29,I29,K29,M29,O29) -> 31 | E29: =C29-F29 -> 23 | F29: 8 | G29: 0 | H29: =G29*100/C29 -> 0 | I29: 0 | J29: =I29*100/C29 -> 0 | K29: 2 | L29: =K29*100/C29 -> 6.4516129 | M29: 22 | N29: =M29*100/C29 -> 70.967742 | O29: 7 | P29: =O29*100/C29 -> 22.580645 | Q29: Nguyễn Phương Hà
A30: 23 | B30: 18T4-CCK1 | C30: =SUM(G30,I30,K30,M30,O30) -> 30 | E30: =C30-F30 -> 19 | F30: 11 | G30: 0 | H30: =G30*100/C30 -> 0 | I30: 0 | J30: =I30*100/C30 -> 0 | K30: 2 | L30: =K30*100/C30 -> 6.6666667 | M30: 21 | N30: =M30*100/C30 -> 70 | O30: 7 | P30: =O30*100/C30 -> 23.333333 | Q30: Vũ Quang Khải
A31: 24 | B31: 18T4-CNÔ1 | C31: =SUM(G31,I31,K31,M31,O31) -> 39 | D31: 1 | E31: =C31-F31 -> 29 | F31: 10 | G31: 0 | H31: =G31*100/C31 -> 0 | I31: 1 | J31: =I31*100/C31 -> 2.5641026 | K31: 1 | L31: =K31*100/C31 -> 2.5641026 | M31: 32 | N31: =M31*100/C31 -> 82.051282 | O31: 5 | P31: =O31*100/C31 -> 12.820513 | Q31: Sĩ Thị Chung
A32: 25 | B32: 18T4-CNÔ2 | C32: =SUM(G32,I32,K32,M32,O32) -> 46 | E32: =C32-F32 -> 36 | F32: 10 | G32: 0 | H32: =G32*100/C32 -> 0 | I32: 0 | J32: =I32*100/C32 -> 0 | K32: 1 | L32: =K32*100/C32 -> 2.173913 | M32: 39 | N32: =M32*100/C32 -> 84.782609 | O32: 6 | P32: =O32*100/C32 -> 13.043478 | Q32: Hoàng Thị Trang
A33: 26 | B33: 18T4-CNÔ5 | C33: =SUM(G33,I33,K33,M33,O33) -> 46 | E33: =C33-F33 -> 36 | F33: 10 | G33: 0 | H33: =G33*100/C33 -> 0 | I33: 0 | J33: =I33*100/C33 -> 0 | K33: 1 | L33: =K33*100/C33 -> 2.173913 | M33: 33 | N33: =M33*100/C33 -> 71.73913 | O33: 12 | P33: =O33*100/C33 -> 26.086957 | Q33: Trần Quốc Duy
A34: 27 | B34: 18T4-CNM1 | C34: =SUM(G34,I34,K34,M34,O34) -> 49 | D34: 42 | E34: =C34-F34 -> 40 | F34: 9 | G34: 0 | H34: =G34*100/C34 -> 0 | I34: 0 | J34: =I34*100/C34 -> 0 | K34: 2 | L34: =K34*100/C34 -> 4.0816327 | M34: 38 | N34: =M34*100/C34 -> 77.55102 | O34: 9 | P34: =O34*100/C34 -> 18.367347 | Q34: Bùi Thị Ngọc Sương
A35: 28 | B35: 18T4-THU1 | C35: =SUM(G35,I35,K35,M35,O35) -> 30 | D35: 7 | E35: =C35-F35 -> 23 | F35: 7 | G35: 0 | H35: =G35*100/C35 -> 0 | I35: 0 | J35: =I35*100/C35 -> 0 | K35: 1 | L35: =K35*100/C35 -> 3.3333333 | M35: 26 | N35: =M35*100/C35 -> 86.666667 | O35: 3 | P35: =O35*100/C35 -> 10 | Q35: Cao Xuân Giang
A36: 29 | B36: 18T4-THU2 | C36: =SUM(G36,I36,K36,M36,O36) -> 24 | D36: 4 | E36: =C36-F36 -> 21 | F36: 3 | G36: 0 | H36: =G36*100/C36 -> 0 | I36: 4 | J36: =I36*100/C36 -> 16.666667 | K36: 2 | L36: =K36*100/C36 -> 8.3333333 | M36: 15 | N36: =M36*100/C36 -> 62.5 | O36: 3 | P36: =O36*100/C36 -> 12.5 | Q36: Nguyễn Trung Dũng
A37: 30 | B37: 18T4-LTM2 | C37: =SUM(G37,I37,K37,M37,O37) -> 33 | D37: 4 | E37: =C37-F37 -> 26 | F37: 7 | G37: 0 | H37: =G37*100/C37 -> 0 | I37: 0 | J37: =I37*100/C37 -> 0 | K37: 2 | L37: =K37*100/C37 -> 6.0606061 | M37: 19 | N37: =M37*100/C37 -> 57.575758 | O37: 12 | P37: =O37*100/C37 -> 36.363636 | Q37: Võ Thị Kim Thư
A38: 31 | B38: 18T4-QTM1 | C38: =SUM(G38,I38,K38,M38,O38) -> 49 | D38: 1 | E38: =C38-F38 -> 44 | F38: 5 | G38: 0 | H38: =G38*100/C38 -> 0 | I38: 0 | J38: =I38*100/C38 -> 0 | K38: 0 | L38: =K38*100/C38 -> 0 | M38: 38 | N38: =M38*100/C38 -> 77.55102 | O38: 11 | P38: =O38*100/C38 -> 22.44898 | Q38: Lê Phi Trường
A39: 32 | B39: 18T4-TCD1 | C39: =SUM(G39,I39,K39,M39,O39) -> 18 | D39: 9 | E39: =C39-F39 -> 15 | F39: 3 | G39: 0 | H39: =G39*100/C39 -> 0 | I39: 0 | J39: =I39*100/C39 -> 0 | K39: 2 | L39: =K39*100/C39 -> 11.111111 | M39: 14 | N39: =M39*100/C39 -> 77.777778 | O39: 2 | P39: =O39*100/C39 -> 11.111111 | Q39: Lữ Xuân Trang
A40: 33 | B40: 18T4-QTD2 | C40: =SUM(G40,I40,K40,M40,O40) -> 39 | D40: 24 | E40: =C40-F40 -> 31 | F40: 8 | G40: 0 | H40: =G40*100/C40 -> 0 | I40: 0 | J40: =I40*100/C40 -> 0 | K40: 0 | L40: =K40*100/C40 -> 0 | M40: 33 | N40: =M40*100/C40 -> 84.615385 | O40: 6 | P40: =O40*100/C40 -> 15.384615 | Q40: Trịnh Hoàng Hiệp
A41: 34 | B41: 18T4-NNA1 | C41: =SUM(G41,I41,K41,M41,O41) -> 46 | D41: 27 | E41: =C41-F41 -> 42 | F41: 4 | G41: 0 | H41: =G41*100/C41 -> 0 | I41: 0 | J41: =I41*100/C41 -> 0 | K41: 0 | L41: =K41*100/C41 -> 0 | M41: 30 | N41: =M41*100/C41 -> 65.217391 | O41: 16 | P41: =O41*100/C41 -> 34.782609 | Q41: Nguyễn Thị Thu Hà
A42: 35 | B42: 18T4-NNA3 | C42: =SUM(G42,I42,K42,M42,O42) -> 46 | D42: 27 | E42: =C42-F42 -> 38 | F42: 8 | G42: 0 | H42: =G42*100/C42 -> 0 | I42: 0 | J42: =I42*100/C42 -> 0 | K42: 1 | L42: =K42*100/C42 -> 2.173913 | M42: 40 | N42: =M42*100/C42 -> 86.956522 | O42: 5 | P42: =O42*100/C42 -> 10.869565 | Q42: Nguyễn thị Nhuận
B43: Cao đẳng
A44: 1 | B44: 16CĐ-ĐL3 | C44: =SUM(G44,I44,K44,M44,O44) -> 35 | E44: =C44-F44 -> 11 | F44: 24 | G44: 0 | H44: =G44*100/C44 -> 0 | I44: 0 | J44: =I44*100/C44 -> 0 | K44: 0 | L44: =K44*100/C44 -> 0 | M44: 30 | N44: =M44*100/C44 -> 85.714286 | O44: 5 | P44: =O44*100/C44 -> 14.285714 | Q44: Hoàng Văn Viết
A45: 2 | B45: 17C1-ĐCN2 | C45: =SUM(G45,I45,K45,M45,O45) -> 47 | E45: =C45-F45 -> 8 | F45: 39 | G45: 0 | H45: =G45*100/C45 -> 0 | I45: 0 | J45: =I45*100/C45 -> 0 | K45: 0 | L45: =K45*100/C45 -> 0 | M45: 38 | N45: =M45*100/C45 -> 80.851064 | O45: 9 | P45: =O45*100/C45 -> 19.148936 | Q45: Đỗ Huỳnh Thanh Phong
A46: 3 | B46: 17C1-ĐĐT2 | C46: =SUM(G46,I46,K46,M46,O46) -> 39 | D46: 2 | E46: =C46-F46 -> 5 | F46: 34 | G46: 5 | H46: =G46*100/C46 -> 12.820513 | I46: 0 | J46: =I46*100/C46 -> 0 | K46: 2 | L46: =K46*100/C46 -> 5.1282051 | M46: 27 | N46: =M46*100/C46 -> 69.230769 | O46: 5 | P46: =O46*100/C46 -> 12.820513 | Q46: Võ Cường
A47: 4 | B47: 17C1-ĐĐT3 | C47: =SUM(G47,I47,K47,M47,O47) -> 28 | E47: =C47-F47 -> 3 | F47: 25 | G47: 0 | H47: =G47*100/C47 -> 0 | I47: 2 | J47: =I47*100/C47 -> 7.1428571 | K47: 2 | L47: =K47*100/C47 -> 7.1428571 | M47: 19 | N47: =M47*100/C47 -> 67.857143 | O47: 5 | P47: =O47*100/C47 -> 17.857143 | Q47: Nguyễn Hồng Đức
A48: 5 | B48: 17C1-ĐĐT4 | C48: =SUM(G48,I48,K48,M48,O48) -> 32 | D48: 1 | E48: =C48-F48 -> 8 | F48: 24 | G48: 0 | H48: =G48*100/C48 -> 0 | I48: 1 | J48: =I48*100/C48 -> 3.125 | K48: 1 | L48: =K48*100/C48 -> 3.125 | M48: 22 | N48: =M48*100/C48 -> 68.75 | O48: 8 | P48: =O48*100/C48 -> 25 | Q48: Phạm Minh nghĩa
A49: 6 | B49: 17C1-CCK6 | C49: =SUM(G49,I49,K49,M49,O49) -> 37 | E49: =C49-F49 -> 5 | F49: 32 | G49: 0 | H49: =G49*100/C49 -> 0 | I49: 1 | J49: =I49*100/C49 -> 2.7027027 | K49: 3 | L49: =K49*100/C49 -> 8.1081081 | M49: 29 | N49: =M49*100/C49 -> 78.378378 | O49: 4 | P49: =O49*100/C49 -> 10.810811 | Q49: Hà Nhật Thanh
A50: 7 | B50: 17C1-ANM1 | C50: =SUM(G50,I50,K50,M50,O50) -> 16 | E50: =C50-F50 -> 11 | F50: 5 | G50: 0 | H50: =G50*100/C50 -> 0 | I50: 0 | J50: =I50*100/C50 -> 0 | K50: 1 | L50: =K50*100/C50 -> 6.25 | M50: 12 | N50: =M50*100/C50 -> 75 | O50: 3 | P50: =O50*100/C50 -> 18.75 | Q50: Nguyễn Văn Đôn
A51: 8 | B51: 18C1-CĐT2 | C51: =SUM(G51,I51,K51,M51,O51) -> 27 | D51: 1 | E51: =C51-F51 -> 5 | F51: 22 | G51: 1 | H51: =G51*100/C51 -> 3.7037037 | I51: 1 | J51: =I51*100/C51 -> 3.7037037 | K51: 3 | L51: =K51*100/C51 -> 11.111111 | M51: 19 | N51: =M51*100/C51 -> 70.37037 | O51: 3 | P51: =O51*100/C51 -> 11.111111 | Q51: Đặng Đức Minh
A52: 9 | B52: 18C1-TĐH2 | C52: =SUM(G52,I52,K52,M52,O52) -> 26 | E52: =C52-F52 -> 8 | F52: 18 | G52: 1 | H52: =G52*100/C52 -> 3.8461538 | I52: 1 | J52: =I52*100/C52 -> 3.8461538 | K52: 1 | L52: =K52*100/C52 -> 3.8461538 | M52: 20 | N52: =M52*100/C52 -> 76.923077 | O52: 3 | P52: =O52*100/C52 -> 11.538462 | Q52: Nguyễn Thị Tố Nga
A53: 10 | B53: 18C1-CCK3 | C53: =SUM(G53,I53,K53,M53,O53) -> 47 | E53: =C53-F53 -> 8 | F53: 39 | G53: 0 | H53: =G53*100/C53 -> 0 | I53: 0 | J53: =I53*100/C53 -> 0 | K53: 5 | L53: =K53*100/C53 -> 10.638298 | M53: 36 | N53: =M53*100/C53 -> 76.595745 | O53: 6 | P53: =O53*100/C53 -> 12.765957 | Q53: Phan Văn Thành
A54: 11 | B54: 18C1-CCK8 | C54: =SUM(G54,I54,K54,M54,O54) -> 40 | E54: =C54-F54 -> 6 | F54: 34 | G54: 0 | H54: =G54*100/C54 -> 0 | I54: 0 | J54: =I54*100/C54 -> 0 | K54: 3 | L54: =K54*100/C54 -> 7.5 | M54: 32 | N54: =M54*100/C54 -> 80 | O54: 5 | P54: =O54*100/C54 -> 12.5 | Q54: Nguyễn T.Vĩnh Phúc
A55: 12 | B55: 18C1-CTM1 | C55: =SUM(G55,I55,K55,M55,O55) -> 40 | E55: =C55-F55 -> 8 | F55: 32 | G55: 0 | H55: =G55*100/C55 -> 0 | I55: 4 | J55: =I55*100/C55 -> 10 | K55: 2 | L55: =K55*100/C55 -> 5 | M55: 30 | N55: =M55*100/C55 -> 75 | O55: 4 | P55: =O55*100/C55 -> 10 | Q55: Nguyễn Thanh Giang
A56: 13 | B56: 18C1-CNÔ4 | C56: =SUM(G56,I56,K56,M56,O56) -> 48 | E56: =C56-F56 -> 9 | F56: 39 | G56: 0 | H56: =G56*100/C56 -> 0 | I56: 1 | J56: =I56*100/C56 -> 2.0833333 | K56: 3 | L56: =K56*100/C56 -> 6.25 | M56: 36 | N56: =M56*100/C56 -> 75 | O56: 8 | P56: =O56*100/C56 -> 16.666667 | Q56: Lê Văn Bình
A57: 14 | B57: 18C1-CNÔ14 | C57: =SUM(G57,I57,K57,M57,O57) -> 44 | D57: 1 | E57: =C57-F57 -> 8 | F57: 36 | G57: 0 | H57: =G57*100/C57 -> 0 | I57: 0 | J57: =I57*100/C57 -> 0 | K57: 0 | L57: =K57*100/C57 -> 0 | M57: 38 | N57: =M57*100/C57 -> 86.363636 | O57: 6 | P57: =O57*100/C57 -> 13.636364 | Q57: Nguyễn Văn Sơn
A58: 15 | B58: 18C1-CNÔ19 | C58: =SUM(G58,I58,K58,M58,O58) -> 36 | D58: 1 | E58: =C58-F58 -> 7 | F58: 29 | G58: 0 | H58: =G58*100/C58 -> 0 | I58: 1 | J58: =I58*100/C58 -> 2.7777778 | K58: 5 | L58: =K58*100/C58 -> 13.888889 | M58: 23 | N58: =M58*100/C58 -> 63.888889 | O58: 7 | P58: =O58*100/C58 -> 19.444444 | Q58: Huỳnh Thị Mai
A59: 16 | B59: 18C1-CMT1 | C59: =SUM(G59,I59,K59,M59,O59) -> 22 | E59: =C59-F59 -> 8 | F59: 14 | G59: 0 | H59: =G59*100/C59 -> 0 | I59: 1 | J59: =I59*100/C59 -> 4.5454545 | K59: 5 | L59: =K59*100/C59 -> 22.727273 | M59: 13 | N59: =M59*100/C59 -> 59.090909 | O59: 3 | P59: =O59*100/C59 -> 13.636364 | Q59: Trần Vĩnh Xuyên
A60: 17 | B60: 18C2-ĐĐT1 | C60: =SUM(G60,I60,K60,M60,O60) -> 72 | E60: =C60-F60 -> 38 | F60: 34 | G60: 0 | H60: =G60*100/C60 -> 0 | I60: 0 | J60: =I60*100/C60 -> 0 | K60: 6 | L60: =K60*100/C60 -> 8.3333333 | M60: 32 | N60: =M60*100/C60 -> 44.444444 | O60: 34 | P60: =O60*100/C60 -> 47.222222 | Q60: Nguyễn Ngọc Trang
A61: 18 | B61: 18C2-QTM1 | C61: =SUM(G61,I61,K61,M61,O61) -> 43 | D61: 2 | E61: =C61-F61 -> 34 | F61: 9 | G61: 0 | H61: =G61*100/C61 -> 0 | I61: 3 | J61: =I61*100/C61 -> 6.9767442 | K61: 13 | L61: =K61*100/C61 -> 30.232558 | M61: 16 | N61: =M61*100/C61 -> 37.209302 | O61: 11 | P61: =O61*100/C61 -> 25.581395 | Q61: Nguyễn Thị Khánh Thư
A62: 19 | B62: 18C2-CNL1 | C62: =SUM(G62,I62,K62,M62,O62) -> 17 | E62: =C62-F62 -> 10 | F62: 7 | G62: 0 | H62: =G62*100/C62 -> 0 | I62: 3 | J62: =I62*100/C62 -> 17.647059 | K62: 10 | L62: =K62*100/C62 -> 58.823529 | M62: 2 | N62: =M62*100/C62 -> 11.764706 | O62: 2 | P62: =O62*100/C62 -> 11.764706 | Q62: Cao Xuân Giang
A63: 20 | B63: 18C2-CCK1 | C63: =SUM(G63,I63,K63,M63,O63) -> 16 | E63: =C63-F63 -> 9 | F63: 7 | G63: 0 | H63: =G63*100/C63 -> 0 | I63: 0 | J63: =I63*100/C63 -> 0 | K63: 3 | L63: =K63*100/C63 -> 18.75 | M63: 11 | N63: =M63*100/C63 -> 68.75 | O63: 2 | P63: =O63*100/C63 -> 12.5 | Q63: Bùi Thị Ngọc Sương
L65: Thành phố Hồ Chí Minh, ngày tháng 8 năm 2019
L66: KT. HIỆU TRƯỞNG
A67: P.TRƯỞNG PHÒNG CTCT-HSSV | L67: PHÓ HIỆU TRƯỞNG
A72: Lê Xuân Thiện | L72: Đinh Hồng Minh
A80: Từ TB trở lên | C80: =SUM(#REF!,#REF!,#REF!,#REF!) -> #REF! | D80: =C80*100/#REF! -> #REF!
A81: Yếu | C81: =#REF! -> #REF! | D81: =C81*100/#REF! -> #REF!

Sheet 00000000
